BEGIN:VCALENDAR
VERSION:2.0
PRODID:-//Cabinet Maréchaux - ECPv6.15.20//NONSGML v1.0//EN
CALSCALE:GREGORIAN
METHOD:PUBLISH
X-ORIGINAL-URL:https://www.cabinetmarechaux.com
X-WR-CALDESC:Évènements pour Cabinet Maréchaux
REFRESH-INTERVAL;VALUE=DURATION:PT1H
X-Robots-Tag:noindex
X-PUBLISHED-TTL:PT1H
BEGIN:VTIMEZONE
TZID:Europe/Paris
BEGIN:DAYLIGHT
TZOFFSETFROM:+0100
TZOFFSETTO:+0200
TZNAME:CEST
DTSTART:20220327T010000
END:DAYLIGHT
BEGIN:STANDARD
TZOFFSETFROM:+0200
TZOFFSETTO:+0100
TZNAME:CET
DTSTART:20221030T010000
END:STANDARD
BEGIN:DAYLIGHT
TZOFFSETFROM:+0100
TZOFFSETTO:+0200
TZNAME:CEST
DTSTART:20230326T010000
END:DAYLIGHT
BEGIN:STANDARD
TZOFFSETFROM:+0200
TZOFFSETTO:+0100
TZNAME:CET
DTSTART:20231029T010000
END:STANDARD
BEGIN:DAYLIGHT
TZOFFSETFROM:+0100
TZOFFSETTO:+0200
TZNAME:CEST
DTSTART:20240331T010000
END:DAYLIGHT
BEGIN:STANDARD
TZOFFSETFROM:+0200
TZOFFSETTO:+0100
TZNAME:CET
DTSTART:20241027T010000
END:STANDARD
END:VTIMEZONE
BEGIN:VEVENT
DTSTART;VALUE=DATE:20230406
DTEND;VALUE=DATE:20230407
DTSTAMP:20260426T052913
CREATED:20230327T145004Z
LAST-MODIFIED:20230327T145004Z
UID:2844-1680739200-1680825599@www.cabinetmarechaux.com
SUMMARY:PLANETE DES ARTS - MARSEILLE
DESCRIPTION:Planète des Arts\n76\, rue Perrin Solliers – 13006 Marseille – France\nTel. 09.81.37.38.00\n\n\n\nJeudi 06 avr. à : 14:30\n\n\nBIJOUX ANCIENS ET MODERNES\, LIVRES\, TABLEAUX DONT DES MAÎTRES PROVENÇAUX\, CÉRAMIQUES\, MEUBLES\n\nFranz PRIKING (1929-1979) \nLe hameau \nHuile sur toile signée en bas à gauche \nDimensions : 50 x 61 cm
URL:https://www.cabinetmarechaux.com/index.php/event/planete-des-arts-marseille/
CATEGORIES:Ventes à venir
ATTACH;FMTTYPE=image/png:https://www.cabinetmarechaux.com/wp-content/uploads/2023/03/Capture-decran-2023-03-27-a-16.47.16.png
END:VEVENT
END:VCALENDAR