BEGIN:VCALENDAR
VERSION:2.0
PRODID:-//Cabinet Maréchaux - ECPv6.15.20//NONSGML v1.0//EN
CALSCALE:GREGORIAN
METHOD:PUBLISH
X-WR-CALNAME:Cabinet Maréchaux
X-ORIGINAL-URL:https://www.cabinetmarechaux.com
X-WR-CALDESC:Évènements pour Cabinet Maréchaux
REFRESH-INTERVAL;VALUE=DURATION:PT1H
X-Robots-Tag:noindex
X-PUBLISHED-TTL:PT1H
BEGIN:VTIMEZONE
TZID:Europe/Paris
BEGIN:DAYLIGHT
TZOFFSETFROM:+0100
TZOFFSETTO:+0200
TZNAME:CEST
DTSTART:20220327T010000
END:DAYLIGHT
BEGIN:STANDARD
TZOFFSETFROM:+0200
TZOFFSETTO:+0100
TZNAME:CET
DTSTART:20221030T010000
END:STANDARD
BEGIN:DAYLIGHT
TZOFFSETFROM:+0100
TZOFFSETTO:+0200
TZNAME:CEST
DTSTART:20230326T010000
END:DAYLIGHT
BEGIN:STANDARD
TZOFFSETFROM:+0200
TZOFFSETTO:+0100
TZNAME:CET
DTSTART:20231029T010000
END:STANDARD
BEGIN:DAYLIGHT
TZOFFSETFROM:+0100
TZOFFSETTO:+0200
TZNAME:CEST
DTSTART:20240331T010000
END:DAYLIGHT
BEGIN:STANDARD
TZOFFSETFROM:+0200
TZOFFSETTO:+0100
TZNAME:CET
DTSTART:20241027T010000
END:STANDARD
END:VTIMEZONE
BEGIN:VEVENT
DTSTART;VALUE=DATE:20230416
DTEND;VALUE=DATE:20230417
DTSTAMP:20260426T052644
CREATED:20230413T101305Z
LAST-MODIFIED:20230413T101305Z
UID:2872-1681603200-1681689599@www.cabinetmarechaux.com
SUMMARY:VERSAILLES - Martin-Banel
DESCRIPTION:TABLEAUX\, MOBILIER ET OBJETS D’ART\, TABLEAUX ORIENTALISTES\, BIJOUX\, DESSINS\, VINS ET ALCOOLS\, SCULPTURES\, BRONZES\, ARGENTERIE\nDimanche 16 Avril 2023 14:00\nMartin – Banel\, 3\, impasse des Chevau Légers 78000 Versailles\n  \n  \nSTEINLEN Théophile Alexandre (1859-1923) Deux personnages en conversation\, militaire Dessin au crayon gras porte le cachet du monogramme en bas à droite 31 x 24 à vue Quelques rousseurs
URL:https://www.cabinetmarechaux.com/index.php/event/versailles-martin-banel/
CATEGORIES:Ventes à venir
ATTACH;FMTTYPE=image/png:https://www.cabinetmarechaux.com/wp-content/uploads/2023/04/Capture-decran-2023-04-13-a-12.11.08.png
END:VEVENT
END:VCALENDAR