BEGIN:VCALENDAR
VERSION:2.0
PRODID:-//Cabinet Maréchaux - ECPv6.15.20//NONSGML v1.0//EN
CALSCALE:GREGORIAN
METHOD:PUBLISH
X-WR-CALNAME:Cabinet Maréchaux
X-ORIGINAL-URL:https://www.cabinetmarechaux.com
X-WR-CALDESC:Évènements pour Cabinet Maréchaux
REFRESH-INTERVAL;VALUE=DURATION:PT1H
X-Robots-Tag:noindex
X-PUBLISHED-TTL:PT1H
BEGIN:VTIMEZONE
TZID:Europe/Paris
BEGIN:DAYLIGHT
TZOFFSETFROM:+0100
TZOFFSETTO:+0200
TZNAME:CEST
DTSTART:20220327T010000
END:DAYLIGHT
BEGIN:STANDARD
TZOFFSETFROM:+0200
TZOFFSETTO:+0100
TZNAME:CET
DTSTART:20221030T010000
END:STANDARD
BEGIN:DAYLIGHT
TZOFFSETFROM:+0100
TZOFFSETTO:+0200
TZNAME:CEST
DTSTART:20230326T010000
END:DAYLIGHT
BEGIN:STANDARD
TZOFFSETFROM:+0200
TZOFFSETTO:+0100
TZNAME:CET
DTSTART:20231029T010000
END:STANDARD
BEGIN:DAYLIGHT
TZOFFSETFROM:+0100
TZOFFSETTO:+0200
TZNAME:CEST
DTSTART:20240331T010000
END:DAYLIGHT
BEGIN:STANDARD
TZOFFSETFROM:+0200
TZOFFSETTO:+0100
TZNAME:CET
DTSTART:20241027T010000
END:STANDARD
END:VTIMEZONE
BEGIN:VEVENT
DTSTART;VALUE=DATE:20230417
DTEND;VALUE=DATE:20230418
DTSTAMP:20260426T052633
CREATED:20230328T081922Z
LAST-MODIFIED:20230328T082153Z
UID:2847-1681689600-1681775999@www.cabinetmarechaux.com
SUMMARY:BRISSONNEAU - PARIS
DESCRIPTION:VÉHICULES DE COLLECTION – LIVRES ANCIENS ET MODERNES – TABLEAUX ANCIENS ET MODERNES – BIJOUX – ARGENTERIE – MEUBLES ET OBJETS D’ART\n\n\nVendredi 07 Avril 2023 12:00\nSalle 4 – 9\, rue Drouot – 75009 Paris\n\nEmile NOIROT (1853-1924)\n\n\nMoulin\nHuile sur toile\, signée en bas à gauche et datée 1896.\n33 x 21\,5 cm
URL:https://www.cabinetmarechaux.com/index.php/event/brissonneau-paris-2/
CATEGORIES:Ventes à venir
ATTACH;FMTTYPE=image/jpeg:https://www.cabinetmarechaux.com/wp-content/uploads/2023/03/IMG_4499.jpg
END:VEVENT
BEGIN:VEVENT
DTSTART;VALUE=DATE:20230417
DTEND;VALUE=DATE:20230418
DTSTAMP:20260426T052633
CREATED:20230329T102910Z
LAST-MODIFIED:20230329T103023Z
UID:2850-1681689600-1681775999@www.cabinetmarechaux.com
SUMMARY:AUDAP et ASSOCIES - PARIS
DESCRIPTION:TABLEAUX MODERNES – ATELIER D’UN PEINTRE DE LA MARINE – ARTS DU XXE SIÈCLE\nlundi 17 avril 2023 14:00\nSalle 10-16 – Hôtel Drouot \, 9\, rue Drouot 75009 Paris\n\n\n\n\n\n84 \nJean DUFY (1888-1964) \nLes moissonneurs \nHuile sur toile\, signée en bas à droite et datée 25 Haut. : 54 cm ; Larg. : 73 cm \n\n\n10 000 / 15 000 € \n\n\n\n\nProvenance :\n– Vente Me Blache\, Versailles\, 19 février 1961\, lot 93\n– Puis\, par succession\, jusqu’au propriétaire actuel\nCette oeuvre sera répertoriée dans le catalogue raisonné en préparation par Jacques Bailly. Un certificat\, en date du 7 février 2023\, numéroté 4884\, sera remis à l’acquéreur \n\n\n\n\n\n\n\n\n\n\n\n  \n24 \nGustave CARIOT (1872-1950) \nLa rade\, Perros-Guirrec \n \n  \n  \n  \n  \n  \n  \nHuile sur toile\, signée en bas à gauche (Petits accidents\, usures à la toile.) Haut. : 65 cm ; Larg. : 80\,5 cm \n\n\n6 000 / 8 000 € \n\n\n\n\nAu début des années 1890\, René du Pré de Saint-Maur\, l’un des lotisseurs du quartier de la plage de Trestrignel\, se fait construire la maison Pen ar C’ hastel à la Pointe du Château\, qui sera détruite pendant la guerre. En 1907\, Gustave Cariot séjourne aux environs de Perros-Guirrec et admire cette villa\, nichée au pied d’un éperon rocheux qui sépare l’anse de Perros de la baie de Trestrignel. Il immortalise ce paysage dans lequel la lumière et le vent animent un panoramique maritime aux vaguelettes ourlées de blanc\, aux rochers ombrés de violet\, à la végétation parcourue de nuances audacieuses. La palette de ce grand coloriste place sa toile aux confins de l’impressionnisme et du pointillisme et brille par le foisonnement de la touche de son pinceau. Probablement captivé par les couleurs de cet site\, Cariot a réalisé une autre vue de la villa\, d’un format plus réduit et prise sous un autre angle\, vendue aux enchères à Paris en 2022. \n\n\n\n\n\n  \n  \nTheodor PALLADY (1871-1956) \nArtiste d’origine roumaine\, Theodor Pallady (1871-1956) s’installe en France à la fin du XIXe siècle et côtoie Albert Marquet\, Georges Rouault\, Constantin Brancusi et Henri Matisse. Ce dernier devient son professeur pour quelques années et aura une influence certaine sur son travail du nu féminin et de la couleur. De retour en Roumanie au début du XXe siècle\, il continue d’exposer en France jusqu’à la Second Guerre Mondiale. \nCette vente présente de nombreux dessins de l’artiste\, fusains\, aquarelles\, et une belle huile sur carton représentant un vase fleuri aux couleurs chatoyantes (lots 33 au 45 puis lots 47 et 48).\nDe nombreuses archives\, lettres autographes\, photographies\, carnets annotés\, dessins et peintures d’artistes originaires de France et de l’Est de l’Europe enrichissent la sélection d’œuvres présentées lors de cette vacation. \nL’ensemble de ce corpus provient de la collection Serafina and Gheorghe Răuţ (Georges Raut) et d’une famille d’origine roumaine installée à Paris. \n  \n\n\n\n\n39 \nModèle assis \nAquarelle\, annotée en haut à gauche jeudi vendredi (Pliures\, petites déchirures.)\nHaut. : 64 cm ; Larg. : 50 cm\nEn feuille \nProvenance :\n– Collection Serafina and Gheorghe Răuţ (Georges Raut) ; – Collection d’une famille d’origine roumaine à Paris ;\n– Par succession jusqu’au propriétaire actuel.
URL:https://www.cabinetmarechaux.com/index.php/event/audap-et-associes-paris-3/
CATEGORIES:Ventes à venir
ATTACH;FMTTYPE=image/jpeg:https://www.cabinetmarechaux.com/wp-content/uploads/2023/03/IMG_2313.jpg
END:VEVENT
BEGIN:VEVENT
DTSTART;VALUE=DATE:20230417
DTEND;VALUE=DATE:20230418
DTSTAMP:20260426T052633
CREATED:20230407T100901Z
LAST-MODIFIED:20230407T100901Z
UID:2861-1681689600-1681775999@www.cabinetmarechaux.com
SUMMARY:POITIERS - Boissinot et Tailliez
DESCRIPTION:ARTS DECORATIFS du XXème siècle et DESIGN \nVente à 13h30 \n22 boulevard du Grand Cerf \n86 000 Poitiers \n  \n\n\n\n\nJacques GERMAIN\n(1915-2001)\n\n\n\n\nComposition\, 1955\nHuile sur toile\, signée  et datée 55 en bas à droite.\n92 x 73 cm
URL:https://www.cabinetmarechaux.com/index.php/event/poitiers-boissinot-et-tailliez/
CATEGORIES:Ventes à venir
ATTACH;FMTTYPE=image/jpeg:https://www.cabinetmarechaux.com/wp-content/uploads/2023/04/fullsizeoutput_5166.jpeg
END:VEVENT
END:VCALENDAR