BEGIN:VCALENDAR
VERSION:2.0
PRODID:-//Cabinet Maréchaux - ECPv6.15.20//NONSGML v1.0//EN
CALSCALE:GREGORIAN
METHOD:PUBLISH
X-ORIGINAL-URL:https://www.cabinetmarechaux.com
X-WR-CALDESC:Évènements pour Cabinet Maréchaux
REFRESH-INTERVAL;VALUE=DURATION:PT1H
X-Robots-Tag:noindex
X-PUBLISHED-TTL:PT1H
BEGIN:VTIMEZONE
TZID:Europe/Paris
BEGIN:DAYLIGHT
TZOFFSETFROM:+0100
TZOFFSETTO:+0200
TZNAME:CEST
DTSTART:20220327T010000
END:DAYLIGHT
BEGIN:STANDARD
TZOFFSETFROM:+0200
TZOFFSETTO:+0100
TZNAME:CET
DTSTART:20221030T010000
END:STANDARD
BEGIN:DAYLIGHT
TZOFFSETFROM:+0100
TZOFFSETTO:+0200
TZNAME:CEST
DTSTART:20230326T010000
END:DAYLIGHT
BEGIN:STANDARD
TZOFFSETFROM:+0200
TZOFFSETTO:+0100
TZNAME:CET
DTSTART:20231029T010000
END:STANDARD
BEGIN:DAYLIGHT
TZOFFSETFROM:+0100
TZOFFSETTO:+0200
TZNAME:CEST
DTSTART:20240331T010000
END:DAYLIGHT
BEGIN:STANDARD
TZOFFSETFROM:+0200
TZOFFSETTO:+0100
TZNAME:CET
DTSTART:20241027T010000
END:STANDARD
END:VTIMEZONE
BEGIN:VEVENT
DTSTART;VALUE=DATE:20230422
DTEND;VALUE=DATE:20230423
DTSTAMP:20260426T052913
CREATED:20230324T102041Z
LAST-MODIFIED:20230413T075845Z
UID:2825-1682121600-1682207999@www.cabinetmarechaux.com
SUMMARY:VASSY et COURTADON - CLERMONT-FERRAND
DESCRIPTION:Grande Vente de Tableaux Modernes et Contemporains \nVous retrouverez une sélection d’œuvres du XXe siècle d’artistes réputés. \nChaque année la vente de Tableau de Chamalières est le rendez-vous incontournable pour des œuvres de qualité. Vente en salle et en direct Live sur Internet. \n  \nLouis ANQUETIN 1861-1932 \nElégantes aux courses \nHuile sur toile\, signée en bas à droite et daté 1901 \n39 x 55 cm \nProvenance :  \n– Galerie Hector Brame\, Paris\, 1973 \n– Collection particulière\, Paris \nUe attestation de  Madame Sylvie Brame  du 21 octobre 2016 sera remise à l’acquéreur \nExcellent cavalier\, Louis Anquetin est très attiré  par le monde des courses. Il loue une petite  \nvilla à Maisons-Laffite où il passe ses journées à observer les séances d’entrainement des jockeys et le monde pittoresque des courses. \nhttps://www.interencheres.com/commissaire-priseur/vassy-et-courtadon-selarl-et-hotel-des-ventes-de-clermont-ferrand-sarl-72/ \n\n	\n			\n						\n						\n							22 avril						\n					\n					\n				\n				\n					\n												\n													\n					\n				\n			\n								\n											\n							\n							CIROU Paul (1869 - 1951)							\n						\n												\n							\n							Audouville\, soir\,\nHuile sur panneau\, signée en bas à droite\, située en bas à droite\, 10 x 16 cm\n							 \n						\n										\n							\n								\n												\n													\n					\n				\n			\n								\n											\n							\n							CHAGALL Marc (1887 - 1985)							\n						\n												\n							\n							 Les mariés au coq\, 1960\,\n Gouache\, encre de chine et graphite sur la page 66 de l'ouvrage Venturi Skira 1956\,\n 11\,5 x 11\,5 cm (la page 17\,5 x 15\,8 cm)\n \n L'authenticité de ce oeuvre a été confirmée par le comité Marc Chagall lors de sa réunion du 31 mai 2022.\n Un certificat sera remis à l'acquéreur.\n							 \n						\n										\n							\n								\n												\n													\n					\n				\n			\n								\n											\n							\n							DUPIN Aurore\, dite George SAND (1804 - 1876)							\n						\n												\n							\n							 Eglise en Auvergne\,\n dessin au crayon noir signé Aur. D en bas à gauche et situé Auvergne en bas à droite\, \n 16\,5 x 11\,5 cm\n \n En 1827\, Aurore Dupin se trouve en Auvergne avec son mari\, le baron Casimir Dudevant. Ils passent à Clermont-Ferrand et seront au Mont-Dore du 12 au 22 août 1827.
URL:https://www.cabinetmarechaux.com/index.php/event/clermont-ferrand-vassy-et-courtadon/
LOCATION:Vassy & Courtadon\, 19 rue des Salins\, Clermont-Ferrand\, 60300\, France
CATEGORIES:Ventes à venir
ATTACH;FMTTYPE=image/jpeg:https://www.cabinetmarechaux.com/wp-content/uploads/2023/03/IMG_4683-scaled.jpg
END:VEVENT
END:VCALENDAR