BEGIN:VCALENDAR
VERSION:2.0
PRODID:-//Cabinet Maréchaux - ECPv6.15.20//NONSGML v1.0//EN
CALSCALE:GREGORIAN
METHOD:PUBLISH
X-ORIGINAL-URL:https://www.cabinetmarechaux.com
X-WR-CALDESC:Évènements pour Cabinet Maréchaux
REFRESH-INTERVAL;VALUE=DURATION:PT1H
X-Robots-Tag:noindex
X-PUBLISHED-TTL:PT1H
BEGIN:VTIMEZONE
TZID:Europe/Paris
BEGIN:DAYLIGHT
TZOFFSETFROM:+0100
TZOFFSETTO:+0200
TZNAME:CEST
DTSTART:20220327T010000
END:DAYLIGHT
BEGIN:STANDARD
TZOFFSETFROM:+0200
TZOFFSETTO:+0100
TZNAME:CET
DTSTART:20221030T010000
END:STANDARD
BEGIN:DAYLIGHT
TZOFFSETFROM:+0100
TZOFFSETTO:+0200
TZNAME:CEST
DTSTART:20230326T010000
END:DAYLIGHT
BEGIN:STANDARD
TZOFFSETFROM:+0200
TZOFFSETTO:+0100
TZNAME:CET
DTSTART:20231029T010000
END:STANDARD
BEGIN:DAYLIGHT
TZOFFSETFROM:+0100
TZOFFSETTO:+0200
TZNAME:CEST
DTSTART:20240331T010000
END:DAYLIGHT
BEGIN:STANDARD
TZOFFSETFROM:+0200
TZOFFSETTO:+0100
TZNAME:CET
DTSTART:20241027T010000
END:STANDARD
END:VTIMEZONE
BEGIN:VEVENT
DTSTART;VALUE=DATE:20230505
DTEND;VALUE=DATE:20230506
DTSTAMP:20260426T035516
CREATED:20230426T075727Z
LAST-MODIFIED:20230426T081409Z
UID:2875-1683244800-1683331199@www.cabinetmarechaux.com
SUMMARY:Pontoise - Aponem
DESCRIPTION:UN REGARD\nSUR LE PRÉSENT \n\n\n\n\nAPONEM ‒ HÔTEL DES VENTES DE CERGY-PONTOISE \n41\, RUE DES FOSSETTES 95650 GÉNICOURT \nVENTE LE 5 MAI 2023 \nTROISIÈME SESSION ‒ VENTE À 11 H : LOTS 300 À 372 \nQUATRIÈME SESSION ‒ VENTE À 14 H : LOTS 373 À 539 \n\n\n\n\nEXPOSITION À L’ÉTUDE \nVendredi 28 avril : 10 h – 17 h\nMardi 2 mai : 10 h – 17 h\nMercredi 3 mai : 10 h – 17 h\nJeudi 4 mai : 9 h 30 – 10 h 30 Vendredi 5 mai : 9 h 30 – 10 h 30\n(En dehors de ces horaires sur RDV) \n\n\n\n300 \nALBERT LEBOURG (1849-1928) \nQuais animés à Paris\, l’Institut \nHuile sur toile \nSignée en bas à droite \n47 x 77 cm \nProvenance : Succession Brulé\, acquis en février 1993 \n\nhttps://www.aponem.com/catalogue/135485?lang=fr&search=&offset=150&max=50 \n\n	\n			\n						\n						\n							Aponem						\n					\n					\n				\n				\n					\n					\n																	\n																\n					\n				\n									\n													\n								\n								Albert LEBOURG 1849-1928								\n							\n													\n							\n							Bouquet de fleurs\nHuile sur toile\, signée en bas\, à gauche et dédicacée \n«à madame Guill… Hommages respectueux »\n41 x 33 cm\nExposition :  Galerie Jean de Ruaz Paris\, 1961\nBibliographie : Catalogue raisonné “Albert Lebourg” par Léonce Bénédite\, Edition Galerie Georges Petit\, p. 372\, n°1740							 \n						\n												\n								\n								\n					\n																	\n																\n					\n				\n									\n													\n								\n								Dominique GUILLEMARD 1949-2010								\n							\n													\n							\n							Le pape et les cardinaux \nHuile sur toile\, signée en bas\, à droite\n114\,5 x 87\, 5 cm\n							 \n						\n												\n								\n								\n					\n																	\n																\n					\n				\n									\n													\n								\n								Tony GONNET (1909-2004)								\n							\n													\n							\n							Sans titre\, 1979 Huile sur carton Signé en bas à droite et daté 24 x 33 cm
URL:https://www.cabinetmarechaux.com/index.php/event/pontoise-aponem-2/
CATEGORIES:Ventes à venir
ATTACH;FMTTYPE=image/png:https://www.cabinetmarechaux.com/wp-content/uploads/2023/04/Capture-decran-2023-04-26-a-09.55.02.png
END:VEVENT
END:VCALENDAR