BEGIN:VCALENDAR
VERSION:2.0
PRODID:-//Cabinet Maréchaux - ECPv6.15.20//NONSGML v1.0//EN
CALSCALE:GREGORIAN
METHOD:PUBLISH
X-WR-CALNAME:Cabinet Maréchaux
X-ORIGINAL-URL:https://www.cabinetmarechaux.com
X-WR-CALDESC:Évènements pour Cabinet Maréchaux
REFRESH-INTERVAL;VALUE=DURATION:PT1H
X-Robots-Tag:noindex
X-PUBLISHED-TTL:PT1H
BEGIN:VTIMEZONE
TZID:Europe/Paris
BEGIN:DAYLIGHT
TZOFFSETFROM:+0100
TZOFFSETTO:+0200
TZNAME:CEST
DTSTART:20220327T010000
END:DAYLIGHT
BEGIN:STANDARD
TZOFFSETFROM:+0200
TZOFFSETTO:+0100
TZNAME:CET
DTSTART:20221030T010000
END:STANDARD
BEGIN:DAYLIGHT
TZOFFSETFROM:+0100
TZOFFSETTO:+0200
TZNAME:CEST
DTSTART:20230326T010000
END:DAYLIGHT
BEGIN:STANDARD
TZOFFSETFROM:+0200
TZOFFSETTO:+0100
TZNAME:CET
DTSTART:20231029T010000
END:STANDARD
BEGIN:DAYLIGHT
TZOFFSETFROM:+0100
TZOFFSETTO:+0200
TZNAME:CEST
DTSTART:20240331T010000
END:DAYLIGHT
BEGIN:STANDARD
TZOFFSETFROM:+0200
TZOFFSETTO:+0100
TZNAME:CET
DTSTART:20241027T010000
END:STANDARD
END:VTIMEZONE
BEGIN:VEVENT
DTSTART;VALUE=DATE:20230512
DTEND;VALUE=DATE:20230513
DTSTAMP:20260426T035310
CREATED:20230426T084241Z
LAST-MODIFIED:20230426T085012Z
UID:2880-1683849600-1683935999@www.cabinetmarechaux.com
SUMMARY:giquello et associés - Paris
DESCRIPTION:COLLECTION DE MADAME G. ET À DIVERS – IMPORTANTS TABLEAUX MODERNES – MOBILIER ET OBJETS D’ART\n\n\nVendredi 12 mai 2023 à 14h30\nSalle 4 – 9\, rue Drouot – 75009 Paris\n\n\n\n\nPierre-Auguste RENOIR (1841–1919)\nLaveuse\, circa 1916\nHuile sur toile\, porte le cachet de la signature en bas à droite\nH. 30 – L. 35 cm\n(Rentoilé) \nBibliographie :\nAlbert André\, l’Atelier de Renoir\, Bernheim-Jeune\, 1931\, tome 2 planche 157\, n° 497\nGuy Patrice et Michel Dauberville\, volume *****\, n° 3998 avec avec des dimensions erronées \nCette œuvre sera incluse dans le Catalogue Raisonné Digital de Pierre-Auguste Renoir en préparation par le WPI.\nUne attestation du WPI\, n° 22.05.16/21049 en date du 20 mai 2022 sera remise à l’acquéreur \n\nhttps://www.giquelloetassocies.fr/catalogue/137941-collection-de-madame-g-et-a-divers-importants-tableaux-modernes-mobilier-et-objets-dart \n\n\n	\n			\n						\n						\n							12 mai						\n					\n					\n				\n				\n					\n					\n																	\n																\n					\n				\n									\n													\n								\n								Henri de TOULOUSE-LAUTREC (1864-1901)								\n							\n													\n							\n							Tête d'enfant\, 1882 Huile sur carton 41 x 33 cm  Provenance : Mme Delage (Liverdy en Brie ) puis par descendance  Exposition : Paris\, Galerie Barthélémy\, Exposition des oeuvres de Henri de Toulouse-Lautrec\, avril mai 1903\, n° 5  Bibliographie : Maurice Joyant\, Henri de Toulouse-Lautrec\, 1864-1901\, H. Floury\, éditeur\, Paris\, 1926\, décrit. 256 Dortu (M.G.)\, Toulouse-Lautrec et son œuvre\, Collectors Editions\, New-York\, 1971\, Tome II\, P.153 décrit p. 70 et reproduit p. 71.							 \n						\n												\n								\n								\n					\n																	\n																\n					\n				\n									\n													\n								\n								Henri LE SIDANER (1862-1939)								\n							\n													\n							\n							Saint-Jean Cap-Ferrat\, clair de lune\, circa 1910-11 Huile sur panneau\, signée en bas à gauche 18\,5 x 24 cm Figurera au supplément du catalogue Raisonné\, Le Sidaner- l'œuvre peint et gravé\, en préparation par Yann Farinaux							 \n						\n												\n								\n								\n					\n																	\n																\n					\n				\n									\n													\n								\n								Robert MATTA (1911-2002)								\n							\n													\n							\n							Qui naît fièvre fait Toile\, signée en bas à droite H. 62 - L. 75 cm  Provenance : Lucien Lefebvre-Foinet\, n°6047							 \n						\n												\n								\n								\n					\n																	\n																\n					\n				\n									\n													\n								\n								Fabienne VERDIER (née en 1962)								\n							\n													\n							\n							Arborescence\, variation n°6\, 2009 Pigment et encre sur toile\, signée\, titrée et datée Peinture du 5 décembre 2008 au verso 183 x 135 cm  Provenance : Galerie Jaeger Bucher\, Paris
URL:https://www.cabinetmarechaux.com/index.php/event/giquello-et-associes-paris/
CATEGORIES:Ventes à venir
ATTACH;FMTTYPE=image/png:https://www.cabinetmarechaux.com/wp-content/uploads/2023/04/Capture-decran-2023-04-26-a-10.33.11.png
END:VEVENT
END:VCALENDAR