BEGIN:VCALENDAR
VERSION:2.0
PRODID:-//Cabinet Maréchaux - ECPv6.15.20//NONSGML v1.0//EN
CALSCALE:GREGORIAN
METHOD:PUBLISH
X-ORIGINAL-URL:https://www.cabinetmarechaux.com
X-WR-CALDESC:Évènements pour Cabinet Maréchaux
REFRESH-INTERVAL;VALUE=DURATION:PT1H
X-Robots-Tag:noindex
X-PUBLISHED-TTL:PT1H
BEGIN:VTIMEZONE
TZID:Europe/Paris
BEGIN:DAYLIGHT
TZOFFSETFROM:+0100
TZOFFSETTO:+0200
TZNAME:CEST
DTSTART:20220327T010000
END:DAYLIGHT
BEGIN:STANDARD
TZOFFSETFROM:+0200
TZOFFSETTO:+0100
TZNAME:CET
DTSTART:20221030T010000
END:STANDARD
BEGIN:DAYLIGHT
TZOFFSETFROM:+0100
TZOFFSETTO:+0200
TZNAME:CEST
DTSTART:20230326T010000
END:DAYLIGHT
BEGIN:STANDARD
TZOFFSETFROM:+0200
TZOFFSETTO:+0100
TZNAME:CET
DTSTART:20231029T010000
END:STANDARD
BEGIN:DAYLIGHT
TZOFFSETFROM:+0100
TZOFFSETTO:+0200
TZNAME:CEST
DTSTART:20240331T010000
END:DAYLIGHT
BEGIN:STANDARD
TZOFFSETFROM:+0200
TZOFFSETTO:+0100
TZNAME:CET
DTSTART:20241027T010000
END:STANDARD
END:VTIMEZONE
BEGIN:VEVENT
DTSTART;VALUE=DATE:20230611
DTEND;VALUE=DATE:20230612
DTSTAMP:20260426T023301
CREATED:20230531T092355Z
LAST-MODIFIED:20230531T093625Z
UID:2900-1686441600-1686527999@www.cabinetmarechaux.com
SUMMARY:MONTPELLIER - FARRAN
DESCRIPTION:Dimanche 11 Juin 2023 à 13h30\n\nVente aux enchères dimanche 11 juin à 13h30 au Kiasma à Castelnau-le-Lez \nPour découvrir le catalogue virtuel\ncliquez ici \n\n\nMarche des dos\, 1893 \nDessin à l’encre de chine et au crayon bleu avec une chanson d’Aristide Bruant.  \n32 x 24 cm \nCollé en plein \nChanson écrite en 1889 par Aristide Bruant\, publiée dans Dans la Rue\, vol I\, p.57 à 60. \nCe dessin a été publié dans le Le Mirliton\,  le 13 janvier 1893 \nCe dessin est répertorié dans les archives Steinlen de Mesdames Claude Orset et Elisabeth Marechaux Laurentin en vue de la publication du catalogue raisonné de l’oeuvre de Théophile Alexandre Steinlen. \n\n\n\n \n\n\n\n  \n  \n  \n  \n  \n  \n  \nLes Petits Joyeux\, circa 1893 \nAquarelle sur laquelle est collée le texte d’une chanson d’Aristide Bruant \n37 x 30\,5 cm (6\,5 x 32 pour la partition) \nCollé en plein et collé au passepartout \nNotre aquarelle se rapproche de la version publiée dans le Mirliton du 31 mars 1893\, n° 103 \nChanson écrite par Aristide Bruant et publiée pour la première fois en 1889 (source Bnf) dans Dans la rue\, volume II\, p. 37-43.  \nOn connait notamment un enregistrement de cette chanson par Aristide Bruant en 1913 \nCe dessin est répertorié dans les archives Steinlen de Mesdames Claude Orset et Elisabeth Marechaux Laurentin en vue de la publication du catalogue raisonné de l’oeuvre de Théophile Alexandre Steinlen. \n____________ \nThéophile Alexandre STEINLEN (1859-1823) arrive à Paris en 1881 et dessine alors pour les établissements Petit-Demange\, spécialistes de la toile d’Alsace. \nIl commence à dessiner aussi pour certains journaux et illustrer des livres dès 1884.  \nEn 1884  Steinlen réalise une première composition pour le chansonnier Aristide BRUANT (1851-1925). \nC’est le début d’une longue collaboration qui va durer jusqu’en 1895 : \nJacques Christophe\,  dans  Steinlen\, partitions musicales illustrées\, chansons et monologues d’Aristide Bruant\, Aléas\, 2003\,  recense 116 titres et environ 500 dessins publiés. Il ne compte pas les dessins originaux. \nSteinlen exécute une partie de ses dessins chez Bruant qui écrit en 1887  «  mais aussi que de bien être quand je rentre ici\, tout seul\, sans personne qu’un ami de temps en temps! Encore le plus fidèle\, le peintre Steinlen\, est un laconique dans mon genre. Il dit trois mots toutes les demi-heures. Nous nous comprenons très bien. »   (voir Jeanne Landre\, Aristide BRUANT\, La nouvelle Société d’Edition  1930\, citée par Jacques Christophe\, ouvrage précité) \nLes dessins de Steinlen vont évoluer au fil des années et ses illustrations deviendront plus personnelles au fil du temps\, notamment pour les dessins réalisés pour le Gil Blas Illustré à  partir de 1891 et pour le Mirliton à partir de 1893. \nLes dessins de Steinlen  illustrant les chansons d’Aristide Bruant seront aussi publiées dans les deux tomes de Dans la rue\, publication d’Aristide Bruant lui-même en 1888 et 1895. La Marche des dos et les petits Joyeux (ou les hauts et les bas de la vie des petits marlous) sont parmi les chansons les plus connues de Bruant. \nElisabeth Marechaux Laurentin
URL:https://www.cabinetmarechaux.com/index.php/event/2900/
ATTACH;FMTTYPE=image/jpeg:https://www.cabinetmarechaux.com/wp-content/uploads/2023/05/IMG_6502.jpeg
END:VEVENT
END:VCALENDAR