BEGIN:VCALENDAR
VERSION:2.0
PRODID:-//Cabinet Maréchaux - ECPv6.15.20//NONSGML v1.0//EN
CALSCALE:GREGORIAN
METHOD:PUBLISH
X-WR-CALNAME:Cabinet Maréchaux
X-ORIGINAL-URL:https://www.cabinetmarechaux.com
X-WR-CALDESC:Évènements pour Cabinet Maréchaux
REFRESH-INTERVAL;VALUE=DURATION:PT1H
X-Robots-Tag:noindex
X-PUBLISHED-TTL:PT1H
BEGIN:VTIMEZONE
TZID:Europe/Paris
BEGIN:DAYLIGHT
TZOFFSETFROM:+0100
TZOFFSETTO:+0200
TZNAME:CEST
DTSTART:20220327T010000
END:DAYLIGHT
BEGIN:STANDARD
TZOFFSETFROM:+0200
TZOFFSETTO:+0100
TZNAME:CET
DTSTART:20221030T010000
END:STANDARD
BEGIN:DAYLIGHT
TZOFFSETFROM:+0100
TZOFFSETTO:+0200
TZNAME:CEST
DTSTART:20230326T010000
END:DAYLIGHT
BEGIN:STANDARD
TZOFFSETFROM:+0200
TZOFFSETTO:+0100
TZNAME:CET
DTSTART:20231029T010000
END:STANDARD
BEGIN:DAYLIGHT
TZOFFSETFROM:+0100
TZOFFSETTO:+0200
TZNAME:CEST
DTSTART:20240331T010000
END:DAYLIGHT
BEGIN:STANDARD
TZOFFSETFROM:+0200
TZOFFSETTO:+0100
TZNAME:CET
DTSTART:20241027T010000
END:STANDARD
END:VTIMEZONE
BEGIN:VEVENT
DTSTART;VALUE=DATE:20230613
DTEND;VALUE=DATE:20230614
DTSTAMP:20260426T022911
CREATED:20230531T094417Z
LAST-MODIFIED:20230608T130841Z
UID:2910-1686614400-1686700799@www.cabinetmarechaux.com
SUMMARY:PARIS - ART RESEARCH PARIS - ARP
DESCRIPTION:ARTS DECORATIFS ET DESIGN – ART MODERNE ET CONTEMPORAIN\nMardi 13 Juin 2023 15:00\n174\, rue du Faubourg-Saint-Honoré \, 174\, rue du Faubourg-Saint-Honoré 75008 Paris\n\nLien vers le catalogue :\nhttps://www.arp-auction.com/catalogue/135584?offset=0&\n\nCONSTANTIN BRANCUSI (1876\, Hobita\, Roumanie -1957\, Paris)\n« Portrait d’ Achille Baldé »\, (anciennement dit Portrait de M.G ou Portrait du gérant du restaurant dans lequel l’artiste lavait les verres au début de son séjour parisien).\nÉpreuve en bronze patiné\, signée\, et datée 1906. Cire perdue « A. A. Hébrard Fondeur ». « Portrait of Achille Baldé\, formerly known as the portrait of M.G. » Patinated bronze proof\, signed and dated 1906. Lost wax « A. A. Hébrard Fondeur ». H. 44\,5 – L 37 – P 27\,5 cm H 17 1/2 – W 14 5/8 – D 10 7/8 IN HISTORIQUE Arrivé depuis peu à Paris\, Constantin Brancusi travaille un temps comme plongeur au Bouillon Chartier\, 7 faubourg Montmartre à Paris. En 1905\, il modèle ce buste de l’un des employés du restaurant\, le garçon de café Achille Baldé. PROVENANCE Acquis en 1906\, par la famille Goupy\, belle-famille d’Achille Baldé\, par descendance à l’actuel propriétaire. EXPOSITIONS – 15 avril – 30 juin 1906 : plâtre de cette sculpture exposé au Salon de la Société des Beaux-Arts au Grand Palais. – 1906 : épreuve en bronze de cette sculpture exposée dans l’atelier de l’artiste\, 16 place Dauphine\, Paris BIBLIOGRAPHIE – Christian Zervos\, Constantin Brancusi\, portrait du gérant du restaurant dans lequel l’artiste lavait les verres au début de son séjour parisien\, cahiers d’art 1957\, Tête d’homme\, bronze\, p. 24 – Ionel Jianou\, Brancusi\, Arted-Paris\, 1963\, p. 90 : Portrait du gérant du restaurant\, oeuvre non retrouvée. – Sydney Geist\, Brancusi\, a study for the sculptures\, Studio Vista ltd\, 1968. Catalogue n° 13\, reproduit. – Sydney Geist\, Brancusi the sculptures and drawings\, Harry and Abrams\, inc.\, NewYork\, 1975\, n° 17\, reproduit. – Pontus Hulten\, Natalia Dumitresco\, Alexandre Istrati\, Brancusi\, Flammarion\, 1986\, n° 20 Portrait de M.G\, plâtre disparu\, reproduit. – Friedrich Teja Bach\, Constantin Brancusi\, Métamorphosen plastischer form\, Editeur Dumont Köln\, 1988 n° 22 Porträt von M.G (Portrait de M.G) reproduit\, daté 1905 p 335 : reproduction de la photo de l’atelier de Brancusi. – Marielle Tabart\, Doïna Lemny et Marie-Luce Nemo\, L’Atelier Brancusi\, Album – Centre Georges-Pompidou\, 1997 p 64 : Un buste en plâtre Portait de M.G. – L’atelier Brancusi (La collection) Constantin Brancusi Centre Georges Pompidou (1997) p 266 : Le buste en plâtre Portrait de M.G. reproduit\n\nARCHIVES Fonds Constantin Brancusi (1866-1978) Bibliothèque Kandinsky\, Centre national d’art et de culture Georges-Pompidou\, Paris Portrait d’un propriétaire de restaurant\, plâtre patiné ? (vers 1905). Épreuve gélatino argentique. Legs de Constantin Brancusi\, 1957. N° d’inventaire : PH 177 B
URL:https://www.cabinetmarechaux.com/index.php/event/paris-art-research-paris/
CATEGORIES:Ventes à venir
ATTACH;FMTTYPE=image/png:https://www.cabinetmarechaux.com/wp-content/uploads/2023/05/Capture-decran-2023-05-31-a-11.41.56.png
END:VEVENT
END:VCALENDAR