BEGIN:VCALENDAR
VERSION:2.0
PRODID:-//Cabinet Maréchaux - ECPv6.15.20//NONSGML v1.0//EN
CALSCALE:GREGORIAN
METHOD:PUBLISH
X-ORIGINAL-URL:https://www.cabinetmarechaux.com
X-WR-CALDESC:Évènements pour Cabinet Maréchaux
REFRESH-INTERVAL;VALUE=DURATION:PT1H
X-Robots-Tag:noindex
X-PUBLISHED-TTL:PT1H
BEGIN:VTIMEZONE
TZID:Europe/Paris
BEGIN:DAYLIGHT
TZOFFSETFROM:+0100
TZOFFSETTO:+0200
TZNAME:CEST
DTSTART:20220327T010000
END:DAYLIGHT
BEGIN:STANDARD
TZOFFSETFROM:+0200
TZOFFSETTO:+0100
TZNAME:CET
DTSTART:20221030T010000
END:STANDARD
BEGIN:DAYLIGHT
TZOFFSETFROM:+0100
TZOFFSETTO:+0200
TZNAME:CEST
DTSTART:20230326T010000
END:DAYLIGHT
BEGIN:STANDARD
TZOFFSETFROM:+0200
TZOFFSETTO:+0100
TZNAME:CET
DTSTART:20231029T010000
END:STANDARD
BEGIN:DAYLIGHT
TZOFFSETFROM:+0100
TZOFFSETTO:+0200
TZNAME:CEST
DTSTART:20240331T010000
END:DAYLIGHT
BEGIN:STANDARD
TZOFFSETFROM:+0200
TZOFFSETTO:+0100
TZNAME:CET
DTSTART:20241027T010000
END:STANDARD
END:VTIMEZONE
BEGIN:VEVENT
DTSTART;VALUE=DATE:20230616
DTEND;VALUE=DATE:20230617
DTSTAMP:20260426T023153
CREATED:20230531T095249Z
LAST-MODIFIED:20230531T095442Z
UID:2914-1686873600-1686959999@www.cabinetmarechaux.com
SUMMARY:PARIS - AUDAP et ASSOCIES
DESCRIPTION:DESSINS & TABLEAUX ANCIENS – ARTS D’ASIE – ARMES ORIENTALES – MOBILIER & OBJETS D’ART\nvendredi 16 juin 2023 13:30\nHôtel Drouot\, 9\, rue Drouot 75009 Paris\n\nLien vers le catalogue :\nhttps://www.audap-associes.com/catalogue/137124-dessins-tableaux-anciens-arts-dasie-armes-orientales-mobilier-objets-dart\n\nAurore DUPIN dite George SAND (1804-1876)\nRuines Aquarelle et dendrite Haut. : 10\,5 cm ; Larg. : 11 cm Depuis son enfance\, George Sand dessine\, comme les jeunes filles de son milieu à cette époque\, mais avec une passion qu’elle conservera tout au long de sa vie. Portraits\, scènes campagnardes\, souvenirs de voyage\, le dessin l’accompagne et lui procure une grande joie. Elle aurait pu être un peintre reconnu si elle n’était devenue écrivain. Elle invente tardivement un procédé d’aquarelle qui lui est propre\, qu’elle appelle « dendrite »\, compositions à partir de taches et d’autres formes fortuites\, rehaussées ou non d’aquarelle. Ses oeuvres restent cependant peu connues\, conservées pour la plupart dans des collections privées.
URL:https://www.cabinetmarechaux.com/index.php/event/paris-audap-et-associes-2/
CATEGORIES:Ventes à venir
ATTACH;FMTTYPE=image/png:https://www.cabinetmarechaux.com/wp-content/uploads/2023/05/Capture-decran-2023-05-31-a-11.48.24.png
END:VEVENT
END:VCALENDAR