BEGIN:VCALENDAR
VERSION:2.0
PRODID:-//Cabinet Maréchaux - ECPv6.15.20//NONSGML v1.0//EN
CALSCALE:GREGORIAN
METHOD:PUBLISH
X-WR-CALNAME:Cabinet Maréchaux
X-ORIGINAL-URL:https://www.cabinetmarechaux.com
X-WR-CALDESC:Évènements pour Cabinet Maréchaux
REFRESH-INTERVAL;VALUE=DURATION:PT1H
X-Robots-Tag:noindex
X-PUBLISHED-TTL:PT1H
BEGIN:VTIMEZONE
TZID:Europe/Paris
BEGIN:DAYLIGHT
TZOFFSETFROM:+0100
TZOFFSETTO:+0200
TZNAME:CEST
DTSTART:20220327T010000
END:DAYLIGHT
BEGIN:STANDARD
TZOFFSETFROM:+0200
TZOFFSETTO:+0100
TZNAME:CET
DTSTART:20221030T010000
END:STANDARD
BEGIN:DAYLIGHT
TZOFFSETFROM:+0100
TZOFFSETTO:+0200
TZNAME:CEST
DTSTART:20230326T010000
END:DAYLIGHT
BEGIN:STANDARD
TZOFFSETFROM:+0200
TZOFFSETTO:+0100
TZNAME:CET
DTSTART:20231029T010000
END:STANDARD
BEGIN:DAYLIGHT
TZOFFSETFROM:+0100
TZOFFSETTO:+0200
TZNAME:CEST
DTSTART:20240331T010000
END:DAYLIGHT
BEGIN:STANDARD
TZOFFSETFROM:+0200
TZOFFSETTO:+0100
TZNAME:CET
DTSTART:20241027T010000
END:STANDARD
END:VTIMEZONE
BEGIN:VEVENT
DTSTART;VALUE=DATE:20230619
DTEND;VALUE=DATE:20230623
DTSTAMP:20260426T022844
CREATED:20230619T143010Z
LAST-MODIFIED:20230619T143010Z
UID:2954-1687132800-1687478399@www.cabinetmarechaux.com
SUMMARY:Morand & Morand - Vente en ligne
DESCRIPTION:Jusqu’au jeudi 22 juin\n\nINTERIEUR PARISIEN XVII – SUCCESSION DE MME GOYARD\n\nHippolyte Camille DELPY (1842-1910) Matinée d’Automne à Criqueboeuf Huile sur toile\, signée en bas à droite et datée 1901 Dimensions : 61 x 100 cm Exposition Salon des Aristes Français 1901 Bibliographie : Michèle Lannoy-Duputel\, Hippolyte-Camille DELP\, Invitation au voyage\, cité p. 91
URL:https://www.cabinetmarechaux.com/index.php/event/morand-morand-vente-en-ligne/
CATEGORIES:Ventes à venir
ATTACH;FMTTYPE=image/png:https://www.cabinetmarechaux.com/wp-content/uploads/2023/06/Capture-decran-2023-06-19-a-16.25.06.png
END:VEVENT
END:VCALENDAR