BEGIN:VCALENDAR
VERSION:2.0
PRODID:-//Cabinet Maréchaux - ECPv6.15.20//NONSGML v1.0//EN
CALSCALE:GREGORIAN
METHOD:PUBLISH
X-WR-CALNAME:Cabinet Maréchaux
X-ORIGINAL-URL:https://www.cabinetmarechaux.com
X-WR-CALDESC:Évènements pour Cabinet Maréchaux
REFRESH-INTERVAL;VALUE=DURATION:PT1H
X-Robots-Tag:noindex
X-PUBLISHED-TTL:PT1H
BEGIN:VTIMEZONE
TZID:Europe/Paris
BEGIN:DAYLIGHT
TZOFFSETFROM:+0100
TZOFFSETTO:+0200
TZNAME:CEST
DTSTART:20220327T010000
END:DAYLIGHT
BEGIN:STANDARD
TZOFFSETFROM:+0200
TZOFFSETTO:+0100
TZNAME:CET
DTSTART:20221030T010000
END:STANDARD
BEGIN:DAYLIGHT
TZOFFSETFROM:+0100
TZOFFSETTO:+0200
TZNAME:CEST
DTSTART:20230326T010000
END:DAYLIGHT
BEGIN:STANDARD
TZOFFSETFROM:+0200
TZOFFSETTO:+0100
TZNAME:CET
DTSTART:20231029T010000
END:STANDARD
BEGIN:DAYLIGHT
TZOFFSETFROM:+0100
TZOFFSETTO:+0200
TZNAME:CEST
DTSTART:20240331T010000
END:DAYLIGHT
BEGIN:STANDARD
TZOFFSETFROM:+0200
TZOFFSETTO:+0100
TZNAME:CET
DTSTART:20241027T010000
END:STANDARD
END:VTIMEZONE
BEGIN:VEVENT
DTSTART;VALUE=DATE:20230623
DTEND;VALUE=DATE:20230624
DTSTAMP:20260426T022854
CREATED:20230613T093902Z
LAST-MODIFIED:20230613T094307Z
UID:2932-1687478400-1687564799@www.cabinetmarechaux.com
SUMMARY:Biarritz Enchères - Carayol et associés
DESCRIPTION:Arts Basque & Landais\n\n\nVendredi 23 juin 2023 à 14h30\n\n\nExpositions publiques\nMercredi 21 juin 10h – 18h\nJeudi 22 juin 10h – 18h\nVendredi 23 juin 10h – 12h \n\n6 allée de l’Aéropostale \n64200 BIARRITZ \nhttps://biarritzencheres.com/featured_item/arts-basque-landais-23-06-2023/ \nJIVA (1907-1974)\n«Bayonne depuis la citadelle»\nHuile sur panneau\, signée en bas à droite et datée 38\n93 x 125 cm
URL:https://www.cabinetmarechaux.com/index.php/event/biarritz-encheres-carayol-et-associes/
ATTACH;FMTTYPE=image/png:https://www.cabinetmarechaux.com/wp-content/uploads/2023/06/Capture-decran-2023-06-13-a-11.36.30.png
END:VEVENT
END:VCALENDAR