BEGIN:VCALENDAR
VERSION:2.0
PRODID:-//Cabinet Maréchaux - ECPv6.15.20//NONSGML v1.0//EN
CALSCALE:GREGORIAN
METHOD:PUBLISH
X-ORIGINAL-URL:https://www.cabinetmarechaux.com
X-WR-CALDESC:Évènements pour Cabinet Maréchaux
REFRESH-INTERVAL;VALUE=DURATION:PT1H
X-Robots-Tag:noindex
X-PUBLISHED-TTL:PT1H
BEGIN:VTIMEZONE
TZID:Europe/Paris
BEGIN:DAYLIGHT
TZOFFSETFROM:+0100
TZOFFSETTO:+0200
TZNAME:CEST
DTSTART:20220327T010000
END:DAYLIGHT
BEGIN:STANDARD
TZOFFSETFROM:+0200
TZOFFSETTO:+0100
TZNAME:CET
DTSTART:20221030T010000
END:STANDARD
BEGIN:DAYLIGHT
TZOFFSETFROM:+0100
TZOFFSETTO:+0200
TZNAME:CEST
DTSTART:20230326T010000
END:DAYLIGHT
BEGIN:STANDARD
TZOFFSETFROM:+0200
TZOFFSETTO:+0100
TZNAME:CET
DTSTART:20231029T010000
END:STANDARD
BEGIN:DAYLIGHT
TZOFFSETFROM:+0100
TZOFFSETTO:+0200
TZNAME:CEST
DTSTART:20240331T010000
END:DAYLIGHT
BEGIN:STANDARD
TZOFFSETFROM:+0200
TZOFFSETTO:+0100
TZNAME:CET
DTSTART:20241027T010000
END:STANDARD
END:VTIMEZONE
BEGIN:VEVENT
DTSTART;VALUE=DATE:20230624
DTEND;VALUE=DATE:20230625
DTSTAMP:20260426T023301
CREATED:20230613T095404Z
LAST-MODIFIED:20230613T095404Z
UID:2937-1687564800-1687651199@www.cabinetmarechaux.com
SUMMARY:Pau - Carrère et Laborie
DESCRIPTION:Vente de prestige \n  \nYves BRAYER 1907-1990 \nAutomne à Carita\, les Baux – 1982 \nHuile sur toile\, signée en bas à droite \n65 x 54 cm \nBibliographie : HARAMBOURG L.\, BRAYER H.\, BRAYER O.\, BRAYER C.\, Yves Brayer\, catalogue raisonné de l’oeuvre peint\, 1961-1989\, tome 2\, Lausanne\, La Bibliothèque des Arts\, 2008\, n° 4011\, p.331. \n  \n  \nThéo TOBIASSE 1927-2012 \nJe dois poursuivre mon voyage \nHuile sur toile\, signée à gauche vers le bas et titrée vers le haut à droite \n65 x 81 cm \nProvenance : \n– vente Espace Tajan\, Paris\, 20 septembre 2007 \n– Collection particulière
URL:https://www.cabinetmarechaux.com/index.php/event/pau-carrere-et-laborie-4/
LOCATION:Hôtel des Ventes de Pau\, 3 allée Catherine de Bourbon\, PAU\, France
ATTACH;FMTTYPE=image/png:https://www.cabinetmarechaux.com/wp-content/uploads/2023/06/Capture-decran-2023-06-13-a-11.47.54.png
END:VEVENT
END:VCALENDAR