BEGIN:VCALENDAR
VERSION:2.0
PRODID:-//Cabinet Maréchaux - ECPv6.15.20//NONSGML v1.0//EN
CALSCALE:GREGORIAN
METHOD:PUBLISH
X-ORIGINAL-URL:https://www.cabinetmarechaux.com
X-WR-CALDESC:Évènements pour Cabinet Maréchaux
REFRESH-INTERVAL;VALUE=DURATION:PT1H
X-Robots-Tag:noindex
X-PUBLISHED-TTL:PT1H
BEGIN:VTIMEZONE
TZID:Europe/Paris
BEGIN:DAYLIGHT
TZOFFSETFROM:+0100
TZOFFSETTO:+0200
TZNAME:CEST
DTSTART:20220327T010000
END:DAYLIGHT
BEGIN:STANDARD
TZOFFSETFROM:+0200
TZOFFSETTO:+0100
TZNAME:CET
DTSTART:20221030T010000
END:STANDARD
BEGIN:DAYLIGHT
TZOFFSETFROM:+0100
TZOFFSETTO:+0200
TZNAME:CEST
DTSTART:20230326T010000
END:DAYLIGHT
BEGIN:STANDARD
TZOFFSETFROM:+0200
TZOFFSETTO:+0100
TZNAME:CET
DTSTART:20231029T010000
END:STANDARD
BEGIN:DAYLIGHT
TZOFFSETFROM:+0100
TZOFFSETTO:+0200
TZNAME:CEST
DTSTART:20240331T010000
END:DAYLIGHT
BEGIN:STANDARD
TZOFFSETFROM:+0200
TZOFFSETTO:+0100
TZNAME:CET
DTSTART:20241027T010000
END:STANDARD
END:VTIMEZONE
BEGIN:VEVENT
DTSTART;VALUE=DATE:20230722
DTEND;VALUE=DATE:20230723
DTSTAMP:20260426T010346
CREATED:20230703T142457Z
LAST-MODIFIED:20230703T142457Z
UID:3325-1689984000-1690070399@www.cabinetmarechaux.com
SUMMARY:Pau - Carrère et Laborie
DESCRIPTION:Vente de prestige \n\n\n	\n\n        Ivan CHOULTSE 1874-1939\n\n		\n        \n        \n            \n        \n	    \n         \n\n        \n\n            \n                \n                    \n                \n            \n\n            \n                \n                    \n                \n            \n\n            \n                Image                1                parmi                2            \n\n            \n                Paysage de neige\nHuile sur toile\, signée en bas\, à droite\n51 x 61 cm
URL:https://www.cabinetmarechaux.com/index.php/event/pau-carrere-et-laborie-5/
LOCATION:Hôtel des Ventes de Pau\, 3 allée Catherine de Bourbon\, PAU\, France
CATEGORIES:Ventes à venir
ATTACH;FMTTYPE=image/jpeg:https://www.cabinetmarechaux.com/wp-content/uploads/2023/07/IMG_5053-scaled.jpeg
END:VEVENT
END:VCALENDAR