BEGIN:VCALENDAR
VERSION:2.0
PRODID:-//Cabinet Maréchaux - ECPv6.15.20//NONSGML v1.0//EN
CALSCALE:GREGORIAN
METHOD:PUBLISH
X-WR-CALNAME:Cabinet Maréchaux
X-ORIGINAL-URL:https://www.cabinetmarechaux.com
X-WR-CALDESC:Évènements pour Cabinet Maréchaux
REFRESH-INTERVAL;VALUE=DURATION:PT1H
X-Robots-Tag:noindex
X-PUBLISHED-TTL:PT1H
BEGIN:VTIMEZONE
TZID:Europe/Paris
BEGIN:DAYLIGHT
TZOFFSETFROM:+0100
TZOFFSETTO:+0200
TZNAME:CEST
DTSTART:20220327T010000
END:DAYLIGHT
BEGIN:STANDARD
TZOFFSETFROM:+0200
TZOFFSETTO:+0100
TZNAME:CET
DTSTART:20221030T010000
END:STANDARD
BEGIN:DAYLIGHT
TZOFFSETFROM:+0100
TZOFFSETTO:+0200
TZNAME:CEST
DTSTART:20230326T010000
END:DAYLIGHT
BEGIN:STANDARD
TZOFFSETFROM:+0200
TZOFFSETTO:+0100
TZNAME:CET
DTSTART:20231029T010000
END:STANDARD
BEGIN:DAYLIGHT
TZOFFSETFROM:+0100
TZOFFSETTO:+0200
TZNAME:CEST
DTSTART:20240331T010000
END:DAYLIGHT
BEGIN:STANDARD
TZOFFSETFROM:+0200
TZOFFSETTO:+0100
TZNAME:CET
DTSTART:20241027T010000
END:STANDARD
END:VTIMEZONE
BEGIN:VEVENT
DTSTART;VALUE=DATE:20231008
DTEND;VALUE=DATE:20231009
DTSTAMP:20260425T201004
CREATED:20230927T085622Z
LAST-MODIFIED:20231027T100815Z
UID:3379-1696723200-1696809599@www.cabinetmarechaux.com
SUMMARY:Martin-Banel - Versailles
DESCRIPTION:MOBILIER ET OBJETS D’ART-BIJOUX-ARGENTERIE-VINS\nDimanche 08 Octobre 2023 14:00\nMartin – Banel\, 3\, impasse des Chevau Légers 78000 Versailles \nVoir le catalogue \nEdouard VERSCHAFFELT (1874-1955) Le jeune mendiant Huile sur toile\, située en bas à gauche 70 x 40 cm
URL:https://www.cabinetmarechaux.com/index.php/event/versailles-martin-banel-2/
ATTACH;FMTTYPE=image/png:https://www.cabinetmarechaux.com/wp-content/uploads/2023/09/Capture-decran-2023-09-27-a-10.54.52.png
END:VEVENT
END:VCALENDAR