BEGIN:VCALENDAR
VERSION:2.0
PRODID:-//Cabinet Maréchaux - ECPv6.15.20//NONSGML v1.0//EN
CALSCALE:GREGORIAN
METHOD:PUBLISH
X-ORIGINAL-URL:https://www.cabinetmarechaux.com
X-WR-CALDESC:Évènements pour Cabinet Maréchaux
REFRESH-INTERVAL;VALUE=DURATION:PT1H
X-Robots-Tag:noindex
X-PUBLISHED-TTL:PT1H
BEGIN:VTIMEZONE
TZID:Europe/Paris
BEGIN:DAYLIGHT
TZOFFSETFROM:+0100
TZOFFSETTO:+0200
TZNAME:CEST
DTSTART:20220327T010000
END:DAYLIGHT
BEGIN:STANDARD
TZOFFSETFROM:+0200
TZOFFSETTO:+0100
TZNAME:CET
DTSTART:20221030T010000
END:STANDARD
BEGIN:DAYLIGHT
TZOFFSETFROM:+0100
TZOFFSETTO:+0200
TZNAME:CEST
DTSTART:20230326T010000
END:DAYLIGHT
BEGIN:STANDARD
TZOFFSETFROM:+0200
TZOFFSETTO:+0100
TZNAME:CET
DTSTART:20231029T010000
END:STANDARD
BEGIN:DAYLIGHT
TZOFFSETFROM:+0100
TZOFFSETTO:+0200
TZNAME:CEST
DTSTART:20240331T010000
END:DAYLIGHT
BEGIN:STANDARD
TZOFFSETFROM:+0200
TZOFFSETTO:+0100
TZNAME:CET
DTSTART:20241027T010000
END:STANDARD
END:VTIMEZONE
BEGIN:VEVENT
DTSTART;VALUE=DATE:20231014
DTEND;VALUE=DATE:20231015
DTSTAMP:20260425T201425
CREATED:20230922T095344Z
LAST-MODIFIED:20231010T084603Z
UID:3369-1697241600-1697327999@www.cabinetmarechaux.com
SUMMARY:BORDEAUX  BRISCADIEU
DESCRIPTION:TABLEAUX – MOBILIER & OBJETS D’ART DU XVIIÈME AU XXÈME SIÈCLE\nSamedi 14 Octobre 2023 14:00\nHôtel des ventes Bordeaux Sainte-Croix 12-14 rue Peyronnet\, 33800 Bordeaux \nVoir le catalogue de la vente \n82\nHenri MARTIN (1860-1943)\nVenise\, porte et balcon d’un palais rouge\, reflets\, 1910 Huile sur panneau\, signé et daté 10 en bas à gauche. 55 x 44\,3 cm. \nExposition : Henri Martin\, Galeries Georges Petit\, Paris\, 11 juin – 13 juillet 1910\, n°79.\nUn avis d’inclusion dans les archives destinées à l’élaboration du Catalogue Raisonné d’Henri Martin\, en date du 17 novembre 2020 sera remis à l’acquéreur.\nHenri Martin découvre l’Italie et Venise en 1885 grâce à une bourse de voyage\, séduit\, il y retournera fréquemment. L’artiste séjourne dans la cité des Doges plusieurs mois pendant les deux années qui précèdent l’importante exposition de 1910 chez Georges Petit où sont accrochées de nombreuses vues de Venise. \n126 bis\nGaston CHAISSAC (1910-1964)\nHuile sur carton ondulé\, signé en bas au milieu.\n32 x 24\,5 cm\nL’authenticité de cette oeuvre a été confirmée par l’Association Cercle de Gaston Chaissac. Un certificat sera remis à l’acquéreur
URL:https://www.cabinetmarechaux.com/index.php/event/bordeaux-briscadieu-7/
ATTACH;FMTTYPE=image/png:https://www.cabinetmarechaux.com/wp-content/uploads/2023/09/Capture-decran-2023-09-22-a-11.52.03.png
END:VEVENT
END:VCALENDAR