BEGIN:VCALENDAR
VERSION:2.0
PRODID:-//Cabinet Maréchaux - ECPv6.15.20//NONSGML v1.0//EN
CALSCALE:GREGORIAN
METHOD:PUBLISH
X-WR-CALNAME:Cabinet Maréchaux
X-ORIGINAL-URL:https://www.cabinetmarechaux.com
X-WR-CALDESC:Évènements pour Cabinet Maréchaux
REFRESH-INTERVAL;VALUE=DURATION:PT1H
X-Robots-Tag:noindex
X-PUBLISHED-TTL:PT1H
BEGIN:VTIMEZONE
TZID:Europe/Paris
BEGIN:DAYLIGHT
TZOFFSETFROM:+0100
TZOFFSETTO:+0200
TZNAME:CEST
DTSTART:20220327T010000
END:DAYLIGHT
BEGIN:STANDARD
TZOFFSETFROM:+0200
TZOFFSETTO:+0100
TZNAME:CET
DTSTART:20221030T010000
END:STANDARD
BEGIN:DAYLIGHT
TZOFFSETFROM:+0100
TZOFFSETTO:+0200
TZNAME:CEST
DTSTART:20230326T010000
END:DAYLIGHT
BEGIN:STANDARD
TZOFFSETFROM:+0200
TZOFFSETTO:+0100
TZNAME:CET
DTSTART:20231029T010000
END:STANDARD
BEGIN:DAYLIGHT
TZOFFSETFROM:+0100
TZOFFSETTO:+0200
TZNAME:CEST
DTSTART:20240331T010000
END:DAYLIGHT
BEGIN:STANDARD
TZOFFSETFROM:+0200
TZOFFSETTO:+0100
TZNAME:CET
DTSTART:20241027T010000
END:STANDARD
END:VTIMEZONE
BEGIN:VEVENT
DTSTART;VALUE=DATE:20231104
DTEND;VALUE=DATE:20231105
DTSTAMP:20260425T183555
CREATED:20231026T081340Z
LAST-MODIFIED:20231027T100733Z
UID:3419-1699056000-1699142399@www.cabinetmarechaux.com
SUMMARY:OXIO - Saint-Ouen
DESCRIPTION:Samedi 04 novembre à 14h\nCLASSIQUE / MODERNE \nLa Salle Oxio\n59\, rue des Rosiers\, Saint-Ouen-sur-Seine\, 93400\,  France\nTéléphone : 01.48.21.21.22  \nExposition des lots :\nvendredi 03 novembre – 11h / 18h\nsamedi 04 novembre – 10h /12h \n \nCatalogue de la vente \nGerardo CHAVEZ (1937)\nCouple dans un paysage surréaliste\nHuile sur toile\nSignée en bas à droite\n65 x 92 cm\nAccident visible
URL:https://www.cabinetmarechaux.com/index.php/event/oxio-saint-ouen/
CATEGORIES:Ventes à venir
ATTACH;FMTTYPE=image/png:https://www.cabinetmarechaux.com/wp-content/uploads/2023/10/Capture-decran-2023-10-26-a-10.12.06.png
END:VEVENT
BEGIN:VEVENT
DTSTART;VALUE=DATE:20231104
DTEND;VALUE=DATE:20231105
DTSTAMP:20260425T183555
CREATED:20231031T090009Z
LAST-MODIFIED:20231031T090009Z
UID:3457-1699056000-1699142399@www.cabinetmarechaux.com
SUMMARY:Ardennes Enchères\, Charleville
DESCRIPTION:Charles CAMOIN (1879-1965) « Violoncelliste »\, circa 1958 Huile sur toile\, signée en bas à gauche\, vendue avec certificat d’authenticité délivré par la veuve de l’artiste en date du 10 mars 1980 (65 x 50 cm)
URL:https://www.cabinetmarechaux.com/index.php/event/ardennes-encheres-charleville/
LOCATION:Charleville-Mézières\, 30 rue de la Gravière\, Charleville-Mézières\, 08000\, France
END:VEVENT
END:VCALENDAR