BEGIN:VCALENDAR
VERSION:2.0
PRODID:-//Cabinet Maréchaux - ECPv6.15.20//NONSGML v1.0//EN
CALSCALE:GREGORIAN
METHOD:PUBLISH
X-WR-CALNAME:Cabinet Maréchaux
X-ORIGINAL-URL:https://www.cabinetmarechaux.com
X-WR-CALDESC:Évènements pour Cabinet Maréchaux
REFRESH-INTERVAL;VALUE=DURATION:PT1H
X-Robots-Tag:noindex
X-PUBLISHED-TTL:PT1H
BEGIN:VTIMEZONE
TZID:Europe/Paris
BEGIN:DAYLIGHT
TZOFFSETFROM:+0100
TZOFFSETTO:+0200
TZNAME:CEST
DTSTART:20220327T010000
END:DAYLIGHT
BEGIN:STANDARD
TZOFFSETFROM:+0200
TZOFFSETTO:+0100
TZNAME:CET
DTSTART:20221030T010000
END:STANDARD
BEGIN:DAYLIGHT
TZOFFSETFROM:+0100
TZOFFSETTO:+0200
TZNAME:CEST
DTSTART:20230326T010000
END:DAYLIGHT
BEGIN:STANDARD
TZOFFSETFROM:+0200
TZOFFSETTO:+0100
TZNAME:CET
DTSTART:20231029T010000
END:STANDARD
BEGIN:DAYLIGHT
TZOFFSETFROM:+0100
TZOFFSETTO:+0200
TZNAME:CEST
DTSTART:20240331T010000
END:DAYLIGHT
BEGIN:STANDARD
TZOFFSETFROM:+0200
TZOFFSETTO:+0100
TZNAME:CET
DTSTART:20241027T010000
END:STANDARD
END:VTIMEZONE
BEGIN:VEVENT
DTSTART;VALUE=DATE:20231108
DTEND;VALUE=DATE:20231109
DTSTAMP:20260425T183555
CREATED:20231018T101153Z
LAST-MODIFIED:20231027T100714Z
UID:3405-1699401600-1699487999@www.cabinetmarechaux.com
SUMMARY:Giquello & Associés  et  Thierry de Maigret - Paris
DESCRIPTION:Collection G.\nArts d’Asie\, estampes et tableaux modernes\, mobilier XXe\nHotel Drouot\, salle 16\nMercredi 8 novembre 2023 à 14h30 \nRoberto MATTA (1911-2002)\nAube cristalline\, 1952 Huile sur toile. 99 x 127 cm Cette oeuvre est archivée dans le Catalogue Général des archives Matta sous le n° 52/61. La copie d’un certificat des archives Matta en date du 9 juillet 1991 sera remise à l’acquéreur.  Provenance : vente Loudmer\, Paris\, 10 juin 1990\, lot 217 \nCatalogue de la vente
URL:https://www.cabinetmarechaux.com/index.php/event/giquello-et-thierry-de-maigret/
ATTACH;FMTTYPE=image/png:https://www.cabinetmarechaux.com/wp-content/uploads/2023/10/Capture-decran-2023-10-18-a-12.09.13.png
END:VEVENT
END:VCALENDAR