BEGIN:VCALENDAR
VERSION:2.0
PRODID:-//Cabinet Maréchaux - ECPv6.15.20//NONSGML v1.0//EN
CALSCALE:GREGORIAN
METHOD:PUBLISH
X-WR-CALNAME:Cabinet Maréchaux
X-ORIGINAL-URL:https://www.cabinetmarechaux.com
X-WR-CALDESC:Évènements pour Cabinet Maréchaux
REFRESH-INTERVAL;VALUE=DURATION:PT1H
X-Robots-Tag:noindex
X-PUBLISHED-TTL:PT1H
BEGIN:VTIMEZONE
TZID:Europe/Paris
BEGIN:DAYLIGHT
TZOFFSETFROM:+0100
TZOFFSETTO:+0200
TZNAME:CEST
DTSTART:20220327T010000
END:DAYLIGHT
BEGIN:STANDARD
TZOFFSETFROM:+0200
TZOFFSETTO:+0100
TZNAME:CET
DTSTART:20221030T010000
END:STANDARD
BEGIN:DAYLIGHT
TZOFFSETFROM:+0100
TZOFFSETTO:+0200
TZNAME:CEST
DTSTART:20230326T010000
END:DAYLIGHT
BEGIN:STANDARD
TZOFFSETFROM:+0200
TZOFFSETTO:+0100
TZNAME:CET
DTSTART:20231029T010000
END:STANDARD
BEGIN:DAYLIGHT
TZOFFSETFROM:+0100
TZOFFSETTO:+0200
TZNAME:CEST
DTSTART:20240331T010000
END:DAYLIGHT
BEGIN:STANDARD
TZOFFSETFROM:+0200
TZOFFSETTO:+0100
TZNAME:CET
DTSTART:20241027T010000
END:STANDARD
END:VTIMEZONE
BEGIN:VEVENT
DTSTART;VALUE=DATE:20231114
DTEND;VALUE=DATE:20231115
DTSTAMP:20260425T183750
CREATED:20231018T102024Z
LAST-MODIFIED:20231107T100151Z
UID:3410-1699920000-1700006399@www.cabinetmarechaux.com
SUMMARY:Audap & Associés - Paris
DESCRIPTION:BOULEVARD F. – UNE FAMILLE DE COLLECTIONNEURS\nmardi 14 novembre 2023 14:00\nSalle 5 – Hôtel Drouot \, 9\, rue Drouot 75009 Paris \nCatalogue de la vente \nMarcel COSSON (1878-1956) La terrasse ; Le magistrat Gouache double face\, signée en bas à droite au recto Haut. : 60 cm ; Larg. : 43 cm (dimensions à vue)
URL:https://www.cabinetmarechaux.com/index.php/event/audap-et-associes-6/
CATEGORIES:Ventes à venir
ATTACH;FMTTYPE=image/png:https://www.cabinetmarechaux.com/wp-content/uploads/2023/10/Capture-decran-2023-11-07-a-11.00.15.png
END:VEVENT
BEGIN:VEVENT
DTSTART;VALUE=DATE:20231114
DTEND;VALUE=DATE:20231115
DTSTAMP:20260425T183750
CREATED:20231026T150901Z
LAST-MODIFIED:20231102T090150Z
UID:3429-1699920000-1700006399@www.cabinetmarechaux.com
SUMMARY:Couton - Jamault - Hirn - Nantes
DESCRIPTION:L’HÔTEL DES VENTES DE NANTES\nCouton Jamault Hirn\n8-10\, rue Miséricorde\n44000 Nantes \nTableaux Modernes et Contemporains\, Sculptures \nVente en live sur interencheres.com \nExpositions:\nLundi 13 novembre de 9h à 12h et de 14h à 18h\nMardi 14 novembre de 9h à 12h \nCatalogue de la vente \nMaxime MAUFRA (1861-1918)\nAutomne\, vallée de la Chézine\, 1888.\nHuile sur panneau\, signée et datée en bas à droite\n37.5 x 46 cm\nNous remercions Madame Caroline Durand-Ruel Godfroy d’avoir confirmé l’authenticité de cette peinture
URL:https://www.cabinetmarechaux.com/index.php/event/nantes-couton-jamault-hirn/
CATEGORIES:Ventes à venir
ATTACH;FMTTYPE=image/jpeg:https://www.cabinetmarechaux.com/wp-content/uploads/2023/10/IMG_2828-scaled.jpeg
END:VEVENT
END:VCALENDAR