BEGIN:VCALENDAR
VERSION:2.0
PRODID:-//Cabinet Maréchaux - ECPv6.15.20//NONSGML v1.0//EN
CALSCALE:GREGORIAN
METHOD:PUBLISH
X-WR-CALNAME:Cabinet Maréchaux
X-ORIGINAL-URL:https://www.cabinetmarechaux.com
X-WR-CALDESC:Évènements pour Cabinet Maréchaux
REFRESH-INTERVAL;VALUE=DURATION:PT1H
X-Robots-Tag:noindex
X-PUBLISHED-TTL:PT1H
BEGIN:VTIMEZONE
TZID:Europe/Paris
BEGIN:DAYLIGHT
TZOFFSETFROM:+0100
TZOFFSETTO:+0200
TZNAME:CEST
DTSTART:20220327T010000
END:DAYLIGHT
BEGIN:STANDARD
TZOFFSETFROM:+0200
TZOFFSETTO:+0100
TZNAME:CET
DTSTART:20221030T010000
END:STANDARD
BEGIN:DAYLIGHT
TZOFFSETFROM:+0100
TZOFFSETTO:+0200
TZNAME:CEST
DTSTART:20230326T010000
END:DAYLIGHT
BEGIN:STANDARD
TZOFFSETFROM:+0200
TZOFFSETTO:+0100
TZNAME:CET
DTSTART:20231029T010000
END:STANDARD
BEGIN:DAYLIGHT
TZOFFSETFROM:+0100
TZOFFSETTO:+0200
TZNAME:CEST
DTSTART:20240331T010000
END:DAYLIGHT
BEGIN:STANDARD
TZOFFSETFROM:+0200
TZOFFSETTO:+0100
TZNAME:CET
DTSTART:20241027T010000
END:STANDARD
END:VTIMEZONE
BEGIN:VEVENT
DTSTART;VALUE=DATE:20231125
DTEND;VALUE=DATE:20231126
DTSTAMP:20260425T183617
CREATED:20231110T094503Z
LAST-MODIFIED:20231120T095345Z
UID:3478-1700870400-1700956799@www.cabinetmarechaux.com
SUMMARY:Poitiers - Boissinot et Taillez
DESCRIPTION:BEL AMEUBLEMENT\, TABLEAUX\, SCULPTURE & OBJETS D’ART\n25 novembre 2023 à 13h30\n 86000 Poitiers \nCatalogue de la vente \nFrancis PICABIA (1879-1953) Chat Aquarelle et crayon sur papier signée en bas à gauche  Encadrée sous verre  30 x 24 cm Ce dessin sera inclus dans le Catalogue Raisonné de l’oeuvre de Francis Picabia. Un certificat du Comité Picabia en date du 17 octobre 2023 sera remis à l’acquéreur. \nExpert : Mme Philippine MARECHAUX
URL:https://www.cabinetmarechaux.com/index.php/event/poitiers-boissinot-tailliez/
CATEGORIES:Ventes à venir
ATTACH;FMTTYPE=image/png:https://www.cabinetmarechaux.com/wp-content/uploads/2023/11/Capture-decran-2023-11-10-a-10.41.29.png
END:VEVENT
END:VCALENDAR