BEGIN:VCALENDAR
VERSION:2.0
PRODID:-//Cabinet Maréchaux - ECPv6.15.20//NONSGML v1.0//EN
CALSCALE:GREGORIAN
METHOD:PUBLISH
X-ORIGINAL-URL:https://www.cabinetmarechaux.com
X-WR-CALDESC:Évènements pour Cabinet Maréchaux
REFRESH-INTERVAL;VALUE=DURATION:PT1H
X-Robots-Tag:noindex
X-PUBLISHED-TTL:PT1H
BEGIN:VTIMEZONE
TZID:Europe/Paris
BEGIN:DAYLIGHT
TZOFFSETFROM:+0100
TZOFFSETTO:+0200
TZNAME:CEST
DTSTART:20220327T010000
END:DAYLIGHT
BEGIN:STANDARD
TZOFFSETFROM:+0200
TZOFFSETTO:+0100
TZNAME:CET
DTSTART:20221030T010000
END:STANDARD
BEGIN:DAYLIGHT
TZOFFSETFROM:+0100
TZOFFSETTO:+0200
TZNAME:CEST
DTSTART:20230326T010000
END:DAYLIGHT
BEGIN:STANDARD
TZOFFSETFROM:+0200
TZOFFSETTO:+0100
TZNAME:CET
DTSTART:20231029T010000
END:STANDARD
BEGIN:DAYLIGHT
TZOFFSETFROM:+0100
TZOFFSETTO:+0200
TZNAME:CEST
DTSTART:20240331T010000
END:DAYLIGHT
BEGIN:STANDARD
TZOFFSETFROM:+0200
TZOFFSETTO:+0100
TZNAME:CET
DTSTART:20241027T010000
END:STANDARD
END:VTIMEZONE
BEGIN:VEVENT
DTSTART;VALUE=DATE:20231126
DTEND;VALUE=DATE:20231127
DTSTAMP:20260425T183923
CREATED:20231027T101253Z
LAST-MODIFIED:20231027T102330Z
UID:3450-1700956800-1701043199@www.cabinetmarechaux.com
SUMMARY:Osenat - Fontainebleau
DESCRIPTION:L’ESPRIT DU XIXE SIÈCLE\nDimanche 26 Novembre 2023 14:00 \nHôtel d’albe\n9-11\, rue royale\n77300 FONTAINEBLEAU \nCatalogue de la vente
URL:https://www.cabinetmarechaux.com/index.php/event/osenat-fontainebleau-5/
CATEGORIES:Ventes à venir
END:VEVENT
END:VCALENDAR