BEGIN:VCALENDAR
VERSION:2.0
PRODID:-//Cabinet Maréchaux - ECPv6.15.20//NONSGML v1.0//EN
CALSCALE:GREGORIAN
METHOD:PUBLISH
X-WR-CALNAME:Cabinet Maréchaux
X-ORIGINAL-URL:https://www.cabinetmarechaux.com
X-WR-CALDESC:Évènements pour Cabinet Maréchaux
REFRESH-INTERVAL;VALUE=DURATION:PT1H
X-Robots-Tag:noindex
X-PUBLISHED-TTL:PT1H
BEGIN:VTIMEZONE
TZID:Europe/Paris
BEGIN:DAYLIGHT
TZOFFSETFROM:+0100
TZOFFSETTO:+0200
TZNAME:CEST
DTSTART:20220327T010000
END:DAYLIGHT
BEGIN:STANDARD
TZOFFSETFROM:+0200
TZOFFSETTO:+0100
TZNAME:CET
DTSTART:20221030T010000
END:STANDARD
BEGIN:DAYLIGHT
TZOFFSETFROM:+0100
TZOFFSETTO:+0200
TZNAME:CEST
DTSTART:20230326T010000
END:DAYLIGHT
BEGIN:STANDARD
TZOFFSETFROM:+0200
TZOFFSETTO:+0100
TZNAME:CET
DTSTART:20231029T010000
END:STANDARD
BEGIN:DAYLIGHT
TZOFFSETFROM:+0100
TZOFFSETTO:+0200
TZNAME:CEST
DTSTART:20240331T010000
END:DAYLIGHT
BEGIN:STANDARD
TZOFFSETFROM:+0200
TZOFFSETTO:+0100
TZNAME:CET
DTSTART:20241027T010000
END:STANDARD
END:VTIMEZONE
BEGIN:VEVENT
DTSTART;VALUE=DATE:20231128
DTEND;VALUE=DATE:20231129
DTSTAMP:20260425T165433
CREATED:20231128T092614Z
LAST-MODIFIED:20231128T092614Z
UID:3523-1701129600-1701215999@www.cabinetmarechaux.com
SUMMARY:Giquello - Paris
DESCRIPTION:LES COMMUNS DE FERRIERES – LIVRES ANCIENS – TABLEAUX – OBJETS D’ART ET MOBILIER\nMardi 28 Novembre 2023 11:00\nSalle 1 – Hôtel Drouot \, 9\, rue Drouot 75009 Paris \nhttps://www.giquelloetassocies.fr/catalogue/145819?offset=0&« >Catalogue de la vente \nLouis Mathieu VERDILHAN 1875-1928\nMarseille\nHuile sur toile\, signée en bas à gauche\n85 x 113 cm
URL:https://www.cabinetmarechaux.com/index.php/event/giquello-paris-4/
CATEGORIES:Ventes à venir
ATTACH;FMTTYPE=image/jpeg:https://www.cabinetmarechaux.com/wp-content/uploads/2023/11/IMG_3329-scaled.jpeg
END:VEVENT
END:VCALENDAR