BEGIN:VCALENDAR
VERSION:2.0
PRODID:-//Cabinet Maréchaux - ECPv6.15.20//NONSGML v1.0//EN
CALSCALE:GREGORIAN
METHOD:PUBLISH
X-ORIGINAL-URL:https://www.cabinetmarechaux.com
X-WR-CALDESC:Évènements pour Cabinet Maréchaux
REFRESH-INTERVAL;VALUE=DURATION:PT1H
X-Robots-Tag:noindex
X-PUBLISHED-TTL:PT1H
BEGIN:VTIMEZONE
TZID:Europe/Paris
BEGIN:DAYLIGHT
TZOFFSETFROM:+0100
TZOFFSETTO:+0200
TZNAME:CEST
DTSTART:20220327T010000
END:DAYLIGHT
BEGIN:STANDARD
TZOFFSETFROM:+0200
TZOFFSETTO:+0100
TZNAME:CET
DTSTART:20221030T010000
END:STANDARD
BEGIN:DAYLIGHT
TZOFFSETFROM:+0100
TZOFFSETTO:+0200
TZNAME:CEST
DTSTART:20230326T010000
END:DAYLIGHT
BEGIN:STANDARD
TZOFFSETFROM:+0200
TZOFFSETTO:+0100
TZNAME:CET
DTSTART:20231029T010000
END:STANDARD
BEGIN:DAYLIGHT
TZOFFSETFROM:+0100
TZOFFSETTO:+0200
TZNAME:CEST
DTSTART:20240331T010000
END:DAYLIGHT
BEGIN:STANDARD
TZOFFSETFROM:+0200
TZOFFSETTO:+0100
TZNAME:CET
DTSTART:20241027T010000
END:STANDARD
END:VTIMEZONE
BEGIN:VEVENT
DTSTART;VALUE=DATE:20231205
DTEND;VALUE=DATE:20231206
DTSTAMP:20260425T165634
CREATED:20231110T100543Z
LAST-MODIFIED:20231120T100108Z
UID:3482-1701734400-1701820799@www.cabinetmarechaux.com
SUMMARY:Béziers - Clertan & Boisselier -  Les enchères du midi
DESCRIPTION:VENTE DE NOËL 🎄  VENTE INAUGURALE DU NOUVEL HOTEL DES VENTES\n 5 décembre 2023 à 16h00\n 34500 Béziers \nLot 440 \nRobert DELAUNAY (1885 – 1941)\nPaysage à Cernay\, 1904\nHuile sur toile\, signée\, située et datée en bas à gauche « juillet Cernay 04 ».\n73 x 57 cm\nBibliographie :\n– 	Pascal Rousseau\, «Réalité\, peinture pure » L’oeuvre de Robert Delaunay jusqu’en 			1914\, 	Thèse de doctorat\, Université de Paris Sorbonne Paris IV\, 1997\, reproduit Tome III\, fig. 2. et citée dans le Tome I\, p.36\n« Robert Delaunay. De l’impressionnisme à l’abstraction\, 1906-1914 »\, sous la direction de Pascal Rousseau. Catalogue d’exposition\, Paris\,  Centre Pompidou\, 3 juin-16 août 1999. Reproduit p.22\nUne photographie de cette toile est conservée à la Documentation CGP/MNAM\, fonds Delaunay. \n	Robert Delaunay peint ce paysage en juillet 1904\, dans les jardins du Petit Moulin des Vaulx-de-Cernay en Seine et Oise\, propriété de la famille Carlier\, proche de Charles et Marie Damour\, son oncle et sa tante. Il a 19 ans\, il n’a suivi aucun enseignement académique\,  mais a été initié à la peinture par son oncle et formé dans les Ateliers du décorateur de théâtre Eugène Ronsin pendant deux ans (1902-1904).\n	L’année suivante\, Robert présente pour sa deuxième participation au Salon des Indépendants\, huit tableaux\, dont quatre sont situés aux Vaulx-de-Cernay : L’Arressage (Vaulx-de-Cernay)\, effet de 11 heures; Déjeuner matinal (petit moulin des Vaulx-de-Cernay\, 7 heures du matin;  Lavoir des Vaulx-de-Cernay\, effet de 4 heures; Petit moulin des Vaulx-de-Cernay\, effet de midi. Et au Salon d’Automne de 1906\, il expose le Portrait d’Henri Carlier (MNAM en dépôt au Musée Fabre\, Montpellier). \n	Cette toile\, exécutée d’après nature dans le jardin de la propriété des Carlier\, est inondée de soleil\, l’artiste\, souligne les contrastes d’ombre et de lumière. Sur une allée de sable bien dessinée\, un chien blanc allongé\, haletant\, se détache dans l’ombre d’un arbre. L’artiste a vraisemblablement vu les dernières oeuvres de Claude Monet à la Galerie Durand-Ruel. Cette oeuvre\, comme les premiers tableaux de chevalet de Robert Delaunay est sous influence impressionniste. En 1957\, Robert Delaunay en donnait sa définition « Le mot impressionnisme\, impression qui fut un mot donné par un peintre comme désignation à sa volonté de peindre ce qu’il ressentait des spectacles de la nature\, à la manière d’un kodak\, idéal et individuel ».\nExpert: Philippine MARECHAUX
URL:https://www.cabinetmarechaux.com/index.php/event/beziers-clertan-boisselier-les-encheres-du-midi/
CATEGORIES:Ventes à venir
ATTACH;FMTTYPE=image/png:https://www.cabinetmarechaux.com/wp-content/uploads/2023/11/Capture-decran-2023-11-10-a-11.02.00.png
END:VEVENT
END:VCALENDAR