BEGIN:VCALENDAR
VERSION:2.0
PRODID:-//Cabinet Maréchaux - ECPv6.15.20//NONSGML v1.0//EN
CALSCALE:GREGORIAN
METHOD:PUBLISH
X-WR-CALNAME:Cabinet Maréchaux
X-ORIGINAL-URL:https://www.cabinetmarechaux.com
X-WR-CALDESC:Évènements pour Cabinet Maréchaux
REFRESH-INTERVAL;VALUE=DURATION:PT1H
X-Robots-Tag:noindex
X-PUBLISHED-TTL:PT1H
BEGIN:VTIMEZONE
TZID:Europe/Paris
BEGIN:DAYLIGHT
TZOFFSETFROM:+0100
TZOFFSETTO:+0200
TZNAME:CEST
DTSTART:20220327T010000
END:DAYLIGHT
BEGIN:STANDARD
TZOFFSETFROM:+0200
TZOFFSETTO:+0100
TZNAME:CET
DTSTART:20221030T010000
END:STANDARD
BEGIN:DAYLIGHT
TZOFFSETFROM:+0100
TZOFFSETTO:+0200
TZNAME:CEST
DTSTART:20230326T010000
END:DAYLIGHT
BEGIN:STANDARD
TZOFFSETFROM:+0200
TZOFFSETTO:+0100
TZNAME:CET
DTSTART:20231029T010000
END:STANDARD
BEGIN:DAYLIGHT
TZOFFSETFROM:+0100
TZOFFSETTO:+0200
TZNAME:CEST
DTSTART:20240331T010000
END:DAYLIGHT
BEGIN:STANDARD
TZOFFSETFROM:+0200
TZOFFSETTO:+0100
TZNAME:CET
DTSTART:20241027T010000
END:STANDARD
END:VTIMEZONE
BEGIN:VEVENT
DTSTART;TZID=Europe/Paris:20231208T080000
DTEND;TZID=Europe/Paris:20231208T170000
DTSTAMP:20260425T165435
CREATED:20231208T103129Z
LAST-MODIFIED:20231208T103616Z
UID:3533-1702022400-1702054800@www.cabinetmarechaux.com
SUMMARY:Chatellerault - Maître Christophe Sabourin
DESCRIPTION:Meubles et objets d’art – Tableaux et dessins – Ancienne Collection Paul MERIGUET et à divers. \nVente en live et en présentiel à l’Hôtel des Ventes le samedi16 décembre à 11h00 et 14h15.\n– 11h00: lots 1 à 85\n– 14h15: à partir du lot 86  \nCatalogue de la vente \nJean-Gabriel DOMERGUE (1889-1962)\nEsquisse pour Prairie\, Salon de 1944\nHuile sur carton\, signé en bas à gauche.\n33 x 24 cm\nNous remercions Monsieur Noé Willer de nous avoir aimablement confirmé l’authenticité de cette oeuvre. Il pourra délivrer un certificat à la charge de l’acquéreur.
URL:https://www.cabinetmarechaux.com/index.php/event/chatellerault-maitre-christophe-sabourin/
ATTACH;FMTTYPE=image/jpeg:https://www.cabinetmarechaux.com/wp-content/uploads/2023/12/IMG_6425-scaled.jpeg
END:VEVENT
END:VCALENDAR