BEGIN:VCALENDAR
VERSION:2.0
PRODID:-//Cabinet Maréchaux - ECPv6.15.20//NONSGML v1.0//EN
CALSCALE:GREGORIAN
METHOD:PUBLISH
X-ORIGINAL-URL:https://www.cabinetmarechaux.com
X-WR-CALDESC:Évènements pour Cabinet Maréchaux
REFRESH-INTERVAL;VALUE=DURATION:PT1H
X-Robots-Tag:noindex
X-PUBLISHED-TTL:PT1H
BEGIN:VTIMEZONE
TZID:Europe/Paris
BEGIN:DAYLIGHT
TZOFFSETFROM:+0100
TZOFFSETTO:+0200
TZNAME:CEST
DTSTART:20230326T010000
END:DAYLIGHT
BEGIN:STANDARD
TZOFFSETFROM:+0200
TZOFFSETTO:+0100
TZNAME:CET
DTSTART:20231029T010000
END:STANDARD
BEGIN:DAYLIGHT
TZOFFSETFROM:+0100
TZOFFSETTO:+0200
TZNAME:CEST
DTSTART:20240331T010000
END:DAYLIGHT
BEGIN:STANDARD
TZOFFSETFROM:+0200
TZOFFSETTO:+0100
TZNAME:CET
DTSTART:20241027T010000
END:STANDARD
BEGIN:DAYLIGHT
TZOFFSETFROM:+0100
TZOFFSETTO:+0200
TZNAME:CEST
DTSTART:20250330T010000
END:DAYLIGHT
BEGIN:STANDARD
TZOFFSETFROM:+0200
TZOFFSETTO:+0100
TZNAME:CET
DTSTART:20251026T010000
END:STANDARD
END:VTIMEZONE
BEGIN:VEVENT
DTSTART;VALUE=DATE:20240308
DTEND;VALUE=DATE:20240311
DTSTAMP:20260422T153100
CREATED:20240305T112856Z
LAST-MODIFIED:20240321T105500Z
UID:3603-1709856000-1710115199@www.cabinetmarechaux.com
SUMMARY:JORON-DEREM - Hôtel Drouot Salle 6
DESCRIPTION:Léon TUTUNDJIAN 1905-1968\nSans Titre\nGouache et encre de Chine\, signée en bas à droite\, porte au verso un numéro 171\n38\,5 x 30 cm \nCette gouache correspond aux oeuvres réalisées entre 1926 et 1929. \nCette gouache (LTG 072) sera incluse dans le catalogue raisonné de l’oeuvre de Tutundjian en préparation par le comité Tutundjian et une attestation d’inclusion au catalogue raisonné en date du 20 février 2024 sera remise à l’acquéreur \n \nLéon TUTUNDJIAN 1905-1968\nSans Titre\nGouache et encre de Chine\, signée en bas à droite\, porte un numéro 173 au verso\n54 x 46\,5 cm\n(Petits éclats visibles\, déchirures restaurées à droite vers le bas\, en haut à gauche et sur le côté à gauche. Mouillure) \nCette gouache correspond aux oeuvres réalisées entre 1926 et 1929. \nCette gouache (LTG 073) sera incluse dans le catalogue raisonné de l’oeuvre de Tutundjian en préparation par le comité Tutundjian et une attestation d’inclusion au catalogue raisonné en date du 20 février 2024 sera remise à l’acquéreur avec référence LTG 072.
URL:https://www.cabinetmarechaux.com/index.php/event/joron-derem-hotel-drouot-salle-6/
CATEGORIES:Ventes à venir
ATTACH;FMTTYPE=image/jpeg:https://www.cabinetmarechaux.com/wp-content/uploads/2024/03/image003.jpg
END:VEVENT
BEGIN:VEVENT
DTSTART;VALUE=DATE:20240309
DTEND;VALUE=DATE:20240310
DTSTAMP:20260422T153100
CREATED:20240226T102624Z
LAST-MODIFIED:20240226T104441Z
UID:3589-1709942400-1710028799@www.cabinetmarechaux.com
SUMMARY:BRISCADIEU BORDEAUX
DESCRIPTION:UNE COLLECTION BORDELAISE – TABLEAUX\, MOBILIER ET OBJETS D’ART DU XVIIIÈME AU XXÈME SIÈCLE\nSamedi 09 Mars 2024 14:00\nBordeaux \, 12-14\, rue Peyronnet 33800 Bordeaux \nhttps://www.briscadieu-bordeaux.com/catalogue/148613-une-collection-bordelaise-tableaux-mobilier-et-objets-dart-du-xviiieme-au-xxeme-siecle \nRaymond MIRANDE (1932-1997) Prairie aux papillons\, 1991 Papillon rose et bleu\, Le Bouton noir\, La Libellule\, Les Fleurs\, Fleur-corolle bleue; Coffret composé de cinq émaux sur cuivre\, technique du champlevé\, signature et date « 91 » gravées sur le couvercle\, celui-ci est ajouré. Couvercle : 19\,5 x 19\,5\, quatre plaques : 9 x 19\,5 cm. Coffret : 20\,5 x 20\,5 x 13 cm.   Bibliographie : Véronique Menault-Mirande\, « Raymond Mirande\, les émaux Catalogue raisonné »\, Paris Somogy éditions d’art\, 2006. Décrit et reproduit sous le n°754.
URL:https://www.cabinetmarechaux.com/index.php/event/briscadieu-bordeaux-9/
CATEGORIES:Ventes à venir
ATTACH;FMTTYPE=image/jpeg:https://www.cabinetmarechaux.com/wp-content/uploads/2024/02/9.jpeg
END:VEVENT
BEGIN:VEVENT
DTSTART;VALUE=DATE:20240309
DTEND;VALUE=DATE:20240310
DTSTAMP:20260422T153100
CREATED:20240226T104401Z
LAST-MODIFIED:20240226T104401Z
UID:3592-1709942400-1710028799@www.cabinetmarechaux.com
SUMMARY:POITIERS - Boissinot et Taillez
DESCRIPTION:ARTS du XXème : MOBILIERS\, TABLEAUX & OBJETS D’ART \nLien vers le catalogue \nNature morte aux journaux\, 1921\nGouache et crayon noir sur papier contrecollé sur carton\, signé et daté « 21 » en bas à droite\n45 x 35 cm (35 x 27 cm)\nCette oeuvre figurera au supplément du catalogue raisonné de l’artiste. Nous remercions Monsieur Gérard Denizeau de nous avoir aimablement confirmé son authenticité.
URL:https://www.cabinetmarechaux.com/index.php/event/poitiers-boissinot-et-taillez/
ATTACH;FMTTYPE=image/jpeg:https://www.cabinetmarechaux.com/wp-content/uploads/2024/02/fullsizeoutput_5f1c.jpeg
END:VEVENT
END:VCALENDAR