BEGIN:VCALENDAR
VERSION:2.0
PRODID:-//Cabinet Maréchaux - ECPv6.15.20//NONSGML v1.0//EN
CALSCALE:GREGORIAN
METHOD:PUBLISH
X-WR-CALNAME:Cabinet Maréchaux
X-ORIGINAL-URL:https://www.cabinetmarechaux.com
X-WR-CALDESC:Évènements pour Cabinet Maréchaux
REFRESH-INTERVAL;VALUE=DURATION:PT1H
X-Robots-Tag:noindex
X-PUBLISHED-TTL:PT1H
BEGIN:VTIMEZONE
TZID:Europe/Paris
BEGIN:DAYLIGHT
TZOFFSETFROM:+0100
TZOFFSETTO:+0200
TZNAME:CEST
DTSTART:20230326T010000
END:DAYLIGHT
BEGIN:STANDARD
TZOFFSETFROM:+0200
TZOFFSETTO:+0100
TZNAME:CET
DTSTART:20231029T010000
END:STANDARD
BEGIN:DAYLIGHT
TZOFFSETFROM:+0100
TZOFFSETTO:+0200
TZNAME:CEST
DTSTART:20240331T010000
END:DAYLIGHT
BEGIN:STANDARD
TZOFFSETFROM:+0200
TZOFFSETTO:+0100
TZNAME:CET
DTSTART:20241027T010000
END:STANDARD
BEGIN:DAYLIGHT
TZOFFSETFROM:+0100
TZOFFSETTO:+0200
TZNAME:CEST
DTSTART:20250330T010000
END:DAYLIGHT
BEGIN:STANDARD
TZOFFSETFROM:+0200
TZOFFSETTO:+0100
TZNAME:CET
DTSTART:20251026T010000
END:STANDARD
END:VTIMEZONE
BEGIN:VEVENT
DTSTART;TZID=Europe/Paris:20240417T080000
DTEND;TZID=Europe/Paris:20240417T170000
DTSTAMP:20260422T135324
CREATED:20240417T100357Z
LAST-MODIFIED:20240417T100357Z
UID:3642-1713340800-1713373200@www.cabinetmarechaux.com
SUMMARY:Mirabaud-Mercier
DESCRIPTION:VENTE COLLECTION SPITZER ET A DIVERS – HAUTE EPOQUE – MOBILIER OBJETS D’ART \nSalle 15 – Hôtel Drouot – 9\, rue Drouot 75009 Paris\, France \nVoir le catalogue \nHARPIGNIES Henri-Joseph (1819-1916)\nLe Chemin à Saint Privé\nHuile sur panneau\, signée et datée 85 en bas à gauche et située en bas à droite\n24 x 34 cm
URL:https://www.cabinetmarechaux.com/index.php/event/mirabaud-mercier-7/
CATEGORIES:Ventes à venir
ATTACH;FMTTYPE=image/png:https://www.cabinetmarechaux.com/wp-content/uploads/2024/04/Capture-decran-2024-04-17-a-12.02.01.png
END:VEVENT
END:VCALENDAR