BEGIN:VCALENDAR
VERSION:2.0
PRODID:-//Cabinet Maréchaux - ECPv6.15.20//NONSGML v1.0//EN
CALSCALE:GREGORIAN
METHOD:PUBLISH
X-WR-CALNAME:Cabinet Maréchaux
X-ORIGINAL-URL:https://www.cabinetmarechaux.com
X-WR-CALDESC:Évènements pour Cabinet Maréchaux
REFRESH-INTERVAL;VALUE=DURATION:PT1H
X-Robots-Tag:noindex
X-PUBLISHED-TTL:PT1H
BEGIN:VTIMEZONE
TZID:Europe/Paris
BEGIN:DAYLIGHT
TZOFFSETFROM:+0100
TZOFFSETTO:+0200
TZNAME:CEST
DTSTART:20230326T010000
END:DAYLIGHT
BEGIN:STANDARD
TZOFFSETFROM:+0200
TZOFFSETTO:+0100
TZNAME:CET
DTSTART:20231029T010000
END:STANDARD
BEGIN:DAYLIGHT
TZOFFSETFROM:+0100
TZOFFSETTO:+0200
TZNAME:CEST
DTSTART:20240331T010000
END:DAYLIGHT
BEGIN:STANDARD
TZOFFSETFROM:+0200
TZOFFSETTO:+0100
TZNAME:CET
DTSTART:20241027T010000
END:STANDARD
BEGIN:DAYLIGHT
TZOFFSETFROM:+0100
TZOFFSETTO:+0200
TZNAME:CEST
DTSTART:20250330T010000
END:DAYLIGHT
BEGIN:STANDARD
TZOFFSETFROM:+0200
TZOFFSETTO:+0100
TZNAME:CET
DTSTART:20251026T010000
END:STANDARD
END:VTIMEZONE
BEGIN:VEVENT
DTSTART;VALUE=DATE:20240427
DTEND;VALUE=DATE:20240428
DTSTAMP:20260422T135409
CREATED:20240405T095644Z
LAST-MODIFIED:20240405T101032Z
UID:3637-1714176000-1714262399@www.cabinetmarechaux.com
SUMMARY:Auch - Gers Gascogne Enchères
DESCRIPTION:Belle vente mobilière\n27 avril 2024 à 14h \nLéon SPILLAERT 1881-1946\nLa crypte de la chapelle du Saint-Sang à Bruges\,1927\nAquarelle\, signée en bas\, à droite et datée 1927 en bas\, à gauche\n28\,4 x 39\,9 cm\nCette oeuvre sera reprise dans le catalogue raisonné de l’oeuvre de Léon Spillaert en préparation par le Docteur Anne Adriaens-Panier. (Un document du 26 octobre 2021 sera remis à l’acquéreur) \nCatalogue de la vente
URL:https://www.cabinetmarechaux.com/index.php/event/auch-gers-gascogne-encheres-3/
LOCATION:Auch\, 129\, rue Victor Hugo\, Auch\, France
CATEGORIES:Ventes à venir
ATTACH;FMTTYPE=image/jpeg:https://www.cabinetmarechaux.com/wp-content/uploads/2024/04/IMG_2311-scaled.jpg
END:VEVENT
END:VCALENDAR