BEGIN:VCALENDAR
VERSION:2.0
PRODID:-//Cabinet Maréchaux - ECPv6.15.20//NONSGML v1.0//EN
CALSCALE:GREGORIAN
METHOD:PUBLISH
X-WR-CALNAME:Cabinet Maréchaux
X-ORIGINAL-URL:https://www.cabinetmarechaux.com
X-WR-CALDESC:Évènements pour Cabinet Maréchaux
REFRESH-INTERVAL;VALUE=DURATION:PT1H
X-Robots-Tag:noindex
X-PUBLISHED-TTL:PT1H
BEGIN:VTIMEZONE
TZID:Europe/Paris
BEGIN:DAYLIGHT
TZOFFSETFROM:+0100
TZOFFSETTO:+0200
TZNAME:CEST
DTSTART:20230326T010000
END:DAYLIGHT
BEGIN:STANDARD
TZOFFSETFROM:+0200
TZOFFSETTO:+0100
TZNAME:CET
DTSTART:20231029T010000
END:STANDARD
BEGIN:DAYLIGHT
TZOFFSETFROM:+0100
TZOFFSETTO:+0200
TZNAME:CEST
DTSTART:20240331T010000
END:DAYLIGHT
BEGIN:STANDARD
TZOFFSETFROM:+0200
TZOFFSETTO:+0100
TZNAME:CET
DTSTART:20241027T010000
END:STANDARD
BEGIN:DAYLIGHT
TZOFFSETFROM:+0100
TZOFFSETTO:+0200
TZNAME:CEST
DTSTART:20250330T010000
END:DAYLIGHT
BEGIN:STANDARD
TZOFFSETFROM:+0200
TZOFFSETTO:+0100
TZNAME:CET
DTSTART:20251026T010000
END:STANDARD
END:VTIMEZONE
BEGIN:VEVENT
DTSTART;VALUE=DATE:20240706
DTEND;VALUE=DATE:20240707
DTSTAMP:20260422T090112
CREATED:20240626T100926Z
LAST-MODIFIED:20240626T101403Z
UID:3778-1720224000-1720310399@www.cabinetmarechaux.com
SUMMARY:Boissinot - Taillez  - Poitiers
DESCRIPTION:OBJETS D’ART\, BEL AMEUBLEMENT & TABLEAUX\nsamedi 06 juillet 2024 13:30\nPoitiers\, 22\, boulevard du Grand-Cerf 86000 Poitiers \nVoir le catalogue de la vente \nSans titre\nHuile sur toile\, signée en bas à gauche.\n55 x 46 cm\n(petits éclats vers le centre et légères craquelures) \n \nPaysage\, 1959\nHuile sur papier marouflé sur toile\, signée en bas à droite.\n46 x 61 cm\n(petits éclats vers le bas au centre)
URL:https://www.cabinetmarechaux.com/index.php/event/boissinot-taillez-poitiers/
CATEGORIES:Ventes à venir
ATTACH;FMTTYPE=image/jpeg:https://www.cabinetmarechaux.com/wp-content/uploads/2024/06/IMG_1798-scaled.jpg
END:VEVENT
END:VCALENDAR