BEGIN:VCALENDAR
VERSION:2.0
PRODID:-//Cabinet Maréchaux - ECPv6.15.20//NONSGML v1.0//EN
CALSCALE:GREGORIAN
METHOD:PUBLISH
X-ORIGINAL-URL:https://www.cabinetmarechaux.com
X-WR-CALDESC:Évènements pour Cabinet Maréchaux
REFRESH-INTERVAL;VALUE=DURATION:PT1H
X-Robots-Tag:noindex
X-PUBLISHED-TTL:PT1H
BEGIN:VTIMEZONE
TZID:Europe/Paris
BEGIN:DAYLIGHT
TZOFFSETFROM:+0100
TZOFFSETTO:+0200
TZNAME:CEST
DTSTART:20230326T010000
END:DAYLIGHT
BEGIN:STANDARD
TZOFFSETFROM:+0200
TZOFFSETTO:+0100
TZNAME:CET
DTSTART:20231029T010000
END:STANDARD
BEGIN:DAYLIGHT
TZOFFSETFROM:+0100
TZOFFSETTO:+0200
TZNAME:CEST
DTSTART:20240331T010000
END:DAYLIGHT
BEGIN:STANDARD
TZOFFSETFROM:+0200
TZOFFSETTO:+0100
TZNAME:CET
DTSTART:20241027T010000
END:STANDARD
BEGIN:DAYLIGHT
TZOFFSETFROM:+0100
TZOFFSETTO:+0200
TZNAME:CEST
DTSTART:20250330T010000
END:DAYLIGHT
BEGIN:STANDARD
TZOFFSETFROM:+0200
TZOFFSETTO:+0100
TZNAME:CET
DTSTART:20251026T010000
END:STANDARD
END:VTIMEZONE
BEGIN:VEVENT
DTSTART;VALUE=DATE:20241009
DTEND;VALUE=DATE:20241010
DTSTAMP:20260422T035127
CREATED:20241001T093817Z
LAST-MODIFIED:20241001T093853Z
UID:3854-1728432000-1728518399@www.cabinetmarechaux.com
SUMMARY:Audap et Associés - Paris
DESCRIPTION:TABLEAUX ANCIENS\, MOBILIER ET OBJETS D’ART\nmercredi 09 octobre 2024 13:30\nSalle 10 – Hôtel Drouot \, 9\, rue Drouot 75009 Paris \nVoir le catalogue \nGeorges STEIN (1864-1917)\nL’avenue des Champs-Elysées\nHuile sur panneau\, signée et titrée Paris en bas à droite\nHaut. : 27 cm ; Larg. : 35 cm
URL:https://www.cabinetmarechaux.com/index.php/event/audap-et-associes-paris-6/
CATEGORIES:Ventes à venir
ATTACH;FMTTYPE=image/png:https://www.cabinetmarechaux.com/wp-content/uploads/2024/10/Capture-decran-2024-10-01-a-11.32.50-1.png
END:VEVENT
END:VCALENDAR