BEGIN:VCALENDAR
VERSION:2.0
PRODID:-//Cabinet Maréchaux - ECPv6.15.20//NONSGML v1.0//EN
CALSCALE:GREGORIAN
METHOD:PUBLISH
X-WR-CALNAME:Cabinet Maréchaux
X-ORIGINAL-URL:https://www.cabinetmarechaux.com
X-WR-CALDESC:Évènements pour Cabinet Maréchaux
REFRESH-INTERVAL;VALUE=DURATION:PT1H
X-Robots-Tag:noindex
X-PUBLISHED-TTL:PT1H
BEGIN:VTIMEZONE
TZID:Europe/Paris
BEGIN:DAYLIGHT
TZOFFSETFROM:+0100
TZOFFSETTO:+0200
TZNAME:CEST
DTSTART:20230326T010000
END:DAYLIGHT
BEGIN:STANDARD
TZOFFSETFROM:+0200
TZOFFSETTO:+0100
TZNAME:CET
DTSTART:20231029T010000
END:STANDARD
BEGIN:DAYLIGHT
TZOFFSETFROM:+0100
TZOFFSETTO:+0200
TZNAME:CEST
DTSTART:20240331T010000
END:DAYLIGHT
BEGIN:STANDARD
TZOFFSETFROM:+0200
TZOFFSETTO:+0100
TZNAME:CET
DTSTART:20241027T010000
END:STANDARD
BEGIN:DAYLIGHT
TZOFFSETFROM:+0100
TZOFFSETTO:+0200
TZNAME:CEST
DTSTART:20250330T010000
END:DAYLIGHT
BEGIN:STANDARD
TZOFFSETFROM:+0200
TZOFFSETTO:+0100
TZNAME:CET
DTSTART:20251026T010000
END:STANDARD
END:VTIMEZONE
BEGIN:VEVENT
DTSTART;VALUE=DATE:20241024
DTEND;VALUE=DATE:20241025
DTSTAMP:20260422T035428
CREATED:20241018T085748Z
LAST-MODIFIED:20241018T085748Z
UID:3883-1729728000-1729814399@www.cabinetmarechaux.com
SUMMARY:Niort - Deux-Sèvres Enchères
DESCRIPTION:Objets d’art et de décoration du XXe siècle \nVoir le catalogue de la vente \nPierre Eugène MONTEZIN (1876-1946)\nPaysage creusois\nHuile sur toile\, signé en bas vers la droite.\n46 x 55 cm\nNous remercions Monsieur Cyril Klein-Montezin de nous avoir aimablement confirmé l’authenticité de cette oeuvre. \n \nGaston BALANDE (1880-1971)\nPort de La Rochelle\, c. 1910\nHuile sur papier marouflé sur toile\, signée en bas à gauche.\n54 x 73 cm\nFigurera au Tome III du Catalogue Raisonné de l’oeuvre de Gaston Balande en préparation par l’Association des Amis de Gaston Balande. Une attestation No 3135 sera remise à l’acquéreur
URL:https://www.cabinetmarechaux.com/index.php/event/niort-deux-sevres-encheres/
LOCATION:HOTEL DES VENTES DE NIORT\, 52 rue de la gare\, NIORT\, 79000
CATEGORIES:Ventes à venir
ATTACH;FMTTYPE=image/jpeg:https://www.cabinetmarechaux.com/wp-content/uploads/2024/10/fullsizeoutput_6aa6.jpeg
END:VEVENT
END:VCALENDAR