BEGIN:VCALENDAR
VERSION:2.0
PRODID:-//Cabinet Maréchaux - ECPv6.15.20//NONSGML v1.0//EN
CALSCALE:GREGORIAN
METHOD:PUBLISH
X-ORIGINAL-URL:https://www.cabinetmarechaux.com
X-WR-CALDESC:Évènements pour Cabinet Maréchaux
REFRESH-INTERVAL;VALUE=DURATION:PT1H
X-Robots-Tag:noindex
X-PUBLISHED-TTL:PT1H
BEGIN:VTIMEZONE
TZID:Europe/Paris
BEGIN:DAYLIGHT
TZOFFSETFROM:+0100
TZOFFSETTO:+0200
TZNAME:CEST
DTSTART:20230326T010000
END:DAYLIGHT
BEGIN:STANDARD
TZOFFSETFROM:+0200
TZOFFSETTO:+0100
TZNAME:CET
DTSTART:20231029T010000
END:STANDARD
BEGIN:DAYLIGHT
TZOFFSETFROM:+0100
TZOFFSETTO:+0200
TZNAME:CEST
DTSTART:20240331T010000
END:DAYLIGHT
BEGIN:STANDARD
TZOFFSETFROM:+0200
TZOFFSETTO:+0100
TZNAME:CET
DTSTART:20241027T010000
END:STANDARD
BEGIN:DAYLIGHT
TZOFFSETFROM:+0100
TZOFFSETTO:+0200
TZNAME:CEST
DTSTART:20250330T010000
END:DAYLIGHT
BEGIN:STANDARD
TZOFFSETFROM:+0200
TZOFFSETTO:+0100
TZNAME:CET
DTSTART:20251026T010000
END:STANDARD
END:VTIMEZONE
BEGIN:VEVENT
DTSTART;VALUE=DATE:20241106
DTEND;VALUE=DATE:20241107
DTSTAMP:20260422T021729
CREATED:20241011T084048Z
LAST-MODIFIED:20241011T090115Z
UID:3871-1730851200-1730937599@www.cabinetmarechaux.com
SUMMARY:Biarritz - Arts classiques
DESCRIPTION:
URL:https://www.cabinetmarechaux.com/index.php/event/biarritz-arts-classiques-2/
CATEGORIES:Ventes à venir
END:VEVENT
BEGIN:VEVENT
DTSTART;VALUE=DATE:20241106
DTEND;VALUE=DATE:20241107
DTSTAMP:20260422T021729
CREATED:20241011T084400Z
LAST-MODIFIED:20241018T090647Z
UID:3875-1730851200-1730937599@www.cabinetmarechaux.com
SUMMARY:Audap et Associés - Paris
DESCRIPTION:TABLEAUX ANCIENS\, MOBILIER & OBJETS D’ART\nmercredi 06 novembre 2024 13:30\nSalle 16 – Hôtel Drouot \, 9\, rue Drouot 75009 Paris \nMargaret DOVATSON (1884-1955)\nLes fumeurs de pipe\nHuile sur panneau\, signée en bas à droite.\nHaut. : 37\,5 cm ; Larg. : 28 cm
URL:https://www.cabinetmarechaux.com/index.php/event/audap-et-associes-paris-7/
CATEGORIES:Ventes à venir
ATTACH;FMTTYPE=image/png:https://www.cabinetmarechaux.com/wp-content/uploads/2024/10/Capture-decran-2024-10-18-a-11.05.44.png
END:VEVENT
END:VCALENDAR