BEGIN:VCALENDAR
VERSION:2.0
PRODID:-//Cabinet Maréchaux - ECPv6.15.20//NONSGML v1.0//EN
CALSCALE:GREGORIAN
METHOD:PUBLISH
X-ORIGINAL-URL:https://www.cabinetmarechaux.com
X-WR-CALDESC:Évènements pour Cabinet Maréchaux
REFRESH-INTERVAL;VALUE=DURATION:PT1H
X-Robots-Tag:noindex
X-PUBLISHED-TTL:PT1H
BEGIN:VTIMEZONE
TZID:Europe/Paris
BEGIN:DAYLIGHT
TZOFFSETFROM:+0100
TZOFFSETTO:+0200
TZNAME:CEST
DTSTART:20230326T010000
END:DAYLIGHT
BEGIN:STANDARD
TZOFFSETFROM:+0200
TZOFFSETTO:+0100
TZNAME:CET
DTSTART:20231029T010000
END:STANDARD
BEGIN:DAYLIGHT
TZOFFSETFROM:+0100
TZOFFSETTO:+0200
TZNAME:CEST
DTSTART:20240331T010000
END:DAYLIGHT
BEGIN:STANDARD
TZOFFSETFROM:+0200
TZOFFSETTO:+0100
TZNAME:CET
DTSTART:20241027T010000
END:STANDARD
BEGIN:DAYLIGHT
TZOFFSETFROM:+0100
TZOFFSETTO:+0200
TZNAME:CEST
DTSTART:20250330T010000
END:DAYLIGHT
BEGIN:STANDARD
TZOFFSETFROM:+0200
TZOFFSETTO:+0100
TZNAME:CET
DTSTART:20251026T010000
END:STANDARD
END:VTIMEZONE
BEGIN:VEVENT
DTSTART;VALUE=DATE:20241120
DTEND;VALUE=DATE:20241121
DTSTAMP:20260422T021849
CREATED:20241107T094623Z
LAST-MODIFIED:20241107T095034Z
UID:3911-1732060800-1732147199@www.cabinetmarechaux.com
SUMMARY:ARP - Paris
DESCRIPTION:DESIGN\nMercredi 20 Novembre 2024 15:00\nParis 75008 \, 174 rue du Faubourg Saint-Honoré 75008 Paris \nVoir le catalogue \nMARIUS BORGEAUD (1861-1924)\n« Intérieur au bouquet et à la fenêtre ouverte »\, Le Faouët\, 1921\nHuile sur toile\, signée en bas à droite\nAn oil on canvas\, signed lower right H 54 x L 65 cm – H 21 1/4 x W 25 5/8 in.\nNous remercions Monsieur Yves Guignard\, secrétaire général de amis de Marius Borgeaud\, des précieux renseignements  qu’il nous a communiqué et de nous avoir confirmé qu’il incluait cette peinture dans la version base de données du  catalogue raisonné de l’artiste. Cette oeuvre est typique des oeuvres réalisées par Marius Borgeaud lors de son séjour au Faouet. On reconnait sur les murs deux images d’Épinal\, la Grande Guerre par Eduardo Benito en 1915 à gauche et Jeanne d’Arc à droite. (Un exemplaire de cette image se trouve toujours dans les archives personnelles de l’artiste).
URL:https://www.cabinetmarechaux.com/index.php/event/arp-paris-4/
CATEGORIES:Ventes à venir
ATTACH;FMTTYPE=image/png:https://www.cabinetmarechaux.com/wp-content/uploads/2024/11/Capture-decran-2024-11-07-a-10.44.32.png
END:VEVENT
BEGIN:VEVENT
DTSTART;VALUE=DATE:20241120
DTEND;VALUE=DATE:20241121
DTSTAMP:20260422T021849
CREATED:20241108T090456Z
LAST-MODIFIED:20241108T094500Z
UID:3926-1732060800-1732147199@www.cabinetmarechaux.com
SUMMARY:Deloys - Angers
DESCRIPTION:Tableaux\, arts d’Asie\, mobilier\, objets d’art\, tapis\, tapisserie \nProvenant de successions et collections particulières \nGustave DORÉ 1832-1883 \nSonge d’une nuit d’été\nAquarelle ovale \, porte le cachet de l’atelier en bas vers la droite\n63 x 80 cm \nProvenance : Vente Gustave Doré\, 10 et 11 avril 1885\, Paris\, Drouot\, probablement n° 86 ou 88
URL:https://www.cabinetmarechaux.com/index.php/event/deloys-angers/
CATEGORIES:Ventes à venir
ATTACH;FMTTYPE=image/jpeg:https://www.cabinetmarechaux.com/wp-content/uploads/2024/11/image0.jpeg
END:VEVENT
END:VCALENDAR