BEGIN:VCALENDAR
VERSION:2.0
PRODID:-//Cabinet Maréchaux - ECPv6.15.20//NONSGML v1.0//EN
CALSCALE:GREGORIAN
METHOD:PUBLISH
X-WR-CALNAME:Cabinet Maréchaux
X-ORIGINAL-URL:https://www.cabinetmarechaux.com
X-WR-CALDESC:Évènements pour Cabinet Maréchaux
REFRESH-INTERVAL;VALUE=DURATION:PT1H
X-Robots-Tag:noindex
X-PUBLISHED-TTL:PT1H
BEGIN:VTIMEZONE
TZID:Europe/Paris
BEGIN:DAYLIGHT
TZOFFSETFROM:+0100
TZOFFSETTO:+0200
TZNAME:CEST
DTSTART:20230326T010000
END:DAYLIGHT
BEGIN:STANDARD
TZOFFSETFROM:+0200
TZOFFSETTO:+0100
TZNAME:CET
DTSTART:20231029T010000
END:STANDARD
BEGIN:DAYLIGHT
TZOFFSETFROM:+0100
TZOFFSETTO:+0200
TZNAME:CEST
DTSTART:20240331T010000
END:DAYLIGHT
BEGIN:STANDARD
TZOFFSETFROM:+0200
TZOFFSETTO:+0100
TZNAME:CET
DTSTART:20241027T010000
END:STANDARD
BEGIN:DAYLIGHT
TZOFFSETFROM:+0100
TZOFFSETTO:+0200
TZNAME:CEST
DTSTART:20250330T010000
END:DAYLIGHT
BEGIN:STANDARD
TZOFFSETFROM:+0200
TZOFFSETTO:+0100
TZNAME:CET
DTSTART:20251026T010000
END:STANDARD
END:VTIMEZONE
BEGIN:VEVENT
DTSTART;VALUE=DATE:20241207
DTEND;VALUE=DATE:20241208
DTSTAMP:20260422T003218
CREATED:20241119T102424Z
LAST-MODIFIED:20241203T085328Z
UID:3939-1733529600-1733615999@www.cabinetmarechaux.com
SUMMARY:Hôtel des ventes Carcassonne Enchères
DESCRIPTION:Belle Vente de Fin d’année\nEXPOSITION : Le vendredi 6 Décembre et  le matin de la vente de 10h00 à 12h00\n30/32 Avenue Franklin Roosevelt \nhref= »https://www.interencheres.com/art-decoration/belle-vente-de-fin-dannee-643139″>Voir le catalogue de la vente \nLot 100\nHenri MARTIN (1860-1943)\n« Jeune femme de profil dans un rayon de soleil »\nHuile sur toile\, signée en bas à droite\, 39 x 46\,5cm.\nNous remercions Madame Marie-Anne Destrebecq-Martin d’avoir verbalement confirmé l’authenticité de cette toile.\nElle pourra délivrer une attestation à la demande et à la charge de l’acquéreur. \n \nMarie LAURENCIN 1883-1956\nJeune fille à l’écharpe bleue\nAquarelle signée en bas vers la droite\n33 x 24 cm\n(Rousseurs visibles)\nProvenance : Galerie Vildrac\, Paris \nCette aquarelle est référencée dans les Archives Marie Laurencin de Monsieur Daniel Marchesseau dont une attestation en date du 20 octobre 2024 sera remise à l’acquéreur.
URL:https://www.cabinetmarechaux.com/index.php/event/hotel-des-ventes-carcassonne-encheres/
CATEGORIES:Ventes à venir
ATTACH;FMTTYPE=image/png:https://www.cabinetmarechaux.com/wp-content/uploads/2024/11/Capture-decran-2024-11-19-a-11.19.44.png
END:VEVENT
END:VCALENDAR