BEGIN:VCALENDAR
VERSION:2.0
PRODID:-//Cabinet Maréchaux - ECPv6.15.20//NONSGML v1.0//EN
CALSCALE:GREGORIAN
METHOD:PUBLISH
X-WR-CALNAME:Cabinet Maréchaux
X-ORIGINAL-URL:https://www.cabinetmarechaux.com
X-WR-CALDESC:Évènements pour Cabinet Maréchaux
REFRESH-INTERVAL;VALUE=DURATION:PT1H
X-Robots-Tag:noindex
X-PUBLISHED-TTL:PT1H
BEGIN:VTIMEZONE
TZID:Europe/Paris
BEGIN:DAYLIGHT
TZOFFSETFROM:+0100
TZOFFSETTO:+0200
TZNAME:CEST
DTSTART:20230326T010000
END:DAYLIGHT
BEGIN:STANDARD
TZOFFSETFROM:+0200
TZOFFSETTO:+0100
TZNAME:CET
DTSTART:20231029T010000
END:STANDARD
BEGIN:DAYLIGHT
TZOFFSETFROM:+0100
TZOFFSETTO:+0200
TZNAME:CEST
DTSTART:20240331T010000
END:DAYLIGHT
BEGIN:STANDARD
TZOFFSETFROM:+0200
TZOFFSETTO:+0100
TZNAME:CET
DTSTART:20241027T010000
END:STANDARD
BEGIN:DAYLIGHT
TZOFFSETFROM:+0100
TZOFFSETTO:+0200
TZNAME:CEST
DTSTART:20250330T010000
END:DAYLIGHT
BEGIN:STANDARD
TZOFFSETFROM:+0200
TZOFFSETTO:+0100
TZNAME:CET
DTSTART:20251026T010000
END:STANDARD
END:VTIMEZONE
BEGIN:VEVENT
DTSTART;VALUE=DATE:20241210
DTEND;VALUE=DATE:20241211
DTSTAMP:20260422T003359
CREATED:20241119T104857Z
LAST-MODIFIED:20241119T104857Z
UID:3942-1733788800-1733875199@www.cabinetmarechaux.com
SUMMARY:Mirabaud - Mercier  - Paris
DESCRIPTION:VENTE BIJOUX – EXTREME-ORIENT – TABLEAUX – SCUPLTURE – MOBILIER ET OBJETS D’ART – TAPIS ET TAPISSERIE – MARDI 10 DECEMBRE\nVente à 14h\, salle 5\, Hôtel Drouot 9 rue Drouot 75009 Paris\nMardi 10 décembre 2024 \n182\nMORET Henry (1856-1913)\nChaumière au bord de la falaise\nHuile sur toile\, signée et datée 1903 en bas à gauche\, porte au verso une étiquette\nbarrée avec un n°7405 et le titre\, un numéro sur le châssis DR 7405 et une étiquette\navec le n° 13344 et le titre du tableau ainsi qu’un n° 4870 sur le châssis\n50\,5 x 61cm\n	Sera inclus dans le catalogue raisonné de l’œuvre d’Henry Moret en préparation\npar Monsieur Jean- Yves Rolland. Un certificat sera remis à l’acquéreur.
URL:https://www.cabinetmarechaux.com/index.php/event/mirabaud-mercier-paris-4/
CATEGORIES:Ventes à venir
ATTACH;FMTTYPE=image/png:https://www.cabinetmarechaux.com/wp-content/uploads/2024/11/Capture-decran-2024-11-19-a-11.43.08.png
END:VEVENT
END:VCALENDAR