BEGIN:VCALENDAR
VERSION:2.0
PRODID:-//Cabinet Maréchaux - ECPv6.15.20//NONSGML v1.0//EN
CALSCALE:GREGORIAN
METHOD:PUBLISH
X-ORIGINAL-URL:https://www.cabinetmarechaux.com
X-WR-CALDESC:Évènements pour Cabinet Maréchaux
REFRESH-INTERVAL;VALUE=DURATION:PT1H
X-Robots-Tag:noindex
X-PUBLISHED-TTL:PT1H
BEGIN:VTIMEZONE
TZID:Europe/Paris
BEGIN:DAYLIGHT
TZOFFSETFROM:+0100
TZOFFSETTO:+0200
TZNAME:CEST
DTSTART:20230326T010000
END:DAYLIGHT
BEGIN:STANDARD
TZOFFSETFROM:+0200
TZOFFSETTO:+0100
TZNAME:CET
DTSTART:20231029T010000
END:STANDARD
BEGIN:DAYLIGHT
TZOFFSETFROM:+0100
TZOFFSETTO:+0200
TZNAME:CEST
DTSTART:20240331T010000
END:DAYLIGHT
BEGIN:STANDARD
TZOFFSETFROM:+0200
TZOFFSETTO:+0100
TZNAME:CET
DTSTART:20241027T010000
END:STANDARD
BEGIN:DAYLIGHT
TZOFFSETFROM:+0100
TZOFFSETTO:+0200
TZNAME:CEST
DTSTART:20250330T010000
END:DAYLIGHT
BEGIN:STANDARD
TZOFFSETFROM:+0200
TZOFFSETTO:+0100
TZNAME:CET
DTSTART:20251026T010000
END:STANDARD
END:VTIMEZONE
BEGIN:VEVENT
DTSTART;VALUE=DATE:20241213
DTEND;VALUE=DATE:20241214
DTSTAMP:20260422T003653
CREATED:20241203T085050Z
LAST-MODIFIED:20241203T085050Z
UID:3962-1734048000-1734134399@www.cabinetmarechaux.com
SUMMARY:Hôtel des ventes Tourny - Emmanuel Layan et associés - Bordeaux
DESCRIPTION:Un appartement bordelais\n13 décembre 2024 à 14h25 \nVoir le catalogue de la vente \nLot 31\nEugène BOUDIN (1824-1898)\n« Jetée d’Honfleur »\nHuile sur panneau\, titrée et datée au revers.\nHaut. 27 cm\, Long. 21 cm.\nNous remercions le comité BOUDIN d’avoir confirmé l’authenticité de l’œuvre.\nLe tableau est visible à notre cabinet\, 30 rue Vaneau\, à Paris\, jusqu’au 09 décembre.
URL:https://www.cabinetmarechaux.com/index.php/event/hotel-des-ventes-tourny-emmanuel-layan-et-associes-bordeaux/
CATEGORIES:Ventes à venir
ATTACH;FMTTYPE=image/png:https://www.cabinetmarechaux.com/wp-content/uploads/2024/12/Capture-decran-2024-12-03-a-09.49.37.png
END:VEVENT
BEGIN:VEVENT
DTSTART;VALUE=DATE:20241213
DTEND;VALUE=DATE:20241214
DTSTAMP:20260422T003653
CREATED:20241203T091926Z
LAST-MODIFIED:20241203T092240Z
UID:3971-1734048000-1734134399@www.cabinetmarechaux.com
SUMMARY:Aponem - Paris
DESCRIPTION:OEUVRES CHOISIES\nHôtel Drouot salle 10\nVendredi 13 décembre 2024 à 14h00 \nLot 190 Jean-Baptiste CARPEAUX (1827-1875)\nSaint-Jean-Baptiste\, jeune garçon vu de dos\nHuile sur toile\, marouflée sur carton\nEsquisse signée\n62 x 73 cm   \nLe tableau est mentionné dans le catalogue raisonné de l’artiste (p.160 au numéro 33)   \nHistorique :\n– 14 décembre 1906\, Paris\, vente atelier Carpeaux\, n°103 (jeune Garçon couché)\, acquis par Louis Vauxcelles\n– 1955\, Paris\, coll. Roger Maire\n– 1956\, acquis par Durand Ruel\n– 1958\, coll. Aubry   \nExpositions :\n– Carpeaux\, Petit Palais\, Paris\, 1955-1956\, n° 137\n– Nice\, n°87\, 1956   \nOEuvre en rapport :\n– Saint Jean-Baptiste de Caravage\, Rome\, Musée Capitolin\, nous constatons une simple analogie de pose\nSource :\n– 1967\, Roche-Pillet\, n°19   \nBIBLIOGRAPHIE\nCatalogue raisonné des peintures de Carpeaux publié dans le catalogue de l’exposition Carpeaux peintre\, (Musée des beaux arts de Valenciennes 8 octobre 1999 – 3 janvier 2000\, Musée du Luxembourg Paris\, 24 janvier – 1 avril 2000 et Van Gogh Museum à Amsterdam\, 21 avril-27 aout 2000)\, décrit et reproduit n° 33\, p.160.  1997\, Fromentin\, p. 335
URL:https://www.cabinetmarechaux.com/index.php/event/aponem-paris-2/
CATEGORIES:Ventes à venir
ATTACH;FMTTYPE=image/png:https://www.cabinetmarechaux.com/wp-content/uploads/2024/12/Capture-decran-2024-12-03-a-10.18.21.png
END:VEVENT
END:VCALENDAR