BEGIN:VCALENDAR
VERSION:2.0
PRODID:-//Cabinet Maréchaux - ECPv6.15.20//NONSGML v1.0//EN
CALSCALE:GREGORIAN
METHOD:PUBLISH
X-WR-CALNAME:Cabinet Maréchaux
X-ORIGINAL-URL:https://www.cabinetmarechaux.com
X-WR-CALDESC:Évènements pour Cabinet Maréchaux
REFRESH-INTERVAL;VALUE=DURATION:PT1H
X-Robots-Tag:noindex
X-PUBLISHED-TTL:PT1H
BEGIN:VTIMEZONE
TZID:Europe/Paris
BEGIN:DAYLIGHT
TZOFFSETFROM:+0100
TZOFFSETTO:+0200
TZNAME:CEST
DTSTART:20240331T010000
END:DAYLIGHT
BEGIN:STANDARD
TZOFFSETFROM:+0200
TZOFFSETTO:+0100
TZNAME:CET
DTSTART:20241027T010000
END:STANDARD
BEGIN:DAYLIGHT
TZOFFSETFROM:+0100
TZOFFSETTO:+0200
TZNAME:CEST
DTSTART:20250330T010000
END:DAYLIGHT
BEGIN:STANDARD
TZOFFSETFROM:+0200
TZOFFSETTO:+0100
TZNAME:CET
DTSTART:20251026T010000
END:STANDARD
BEGIN:DAYLIGHT
TZOFFSETFROM:+0100
TZOFFSETTO:+0200
TZNAME:CEST
DTSTART:20260329T010000
END:DAYLIGHT
BEGIN:STANDARD
TZOFFSETFROM:+0200
TZOFFSETTO:+0100
TZNAME:CET
DTSTART:20261025T010000
END:STANDARD
END:VTIMEZONE
BEGIN:VEVENT
DTSTART;VALUE=DATE:20250116
DTEND;VALUE=DATE:20250118
DTSTAMP:20260421T225045
CREATED:20250109T105103Z
LAST-MODIFIED:20250109T105103Z
UID:3986-1736985600-1737158399@www.cabinetmarechaux.com
SUMMARY:Pau - Journées d'expertise
DESCRIPTION:
URL:https://www.cabinetmarechaux.com/index.php/event/pau-journees-dexpertise/
LOCATION:Hôtel des Ventes de Pau\, 3 allée Catherine de Bourbon\, PAU\, France
CATEGORIES:Journée d'expertise
END:VEVENT
BEGIN:VEVENT
DTSTART;VALUE=DATE:20250117
DTEND;VALUE=DATE:20250119
DTSTAMP:20260421T225045
CREATED:20250109T105228Z
LAST-MODIFIED:20250109T105228Z
UID:3988-1737072000-1737244799@www.cabinetmarechaux.com
SUMMARY:Clermont-Ferrand - Journées d'expertise
DESCRIPTION:
URL:https://www.cabinetmarechaux.com/index.php/event/clermont-ferrand-journees-dexpertise/
LOCATION:Vassy & Courtadon\, 19 rue des Salins\, Clermont-Ferrand\, 60300\, France
CATEGORIES:Journée d'expertise
END:VEVENT
END:VCALENDAR