BEGIN:VCALENDAR
VERSION:2.0
PRODID:-//Cabinet Maréchaux - ECPv6.15.20//NONSGML v1.0//EN
CALSCALE:GREGORIAN
METHOD:PUBLISH
X-WR-CALNAME:Cabinet Maréchaux
X-ORIGINAL-URL:https://www.cabinetmarechaux.com
X-WR-CALDESC:Évènements pour Cabinet Maréchaux
REFRESH-INTERVAL;VALUE=DURATION:PT1H
X-Robots-Tag:noindex
X-PUBLISHED-TTL:PT1H
BEGIN:VTIMEZONE
TZID:Europe/Paris
BEGIN:DAYLIGHT
TZOFFSETFROM:+0100
TZOFFSETTO:+0200
TZNAME:CEST
DTSTART:20240331T010000
END:DAYLIGHT
BEGIN:STANDARD
TZOFFSETFROM:+0200
TZOFFSETTO:+0100
TZNAME:CET
DTSTART:20241027T010000
END:STANDARD
BEGIN:DAYLIGHT
TZOFFSETFROM:+0100
TZOFFSETTO:+0200
TZNAME:CEST
DTSTART:20250330T010000
END:DAYLIGHT
BEGIN:STANDARD
TZOFFSETFROM:+0200
TZOFFSETTO:+0100
TZNAME:CET
DTSTART:20251026T010000
END:STANDARD
BEGIN:DAYLIGHT
TZOFFSETFROM:+0100
TZOFFSETTO:+0200
TZNAME:CEST
DTSTART:20260329T010000
END:DAYLIGHT
BEGIN:STANDARD
TZOFFSETFROM:+0200
TZOFFSETTO:+0100
TZNAME:CET
DTSTART:20261025T010000
END:STANDARD
END:VTIMEZONE
BEGIN:VEVENT
DTSTART;VALUE=DATE:20250409
DTEND;VALUE=DATE:20250410
DTSTAMP:20260421T181106
CREATED:20250331T145736Z
LAST-MODIFIED:20250331T150057Z
UID:4056-1744156800-1744243199@www.cabinetmarechaux.com
SUMMARY:Christies - Paris
DESCRIPTION:20/21 Century Art – Evening Sale – 17h\n9 Avenue Matignon\, Paris \nVoir le calendrier de la vente \nHenri de Toulouse-Lautrec (1864-1901)\nJane Avril au Divan Japonais\ninscrit ‘JAPONAIS’ (en haut à droite)\npeinture à l’essence\, crayon gras et graphite sur carton\n82.5 x 64.5 cm.\nExécuté en 1892 \ninscribed ‘JAPONAIS’ (upper right)\npeinture à l’essence\, wax crayon and pencil on board\n32 ½ x 25 3⁄8 in.\nExecuted in 1892 \nPROVENANCE \nGeorge Viau\, Paris.\nSirapé Sévadijan; sa vente\, Me. Lair-Dubreil\, Paris\, 22 mars 1920\, lot 23.\nJørgen Breder Stang\, Norvège (acquis au cours de cette vente et jusqu’à au moins 1931).\nDr. Alfred Gold\, Berlin et Paris.\nCollection particulière\, Paris (dans les années 1930).\nPuis par descendance au propriétaire actuel. \nBIBLIOGRAPHIE \nG. Coquiot\, H. de Toulouse-Lautrec\, Paris\, 1913\, p. 171 (illustré).\nM. Joyant\, Henri de Toulouse-Lautrec\, Peintre\, Paris\, 1926\, p. 274 (illustré\, p. 187).\nP. de Lapparent\, Toulouse-Lautrec\, Paris\, 1927\, p. 35.\nP. Jamot\, ‘L’art français en Norvège\, Galerie Nationale d’Oslo et collections particulières’ in La Renaissance\, New York et Paris\, février 1929\, No. 2\, p. 100 (illustré\, p. 93).\nJ. Galtier-Boissière\, ‘Poil et Plume’\, in Le Crapouillot\, mai 1931\, p. 38 (illustré).\n‘Toulouse-Lautrec’\, in Vogue\, juin 1931\, p. 59 (illustré).\nE. Schaub Koch\, Psychanalyse d’un peintre moderne\, Henri de Toulouse-Lautrec\, Paris\, 1935\, p. 203.\nJ. Lassaigne\, Toulouse-Lautrec\, Londres\, 1939\, p. 93 (illustré).\nL. Borgese\, Toulouse-Lautrec\, 33 tavole\, Milan\, 1945 (illustré\, pl. XVIII).\nF. Jourdain\, Toulouse-Lautrec\, Lausanne et Paris\, 1948\, pl. 22 (illustré).\nW. Kern\, Toulouse-Lautrec\, Berne\, 1948\, pl. 22 (illustré).\nM. G. Dortu\, Toulouse-Lautrec\, Paris\, 1952\, p. 6.\nE. Julien\, Pour connaître Toulouse-Lautrec\, 1953\, p. 15 (illustré).\nH. Focillon\, Lautrec-Dessins\, Lausanne et Paris\, 1959\, p. 22.\nM. G. Dortu\, Toulouse-Lautrec et son oeuvre\, New York\, 1971\, vol. II\, p. 248\, no. P.420 (illustré\, p. 249).
URL:https://www.cabinetmarechaux.com/index.php/event/christies-paris-ventes-aux-encheres-auction-sales-toulouse-lautrec/
CATEGORIES:Ventes à venir
ATTACH;FMTTYPE=image/png:https://www.cabinetmarechaux.com/wp-content/uploads/2025/03/Capture-decran-2025-03-31-a-16.51.39.png
END:VEVENT
END:VCALENDAR