BEGIN:VCALENDAR
VERSION:2.0
PRODID:-//Cabinet Maréchaux - ECPv6.15.20//NONSGML v1.0//EN
CALSCALE:GREGORIAN
METHOD:PUBLISH
X-ORIGINAL-URL:https://www.cabinetmarechaux.com
X-WR-CALDESC:Évènements pour Cabinet Maréchaux
REFRESH-INTERVAL;VALUE=DURATION:PT1H
X-Robots-Tag:noindex
X-PUBLISHED-TTL:PT1H
BEGIN:VTIMEZONE
TZID:Europe/Paris
BEGIN:DAYLIGHT
TZOFFSETFROM:+0100
TZOFFSETTO:+0200
TZNAME:CEST
DTSTART:20240331T010000
END:DAYLIGHT
BEGIN:STANDARD
TZOFFSETFROM:+0200
TZOFFSETTO:+0100
TZNAME:CET
DTSTART:20241027T010000
END:STANDARD
BEGIN:DAYLIGHT
TZOFFSETFROM:+0100
TZOFFSETTO:+0200
TZNAME:CEST
DTSTART:20250330T010000
END:DAYLIGHT
BEGIN:STANDARD
TZOFFSETFROM:+0200
TZOFFSETTO:+0100
TZNAME:CET
DTSTART:20251026T010000
END:STANDARD
BEGIN:DAYLIGHT
TZOFFSETFROM:+0100
TZOFFSETTO:+0200
TZNAME:CEST
DTSTART:20260329T010000
END:DAYLIGHT
BEGIN:STANDARD
TZOFFSETFROM:+0200
TZOFFSETTO:+0100
TZNAME:CET
DTSTART:20261025T010000
END:STANDARD
END:VTIMEZONE
BEGIN:VEVENT
DTSTART;VALUE=DATE:20250412
DTEND;VALUE=DATE:20250413
DTSTAMP:20260421T181301
CREATED:20250331T151001Z
LAST-MODIFIED:20250331T151355Z
UID:4061-1744416000-1744502399@www.cabinetmarechaux.com
SUMMARY:Briscadieu - Bordeaux
DESCRIPTION:PEINTURES BORDELAISES ET DU SUD OUEST #9\nSamedi 12 Avril 2025 14:00 \nVoir le catalogue de la vente \nCharles LACOSTE 1870-1959\n« Jour orageux sur la ville\, matin d’encre et d’or\, le pont »\, 1897\nHuile sur papier\, signé et daté 1897 en bas à droite. Bordeaux\, Août 1897.\n22 x 23 cm \nProvenance  :\nAncienne collection Gabriel Frizeau\, don de Charles Lacoste en 1898\npar descendance \nExposition :\n– Exposition Charles Lacoste\, Salon des Cent : Revue « La Plume »\, Paris\, 1er octobre – 30 novembre 1898\, n°22 \nBibliographie :\nFrédéric Chappey\, « L’oeuvre de Charles Lacoste\, 1870-1959 »\, Thèse Université de Paris X- Nanterre\, 1981. Décrit sous le n°321 et reproduit sous le n°596. \nCharles LACOSTE 1870-1959 \n« Londres. La Tamise à Battersee. Crépuscule »\, 1901\nHuile sur carton\, signé et daté 1901 en bas à gauche.\n46 x 63 cm \nProvenance :\nAncienne collection Gabriel Frizeau\, don de Charles Lacoste en janvier 1908\, en échange d’un autre tableau du peintre appartenant au collectionneur.\npar descendance \nExpositions :\nExposition Charles Lacoste\, Galerie Druet\, Paris\, janvier 1905\, n°80\nSalon des Indépendants\, Paris\, mars-avril 1907\, n°2814\nCharles Lacoste 60 ans de peinture entre symbolisme et naturalisme\, Paris\, Mairie du XVI° – Beauvais\, Musée départemental de l’Oise et Bordeaux\, Galerie des Beaux-Arts\, 1985\, n°45\, reproduit p.47 du catalogue. \nBibliographie :\nFrédéric Chappey\, « L’oeuvre de Charles Lacoste\, 1870-1959 »\, Thèse Université de Paris X- Nanterre\, 1981. Décrit sous le n°419 bis et reproduit sous le n°556.
URL:https://www.cabinetmarechaux.com/index.php/event/briscadieu-bordeaux-13/
LOCATION:BRISCADIEU BORDEAUX\, 12-14 rue Peyronnet\, Bordeaux\, 33800\, France
CATEGORIES:Ventes à venir
ATTACH;FMTTYPE=image/jpeg:https://www.cabinetmarechaux.com/wp-content/uploads/2025/03/IMG_1962.jpeg
END:VEVENT
END:VCALENDAR