BEGIN:VCALENDAR
VERSION:2.0
PRODID:-//Cabinet Maréchaux - ECPv6.15.20//NONSGML v1.0//EN
CALSCALE:GREGORIAN
METHOD:PUBLISH
X-ORIGINAL-URL:https://www.cabinetmarechaux.com
X-WR-CALDESC:Évènements pour Cabinet Maréchaux
REFRESH-INTERVAL;VALUE=DURATION:PT1H
X-Robots-Tag:noindex
X-PUBLISHED-TTL:PT1H
BEGIN:VTIMEZONE
TZID:Europe/Paris
BEGIN:DAYLIGHT
TZOFFSETFROM:+0100
TZOFFSETTO:+0200
TZNAME:CEST
DTSTART:20240331T010000
END:DAYLIGHT
BEGIN:STANDARD
TZOFFSETFROM:+0200
TZOFFSETTO:+0100
TZNAME:CET
DTSTART:20241027T010000
END:STANDARD
BEGIN:DAYLIGHT
TZOFFSETFROM:+0100
TZOFFSETTO:+0200
TZNAME:CEST
DTSTART:20250330T010000
END:DAYLIGHT
BEGIN:STANDARD
TZOFFSETFROM:+0200
TZOFFSETTO:+0100
TZNAME:CET
DTSTART:20251026T010000
END:STANDARD
BEGIN:DAYLIGHT
TZOFFSETFROM:+0100
TZOFFSETTO:+0200
TZNAME:CEST
DTSTART:20260329T010000
END:DAYLIGHT
BEGIN:STANDARD
TZOFFSETFROM:+0200
TZOFFSETTO:+0100
TZNAME:CET
DTSTART:20261025T010000
END:STANDARD
END:VTIMEZONE
BEGIN:VEVENT
DTSTART;VALUE=DATE:20250622
DTEND;VALUE=DATE:20250623
DTSTAMP:20260421T150432
CREATED:20250620T095946Z
LAST-MODIFIED:20250620T095946Z
UID:4182-1750550400-1750636799@www.cabinetmarechaux.com
SUMMARY:Hôtel des ventes Tourny - Emmanuel Layan  - Bordeaux
DESCRIPTION:Trésors 2025 – Grande vente prestige\nVente à 14h30\n38 Rue Lafaurie de Monbadon\, 33000 Bordeaux \nFrançois BOCION 1828-1890\n« Barque sur le lac Léman »\nHuile sur toile\, signée en bas à droite\, datée 1858 en bas à\ndroite\,\n61 x 38 cm\nNous remercions Monsieur Michel REYMONDIN d’avoir confirmé l’authenticité de cette toile. \nLes barques du Léman sont des navires emblématiques du lac éponyme. Reliant une rive à l’autre avec célérité et sécurité\, elles ont joué un rôle déterminant dans le développement des échanges humains\, sociaux et économiques dans ce milieu lacustre particulier. Elles sont\, toujours aujourd’hui\, les plus grandes embarcations existantes à double voile latine.
URL:https://www.cabinetmarechaux.com/index.php/event/hotel-des-ventes-tourny-emmanuel-layan-bordeaux/
CATEGORIES:Ventes à venir
ATTACH;FMTTYPE=image/png:https://www.cabinetmarechaux.com/wp-content/uploads/2025/06/Capture-decran-2025-06-20-a-11.51.56.png
END:VEVENT
END:VCALENDAR