BEGIN:VCALENDAR
VERSION:2.0
PRODID:-//Cabinet Maréchaux - ECPv6.15.20//NONSGML v1.0//EN
CALSCALE:GREGORIAN
METHOD:PUBLISH
X-WR-CALNAME:Cabinet Maréchaux
X-ORIGINAL-URL:https://www.cabinetmarechaux.com
X-WR-CALDESC:Évènements pour Cabinet Maréchaux
REFRESH-INTERVAL;VALUE=DURATION:PT1H
X-Robots-Tag:noindex
X-PUBLISHED-TTL:PT1H
BEGIN:VTIMEZONE
TZID:Europe/Paris
BEGIN:DAYLIGHT
TZOFFSETFROM:+0100
TZOFFSETTO:+0200
TZNAME:CEST
DTSTART:20240331T010000
END:DAYLIGHT
BEGIN:STANDARD
TZOFFSETFROM:+0200
TZOFFSETTO:+0100
TZNAME:CET
DTSTART:20241027T010000
END:STANDARD
BEGIN:DAYLIGHT
TZOFFSETFROM:+0100
TZOFFSETTO:+0200
TZNAME:CEST
DTSTART:20250330T010000
END:DAYLIGHT
BEGIN:STANDARD
TZOFFSETFROM:+0200
TZOFFSETTO:+0100
TZNAME:CET
DTSTART:20251026T010000
END:STANDARD
BEGIN:DAYLIGHT
TZOFFSETFROM:+0100
TZOFFSETTO:+0200
TZNAME:CEST
DTSTART:20260329T010000
END:DAYLIGHT
BEGIN:STANDARD
TZOFFSETFROM:+0200
TZOFFSETTO:+0100
TZNAME:CET
DTSTART:20261025T010000
END:STANDARD
END:VTIMEZONE
BEGIN:VEVENT
DTSTART;VALUE=DATE:20250630
DTEND;VALUE=DATE:20250702
DTSTAMP:20260421T133157
CREATED:20250620T094621Z
LAST-MODIFIED:20250620T094724Z
UID:4177-1751241600-1751414399@www.cabinetmarechaux.com
SUMMARY:Giquello - Paris
DESCRIPTION:COLLECTION G. H. VAN DEN LOOP – PARTIE I\nLundi 30 Juin 16:00 et mardi 1er juillet 2025 à 14h\nSalle 14-15 – Hôtel Drouot \, 9\, rue Drouot 75009 Paris \nVoir le catalogue de la vente \nLot 13\nJulio GONZALEZ (1876-1942)\nMain aux piquants (ca. 1937)\nÉpreuve en bronze patiné\, fonte à la cire perdue Valsuani (cachet du fondeur)\, signée et numérotée 6/8 H. 23\,7 cm – L. 14\,4 cm – P. 8 cm \nExposition :\n– Galerie Libéral Bruant\, Paris\, « Exposition Julio Gonzalez\, peintures\, dessins\, sculptures »\, 25 novembre 2005 – 4 mars 2006\, n°131\, rep. p. 135 du catalogue\nBibliographie :\n– Jörn Merkert\, Gonzalez\, catalogue raisonné des sculptures\, Electa\, Milan\, 1987\, décrite et un exemplaire du même modèle reproduite sous le n°230\, p. 264\nCatalogue :\n– Louis Deledicq\, Julio Gonzales à la Galerie Libéral Bruant\, Paris\, Héritage Architectural\, 2005\, p. 135\, n°131 \n\nLot 7\nPierre BERGIAN (né en 1965) Chez Pierre LE-TAN à Paris\, 2017 Technique mixte sur panneau\, signé et daté XXVII en bas à droite. Contresigné et situé au verso. 53 x 51 cm
URL:https://www.cabinetmarechaux.com/index.php/event/giquello-paris-11-vente-aux-encheres-expertise/
CATEGORIES:Ventes à venir
ATTACH;FMTTYPE=image/png:https://www.cabinetmarechaux.com/wp-content/uploads/2025/06/Capture-decran-2025-06-20-a-11.37.15.png
END:VEVENT
END:VCALENDAR