BEGIN:VCALENDAR
VERSION:2.0
PRODID:-//Cabinet Maréchaux - ECPv6.15.20//NONSGML v1.0//EN
CALSCALE:GREGORIAN
METHOD:PUBLISH
X-ORIGINAL-URL:https://www.cabinetmarechaux.com
X-WR-CALDESC:Évènements pour Cabinet Maréchaux
REFRESH-INTERVAL;VALUE=DURATION:PT1H
X-Robots-Tag:noindex
X-PUBLISHED-TTL:PT1H
BEGIN:VTIMEZONE
TZID:Europe/Paris
BEGIN:DAYLIGHT
TZOFFSETFROM:+0100
TZOFFSETTO:+0200
TZNAME:CEST
DTSTART:20240331T010000
END:DAYLIGHT
BEGIN:STANDARD
TZOFFSETFROM:+0200
TZOFFSETTO:+0100
TZNAME:CET
DTSTART:20241027T010000
END:STANDARD
BEGIN:DAYLIGHT
TZOFFSETFROM:+0100
TZOFFSETTO:+0200
TZNAME:CEST
DTSTART:20250330T010000
END:DAYLIGHT
BEGIN:STANDARD
TZOFFSETFROM:+0200
TZOFFSETTO:+0100
TZNAME:CET
DTSTART:20251026T010000
END:STANDARD
BEGIN:DAYLIGHT
TZOFFSETFROM:+0100
TZOFFSETTO:+0200
TZNAME:CEST
DTSTART:20260329T010000
END:DAYLIGHT
BEGIN:STANDARD
TZOFFSETFROM:+0200
TZOFFSETTO:+0100
TZNAME:CET
DTSTART:20261025T010000
END:STANDARD
END:VTIMEZONE
BEGIN:VEVENT
DTSTART;VALUE=DATE:20250703
DTEND;VALUE=DATE:20250704
DTSTAMP:20260421T134226
CREATED:20250620T101636Z
LAST-MODIFIED:20250620T101636Z
UID:4186-1751500800-1751587199@www.cabinetmarechaux.com
SUMMARY:Maître Carayol - Biarritz Enchères
DESCRIPTION:COLLECTION MICHEL HOFF\nJeudi 03.07.2025\n6 allée de l’aéropostale 64200 Biarritz \nVoir le catalogue de la vente\nLot 163 – Jean Cocteau (1889-1963)\nJeune homme de profil\nDessin à l’encre de Chine et rehauts de gouache\, signé et dédicacé en bas à droite « à Jean Delon » sur la page de garde Morceaux choisis poèmes\n17\,5 x 11 cm (à vue)\nProvenance : Galerie Estades
URL:https://www.cabinetmarechaux.com/index.php/event/maitre-carayol-biarritz-encheres/
CATEGORIES:Ventes à venir
ATTACH;FMTTYPE=image/jpeg:https://www.cabinetmarechaux.com/wp-content/uploads/2025/06/L3891-93.jpg
END:VEVENT
END:VCALENDAR