BEGIN:VCALENDAR
VERSION:2.0
PRODID:-//Cabinet Maréchaux - ECPv6.15.20//NONSGML v1.0//EN
CALSCALE:GREGORIAN
METHOD:PUBLISH
X-ORIGINAL-URL:https://www.cabinetmarechaux.com
X-WR-CALDESC:Évènements pour Cabinet Maréchaux
REFRESH-INTERVAL;VALUE=DURATION:PT1H
X-Robots-Tag:noindex
X-PUBLISHED-TTL:PT1H
BEGIN:VTIMEZONE
TZID:Europe/Paris
BEGIN:DAYLIGHT
TZOFFSETFROM:+0100
TZOFFSETTO:+0200
TZNAME:CEST
DTSTART:20240331T010000
END:DAYLIGHT
BEGIN:STANDARD
TZOFFSETFROM:+0200
TZOFFSETTO:+0100
TZNAME:CET
DTSTART:20241027T010000
END:STANDARD
BEGIN:DAYLIGHT
TZOFFSETFROM:+0100
TZOFFSETTO:+0200
TZNAME:CEST
DTSTART:20250330T010000
END:DAYLIGHT
BEGIN:STANDARD
TZOFFSETFROM:+0200
TZOFFSETTO:+0100
TZNAME:CET
DTSTART:20251026T010000
END:STANDARD
BEGIN:DAYLIGHT
TZOFFSETFROM:+0100
TZOFFSETTO:+0200
TZNAME:CEST
DTSTART:20260329T010000
END:DAYLIGHT
BEGIN:STANDARD
TZOFFSETFROM:+0200
TZOFFSETTO:+0100
TZNAME:CET
DTSTART:20261025T010000
END:STANDARD
END:VTIMEZONE
BEGIN:VEVENT
DTSTART;VALUE=DATE:20250710
DTEND;VALUE=DATE:20250711
DTSTAMP:20260421T133448
CREATED:20250707T101143Z
LAST-MODIFIED:20250707T103707Z
UID:4199-1752105600-1752191999@www.cabinetmarechaux.com
SUMMARY:Hôtel des ventes de Clermont-Ferrand
DESCRIPTION:VERRERIES – TABLEAUX MODERNES – SCULPTURES\nLive\n10 juillet 2025 à 14h30\n63400 Chamalières – France \nVoir le catalogue sur Interenchères \nOGUISS Tanakori (1901 – 1986)\nVenise\,\nHuile sur toile\, signée en bas à droite\n46 x 55 cm
URL:https://www.cabinetmarechaux.com/index.php/event/hotel-des-ventes-de-clermont-ferrand-4/
LOCATION:CHAMALIERES (63400)\, Salle du carrefour Europe - avenue de Fontmaure-\, CHAMALIERES\, 63400\, France
CATEGORIES:Ventes à venir
ATTACH;FMTTYPE=image/png:https://www.cabinetmarechaux.com/wp-content/uploads/2025/07/Capture-decran-2025-07-07-a-12.10.25.png
END:VEVENT
END:VCALENDAR