BEGIN:VCALENDAR
VERSION:2.0
PRODID:-//Cabinet Maréchaux - ECPv6.15.20//NONSGML v1.0//EN
CALSCALE:GREGORIAN
METHOD:PUBLISH
X-WR-CALNAME:Cabinet Maréchaux
X-ORIGINAL-URL:https://www.cabinetmarechaux.com
X-WR-CALDESC:Évènements pour Cabinet Maréchaux
REFRESH-INTERVAL;VALUE=DURATION:PT1H
X-Robots-Tag:noindex
X-PUBLISHED-TTL:PT1H
BEGIN:VTIMEZONE
TZID:Europe/Paris
BEGIN:DAYLIGHT
TZOFFSETFROM:+0100
TZOFFSETTO:+0200
TZNAME:CEST
DTSTART:20250330T010000
END:DAYLIGHT
BEGIN:STANDARD
TZOFFSETFROM:+0200
TZOFFSETTO:+0100
TZNAME:CET
DTSTART:20251026T010000
END:STANDARD
BEGIN:DAYLIGHT
TZOFFSETFROM:+0100
TZOFFSETTO:+0200
TZNAME:CEST
DTSTART:20260329T010000
END:DAYLIGHT
BEGIN:STANDARD
TZOFFSETFROM:+0200
TZOFFSETTO:+0100
TZNAME:CET
DTSTART:20261025T010000
END:STANDARD
BEGIN:DAYLIGHT
TZOFFSETFROM:+0100
TZOFFSETTO:+0200
TZNAME:CEST
DTSTART:20270328T010000
END:DAYLIGHT
BEGIN:STANDARD
TZOFFSETFROM:+0200
TZOFFSETTO:+0100
TZNAME:CET
DTSTART:20271031T010000
END:STANDARD
END:VTIMEZONE
BEGIN:VEVENT
DTSTART;VALUE=DATE:20260423
DTEND;VALUE=DATE:20260424
DTSTAMP:20260423T013954
CREATED:20260420T093249Z
LAST-MODIFIED:20260420T093249Z
UID:4400-1776902400-1776988799@www.cabinetmarechaux.com
SUMMARY:BIARRITZ ENCHERES
DESCRIPTION:ARTS CLASSIQUES\nJeudi 23.04.2026 à 14h30\n6 allée de l’aéropostale 64200 Biarritz \nLOT 87 \nEugène DELACROIX (1798-1863)\n« Étude de paysage »\nHuile sur carton\nPorte au verso le cachet de cire de la vente Delacroix\n42 x 34 cm \nProvenance :\nProbablement partie du n° 219 de la vente par suite du décès d’Eugène Delacroix\, 17\, 18 et 19 février 1864.
URL:https://www.cabinetmarechaux.com/index.php/event/biarritz-encheres-9/
CATEGORIES:Ventes à venir
ATTACH;FMTTYPE=image/png:https://www.cabinetmarechaux.com/wp-content/uploads/2026/04/Capture-decran-2026-04-20-a-11.30.57.png
END:VEVENT
END:VCALENDAR