BEGIN:VCALENDAR
VERSION:2.0
PRODID:-//Cabinet Maréchaux - ECPv6.15.20//NONSGML v1.0//EN
CALSCALE:GREGORIAN
METHOD:PUBLISH
X-ORIGINAL-URL:https://www.cabinetmarechaux.com
X-WR-CALDESC:Évènements pour Cabinet Maréchaux
REFRESH-INTERVAL;VALUE=DURATION:PT1H
X-Robots-Tag:noindex
X-PUBLISHED-TTL:PT1H
BEGIN:VTIMEZONE
TZID:Europe/Paris
BEGIN:DAYLIGHT
TZOFFSETFROM:+0100
TZOFFSETTO:+0200
TZNAME:CEST
DTSTART:20220327T010000
END:DAYLIGHT
BEGIN:STANDARD
TZOFFSETFROM:+0200
TZOFFSETTO:+0100
TZNAME:CET
DTSTART:20221030T010000
END:STANDARD
BEGIN:DAYLIGHT
TZOFFSETFROM:+0100
TZOFFSETTO:+0200
TZNAME:CEST
DTSTART:20230326T010000
END:DAYLIGHT
BEGIN:STANDARD
TZOFFSETFROM:+0200
TZOFFSETTO:+0100
TZNAME:CET
DTSTART:20231029T010000
END:STANDARD
BEGIN:DAYLIGHT
TZOFFSETFROM:+0100
TZOFFSETTO:+0200
TZNAME:CEST
DTSTART:20240331T010000
END:DAYLIGHT
BEGIN:STANDARD
TZOFFSETFROM:+0200
TZOFFSETTO:+0100
TZNAME:CET
DTSTART:20241027T010000
END:STANDARD
END:VTIMEZONE
BEGIN:VEVENT
DTSTART;VALUE=DATE:20230309
DTEND;VALUE=DATE:20230310
DTSTAMP:20260426T052812
CREATED:20230213T151252Z
LAST-MODIFIED:20230214T103247Z
UID:2779-1678320000-1678406399@www.cabinetmarechaux.com
SUMMARY:Nîmes
DESCRIPTION:Objets d’art – tableaux – bijoux – mobilier \n  \nLien vers le site de la vente \nhttps://www.interencheres.com/meubles-objets-art/vente-dobjets-dart-tableaux-mobilier-et-bijoux-605033/
URL:https://www.cabinetmarechaux.com/index.php/event/nimes/
LOCATION:HOTEL DES VENTES DE NIMES\, 21 rue de l'Agau\, NIMES\, 30000\, France
CATEGORIES:Ventes à venir
ATTACH;FMTTYPE=image/jpeg:https://www.cabinetmarechaux.com/wp-content/uploads/2023/02/20230201_092243.jpeg
END:VEVENT
BEGIN:VEVENT
DTSTART;VALUE=DATE:20230314
DTEND;VALUE=DATE:20230315
DTSTAMP:20260426T052812
CREATED:20230307T102454Z
LAST-MODIFIED:20230307T102454Z
UID:2810-1678752000-1678838399@www.cabinetmarechaux.com
SUMMARY:Giquello - Paris
DESCRIPTION:ARTS D’AFRIQUE ET D’OCÉANIE – UNE COLLECTION FRANÇAISE\nMardi 14 Mars 2023 15:00\nSalle 7 – 9\, rue Drouot – 75009 Paris\n\nEXPOSITION PUBLIQUE : \nHôtel Drouot – salle 7 \nSamedi 11 et lundi 13 mars de 11h à 18h \nMardi 14 mars de 11h à 12h \n\nFrancis PICABIA (1879-1953)\nSans titre\, Transparence \, circa 1929-1930 Dessin à la plume et au lavis\, signé en bas à gauche 26\,5 x 18\,5 cm Un certificat d’Olga Picabia non daté sera remis à l’acquéreur La statue Fang représentée ici par Francis Picabia est aujourd’hui l’un des objets les plus célèbre de l’art africain. Mais ce n’est pas encore le cas lorsque l’artiste choisit cette sculpture pour sa composition en 1929-1930. Elle appartient alors au peintre et collectionneur parisien Georges de Miré (1899-1965)\, véritable pionnier dans la découverte de l’art « nègre ». De Miré constitua dès avant la première guerre et jusque vers 1930 la plus extraordinaire collection d’art africain et océanien de son temps. Poussé à la faillite par des investissements malheureux\, de Miré est contraint de vendre toute sa collection aux enchères en 1931 à Drouot et c’est le sculpteur américain Jacob Epstein qui fait alors l’acquisition de la statue Fang. Elle passera plus tard entre les mains du célèbre collectionneur Carlo Monzino\, avant d’être acquise par la Fondation Dapper\, qui la détient aujourd’hui. A la manière de Man Ray dont les clichés des années 1920-1930 montrent des femmes blanches plus ou moins dénudées posant à côté d’objets africains\, Picabia reprend ici ce thème cher aux primitivistes en le traduisant dans sa veine propre\, celle d’une Transparence superposant plusieurs images dont la mise en relation n’est pas fortuite. L’artiste montre l’idéalisation d’une féminité éprouvée par-delà les continents et les cultures\, mais aussi l’ambiguïté des corps et de leur nudité\, où se mêlent le sacré et le profane\, la spiritualité et l’érotisme.\n\n\n\n\n\nFrancis PICABIA (1879-1953)\nLa danse de Salomé\, 1939 Dessin au fusain et à l’estompe signé en bas à gauche 42 x 29\,5 la feuille (38 x 27 à vue) Un certificat d’Olga Picabia du 4 avril 1985 sera remis à l’acquéreur
URL:https://www.cabinetmarechaux.com/index.php/event/giquello-paris/
CATEGORIES:Ventes à venir
ATTACH;FMTTYPE=image/png:https://www.cabinetmarechaux.com/wp-content/uploads/2023/03/Capture-decran-2023-03-07-a-11.21.17.png
END:VEVENT
BEGIN:VEVENT
DTSTART;VALUE=DATE:20230318
DTEND;VALUE=DATE:20230319
DTSTAMP:20260426T052812
CREATED:20230307T095712Z
LAST-MODIFIED:20230307T095831Z
UID:2802-1679097600-1679183999@www.cabinetmarechaux.com
SUMMARY:Fontainebleau - Osenat
DESCRIPTION:L’ESPRIT DU XIXE SIÈCLE\nSamedi 18 Mars 2023 14:00\n\n\nExpositions publiques : \nJeudi 16 mars 14h à 18h \nVendredi 17 mars : 10h à 13h et de 14h à 18h \nSamedi 18 mars : 10h à 12h \n\n  \n  \nAurore DUPIN dite George SAND \n1804-1876 \nPaysage inachevé – avec mer et fortification \nDendrite \n7\,5 x 9\,5 cm \nBibliographie :  Christian Bernadac\, George Sand\, dessins et aquarelles\, Editions Pierre Belfond\, 1992\, n° 270\, p.178
URL:https://www.cabinetmarechaux.com/index.php/event/fontainebleau-osenat-6/
LOCATION:Fontainebleau\, 9-11\, rue Royale\, Fontainebleau\, 77300
CATEGORIES:Ventes à venir
ATTACH;FMTTYPE=image/jpeg:https://www.cabinetmarechaux.com/wp-content/uploads/2023/03/IMG_3754-scaled.jpg
END:VEVENT
BEGIN:VEVENT
DTSTART;VALUE=DATE:20230319
DTEND;VALUE=DATE:20230320
DTSTAMP:20260426T052812
CREATED:20230307T100341Z
LAST-MODIFIED:20230307T100341Z
UID:2807-1679184000-1679270399@www.cabinetmarechaux.com
SUMMARY:Versailles - Osenat
DESCRIPTION:ART MODERNE ET CONTEMPORAIN\nDimanche 19 Mars 2023 14:00\n\nExpositions : \nVendredi 17 mars de 14h à 17h \nSamedi 18 mars de 10h à 13h et de 14h à 17h \nDimanche 19 mars de 10h à 12h \n\nJean-Michel ATLAN \n1913-1960 \nSans titre\, 1955 \nPastel  \nsigné en bas à droite.  \n55 x 48 cm \nBibliographie :  \n– POLIERI Jacques\, WHITE Kenneth\, BONFAND Alain\, Atlan Catalogue raisonné de l’oeuvre complet\, Paris\, Gallimard\, 1996\, p. 512-513\, n°1311.
URL:https://www.cabinetmarechaux.com/index.php/event/versailles-osenat-4/
LOCATION:VERSAILLES Hotel des ventes du chateau\, 13 avenue de Saint-Cloud\, Versailles\, 78000
CATEGORIES:Ventes à venir
ATTACH;FMTTYPE=image/png:https://www.cabinetmarechaux.com/wp-content/uploads/2023/03/Capture-decran-2023-03-07-a-11.01.44.png
END:VEVENT
BEGIN:VEVENT
DTSTART;VALUE=DATE:20230320
DTEND;VALUE=DATE:20230321
DTSTAMP:20260426T052812
CREATED:20230307T095026Z
LAST-MODIFIED:20230307T095026Z
UID:2797-1679270400-1679356799@www.cabinetmarechaux.com
SUMMARY:Aponem
DESCRIPTION:– Vente de l’atelier d’Olivier Mattei – Deuxième partie \nOlivier Mattei \n1963 (Bourg-de-péage\, Drôme) – 2022 (Paris) \n \n « Quand on travaille pour plaire aux autres\, on peut ne pas réussir\, mais les choses qu’on a faites pour se contenter soi-même ont toujours chance d’intéresser quelqu’un » (John Ruskin) \n« Aucun homme n’est une ile » (John Donne) \nEléments de biographie. \nOlivier Mattei était originaire de la Drôme\, où il a vécu jusqu’au début des années 1990. Ses ascendances sont Corse (où il se rendra chaque année)\, et Italienne. Après de brillantes études secondaires\, il obtient en 1986 une Maitrise en droit publique de l’Université de Grenoble. Il intègre par la suite la Mutuelle Générale de l’Environnement et Territoires (MGET) pendant 30 ans (1995-2015)\, en tant que chef de cabinet\, puis la MGEN\, jusqu’à son décès. \nAutodidacte\, Olivier a toujours dessiné ou peint. Il a travaillé avec la plupart des médiums (gouache\, aquarelle\, pastel\, huile). Il réalisait également des sculptures\, des mobiles. \nA l’âge de 14-15 ans\, inspiré par des dessinateurs comme Ph. Druillet\, Moebius\, Tardi\, Franquin (période « Idées Noires »)\, il créait ses propres bandes dessinées. \n           \nDessins (encre de Chine) selon Moebius et Druillet (1978) \nA la fin de l’adolescence il commence à travailler à la peinture à l’huile\, s’inspirant notamment des représentations de paysages de la Drôme de P.Palué.  \nPar la suite\, attiré par les œuvres des maitres Flamands du 17ème puis par C. D. Friedrich\, son travail s’est orienté vers la représentation de paysages (campagnards\, maritimes\, urbains) chargés de cieux tantôt clairs et lumineux\, tantôt sombres et lourds\, enfumés. Sur ce chapitre de la peinture des cieux une influence plus tardive fut celle de Turner. 
URL:https://www.cabinetmarechaux.com/index.php/event/aponem/
LOCATION:APONEM\, Hôtel des ventes de CERGY-PONTOISE 41 rue des Fossettes\, Génicourt –\, 95650\, France
CATEGORIES:Ventes à venir
ATTACH;FMTTYPE=image/jpeg:https://www.cabinetmarechaux.com/wp-content/uploads/2023/03/IMG_2867.jpg
END:VEVENT
BEGIN:VEVENT
DTSTART;VALUE=DATE:20230321
DTEND;VALUE=DATE:20230322
DTSTAMP:20260426T052812
CREATED:20230307T103349Z
LAST-MODIFIED:20230307T103349Z
UID:2814-1679356800-1679443199@www.cabinetmarechaux.com
SUMMARY:Giquello - Paris
DESCRIPTION:ARTS DU XXE SIÈCLE – DESIGN\nMardi 21 Mars 2023 14:00\nSalle 14 & 15 – 9\, rue Drouot – 75009 Paris\n\n\nCÉSAR (1921-1998)\nBicou de Pino\, 1987 Épreuve en bronze patiné\, signée et numérotée 3/8\, Bocquel fondeur H. 94 cm Les poules\, en ferraille\, apparaissent dans le bestiaire de César dès la fin des années 50. Dans les années 80 ce sujet revient avec de nombreuses œuvres \, tant en sculpture qu’en dessin\, et l’on en retrouve plusieurs chaussées de patins à roulettes. A chacune il donne un nom\, Anna\, Claire\, Odile… Nous remercions Madame Denise Durand-Ruel de nous avoir précisé que cette sculpture conçue en fer en 1987\, avait été éditée en bronze en 1988. Elle est référencée dans ses archives sous le n°3301. Provenance : Collection particulière\n\n\n\n\n\n\nFernandez ARMAN (1828-2005)\nApollo\, the Offering\, 1986 Épreuve en bronze patiné signée\, numérotée EA 2/2\, bocquel Fd H. 222 cm Copie de statue antique (Apollon)\, découpée et réassemblée. Cette oeuvre\, de la série « Gods and godesses »\, a été éditée à trois exemplaires\, deux épreuves d’artiste\, numérotées 1/2 et 2/2 et une épreuve hors commerce Cette oeuvre est enregistrée dans les archives de la fondation A.R.M.A.N sous le n° ARM 132972 Provenance : Galerie Jean-Pierre Lavigne Collection particulière Bibliographie : Pierre Nahon\, l’Histoire de la galerie Beaubourg II\, 1988-1994\, Paris 2009\, p. 45\, un autre exemplaire reproduit.\n\n\n\n\n\n\n\n\n\nFernandez ARMAN (1928-2005)\nUP LIBRIS\, 1988 Accumulation de livres Épreuve en bronze doré\, signé et numéroté EA 4/12 H. 24 cm Provenance : Collection particulière Référencé dans les archives A.R.M.A.N sous le n°000916
URL:https://www.cabinetmarechaux.com/index.php/event/giquello-paris-2/
CATEGORIES:Ventes à venir
ATTACH;FMTTYPE=image/png:https://www.cabinetmarechaux.com/wp-content/uploads/2023/03/Capture-decran-2023-03-07-a-11.29.27.png
END:VEVENT
BEGIN:VEVENT
DTSTART;VALUE=DATE:20230322
DTEND;VALUE=DATE:20230323
DTSTAMP:20260426T052812
CREATED:20230320T162457Z
LAST-MODIFIED:20230320T162457Z
UID:2819-1679443200-1679529599@www.cabinetmarechaux.com
SUMMARY:Toulouse
DESCRIPTION:TABLEAUX et DESSINS ANCIENS\, TABLEAUX MODERNES\, ARMES ANCIENNES et SOUVENIRS HISTORIQUES – COIFFURES\, UNIFORMES\, SABRES\, EPEES\, PISTOLETS\, REVOLVERS\, CASQUES\, KEPIS\, BICORNE… \nAdresse : 6 rue Urbain Vitry\, 31000 Toulouse \nExpositions : Mercredi 22 mars de 10h à 12h et de 14h à 18h et Jeudi 23 mars de 9h à 11h30 \nContact : M° Guillaume Cortès \ncortes@fourniecortes.com \n05.34.44.12.92 \n\nHenri LE SIDANER (1862-1939) Les maisons et l’église au bord de l’eau Huile sur panneau signée en bas à droite 16 x 24 cm Peint à Saint-Servan en 1913. Figurera au supplément du catalogue raisonné « le Sidaner\, l’oeuvre peint et gravé » en préparation par Yann Farino le Sidaner. Un certificat de ce dernier n°LS546 en date du 27 février 2020 sera remis à l’acquéreur.
URL:https://www.cabinetmarechaux.com/index.php/event/toulouse/
CATEGORIES:Ventes à venir
ATTACH;FMTTYPE=image/png:https://www.cabinetmarechaux.com/wp-content/uploads/2023/03/Capture-decran-2023-03-20-a-17.24.15.png
END:VEVENT
BEGIN:VEVENT
DTSTART;VALUE=DATE:20230328
DTEND;VALUE=DATE:20230329
DTSTAMP:20260426T052812
CREATED:20230326T092619Z
LAST-MODIFIED:20230327T144125Z
UID:2832-1679961600-1680047999@www.cabinetmarechaux.com
SUMMARY:COUTAU-BÉGARIE & ASSOCIÉS - PARIS
DESCRIPTION:Provenances & Collections \n  \nLot 79 Paul HUET \nHuile sur toile\, signée en bas à gauche\n27 x 40\,5 cm \nRépertorié dans les archives d’Elisabeth Maréchaux Laurentin en vue de la publication du catalogue raisonné de Paul HUET
URL:https://www.cabinetmarechaux.com/index.php/event/coutau-begarie-associes/
LOCATION:Hotel Drouot salles 14 et 15
ATTACH;FMTTYPE=image/jpeg:https://www.cabinetmarechaux.com/wp-content/uploads/2023/03/IMG_5640-scaled.jpg
END:VEVENT
BEGIN:VEVENT
DTSTART;VALUE=DATE:20230331
DTEND;VALUE=DATE:20230401
DTSTAMP:20260426T052812
CREATED:20230324T101209Z
LAST-MODIFIED:20230327T144112Z
UID:2822-1680220800-1680307199@www.cabinetmarechaux.com
SUMMARY:GIQUELLO et ASSOCIES -  PARIS
DESCRIPTION:DESSINS\, TABLEAUX ANCIENS ET MODERNES – MINIATURES – OBJETS DE VITRINE – BIJOUX – MOBILIER ET OBJETS D’ART\nVendredi 31 Mars 2023 13:30\nSalle 7 – 9\, rue Drouot – 75009 Paris\n\n\nGeorges ROCHEGROSSE 1859-1938 \nPillage d’une villa gallo-romaine par les Huns \nHuile sur toile\, signée et datée 1894 en bas à droite \n50 x 73 cm \nAnnoté au verso du chassis : Appartient à Celle Teyssier de Rauschenberg\, St Gerand le Puy Allier et titré sur le cadre au verso \nProvenance : Melle Tessier de Rauschenberg Galerie des Saint-Pères\, Paris Collection particulière\, Paris Exposition : \nMoulins\, Exposition artistique bourbonnaise du 14 au 29 mars 1925\, n° 252 \nNous remercions Monsieur Laurent Houssais de nous avoir aimablement précisé la présence de notre version du tableau dans cette exposition à Moulins en 1925. Il s’agit de l’une des réplique ou reprise avec variante du tableau exposé au salon de 1893\, n°1527
URL:https://www.cabinetmarechaux.com/index.php/event/giquello-paris-3/
LOCATION:DROUOT RICHELIEU\, 9 rue Drouot\, PARIS\, 75009
CATEGORIES:Ventes à venir
ATTACH;FMTTYPE=image/jpeg:https://www.cabinetmarechaux.com/wp-content/uploads/2023/03/IMG_3235.jpg
END:VEVENT
BEGIN:VEVENT
DTSTART;VALUE=DATE:20230331
DTEND;VALUE=DATE:20230401
DTSTAMP:20260426T052812
CREATED:20230327T143710Z
LAST-MODIFIED:20230327T143710Z
UID:2838-1680220800-1680307199@www.cabinetmarechaux.com
SUMMARY:MORAND et MORAND - Paris
DESCRIPTION:INTERIEUR PARISIEN VIIIÈME\nJeudi 30 Mars 2023 14:00\n\nMaximilienne GUYON 1868-1903 \nÉlégante au bouquet de violette Huile sur toile\, signée en haut à droite \nDimensions : 73 x 60 cm Dimensions avec cadre : 89 x 76 cm \n(rentoilé\, repeints visibles à la lampe de Wood)
URL:https://www.cabinetmarechaux.com/index.php/event/morand-et-morand-paris/
CATEGORIES:Ventes à venir
ATTACH;FMTTYPE=image/png:https://www.cabinetmarechaux.com/wp-content/uploads/2023/03/Capture-decran-2023-03-27-a-16.35.08.png
END:VEVENT
END:VCALENDAR