BEGIN:VCALENDAR
VERSION:2.0
PRODID:-//Cabinet Maréchaux - ECPv6.15.20//NONSGML v1.0//EN
CALSCALE:GREGORIAN
METHOD:PUBLISH
X-WR-CALNAME:Cabinet Maréchaux
X-ORIGINAL-URL:https://www.cabinetmarechaux.com
X-WR-CALDESC:Évènements pour Cabinet Maréchaux
REFRESH-INTERVAL;VALUE=DURATION:PT1H
X-Robots-Tag:noindex
X-PUBLISHED-TTL:PT1H
BEGIN:VTIMEZONE
TZID:Europe/Paris
BEGIN:DAYLIGHT
TZOFFSETFROM:+0100
TZOFFSETTO:+0200
TZNAME:CEST
DTSTART:20220327T010000
END:DAYLIGHT
BEGIN:STANDARD
TZOFFSETFROM:+0200
TZOFFSETTO:+0100
TZNAME:CET
DTSTART:20221030T010000
END:STANDARD
BEGIN:DAYLIGHT
TZOFFSETFROM:+0100
TZOFFSETTO:+0200
TZNAME:CEST
DTSTART:20230326T010000
END:DAYLIGHT
BEGIN:STANDARD
TZOFFSETFROM:+0200
TZOFFSETTO:+0100
TZNAME:CET
DTSTART:20231029T010000
END:STANDARD
BEGIN:DAYLIGHT
TZOFFSETFROM:+0100
TZOFFSETTO:+0200
TZNAME:CEST
DTSTART:20240331T010000
END:DAYLIGHT
BEGIN:STANDARD
TZOFFSETFROM:+0200
TZOFFSETTO:+0100
TZNAME:CET
DTSTART:20241027T010000
END:STANDARD
END:VTIMEZONE
BEGIN:VEVENT
DTSTART;VALUE=DATE:20230701
DTEND;VALUE=DATE:20230702
DTSTAMP:20260425T233036
CREATED:20230623T132701Z
LAST-MODIFIED:20230623T135024Z
UID:3227-1688169600-1688255999@www.cabinetmarechaux.com
SUMMARY:Ardennes enchères
DESCRIPTION:Vente classique à Charleville – objets d’art – tableaux – mobiliers \nsamedi 1 juillet 2023 à 14:00 \nCharles CAMOIN (1879-1965) « Violoncelliste »\, circa 1958 \nHuile sur toile\, signée en bas à gauche \n(65 x 50 cm)
URL:https://www.cabinetmarechaux.com/index.php/event/ardennes-encheres/
ATTACH;FMTTYPE=image/jpeg:https://www.cabinetmarechaux.com/wp-content/uploads/2023/06/IMG_7808.jpg
END:VEVENT
BEGIN:VEVENT
DTSTART;VALUE=DATE:20230704
DTEND;VALUE=DATE:20230705
DTSTAMP:20260425T233036
CREATED:20230623T134421Z
LAST-MODIFIED:20230623T135005Z
UID:3235-1688428800-1688515199@www.cabinetmarechaux.com
SUMMARY:APONEM - Hotel des ventes de Cergy-Pontoise
DESCRIPTION:Atelier Tony Gonnet \nmardi 4 Juillet à 14H
URL:https://www.cabinetmarechaux.com/index.php/event/aponem-hotel-des-ventes-de-cergy-pontoise/
ATTACH;FMTTYPE=image/jpeg:https://www.cabinetmarechaux.com/wp-content/uploads/2023/06/IMG_3834-scaled-e1687527334617.jpg
END:VEVENT
BEGIN:VEVENT
DTSTART;VALUE=DATE:20230707
DTEND;VALUE=DATE:20230708
DTSTAMP:20260425T233036
CREATED:20230623T131158Z
LAST-MODIFIED:20230623T131905Z
UID:3218-1688688000-1688774399@www.cabinetmarechaux.com
SUMMARY:Brissonneau
DESCRIPTION:Livres anciens et modernes\, Tableaux anciens et modernes\, \nMeubles et Objets d’art \nVendredi 7 juillet \n\n\n\n\n\n\n\n\nMarcel COSSON (1878-1956) \nFemme à sa toilette \nHuile sur carton\, signée en bas à droite. 46 x 33 cm \n\n\n	\n\n        Elisée MACLET\n\n		\n        \n        \n            \n        \n	    \n         \n\n        \n\n            \n                \n                    \n                \n            \n\n            \n                \n                    \n                \n            \n\n            \n                Image                1                parmi                5            \n\n            \n                Elisée MACLET (1881-1962)\nEglise et marché en Normandie\nHuile sur carton\, signée en bas à droite.\n46 x 54 cm \nBibliographie: Jean Cottel et Marcel Guicheteau\, Elisée Maclet\, la vie et l’œuvre\, Paris 1882\, n°283\, décrit et reproduit. \n            \n\n        \n    \n\n\n\n 
URL:https://www.cabinetmarechaux.com/index.php/event/brissonneau-5/
ATTACH;FMTTYPE=image/jpeg:https://www.cabinetmarechaux.com/wp-content/uploads/2023/06/IMG_7270-scaled.jpg
END:VEVENT
BEGIN:VEVENT
DTSTART;VALUE=DATE:20230722
DTEND;VALUE=DATE:20230723
DTSTAMP:20260425T233036
CREATED:20230703T142457Z
LAST-MODIFIED:20230703T142457Z
UID:3325-1689984000-1690070399@www.cabinetmarechaux.com
SUMMARY:Pau - Carrère et Laborie
DESCRIPTION:Vente de prestige \n\n\n	\n\n        Ivan CHOULTSE 1874-1939\n\n		\n        \n        \n            \n        \n	    \n         \n\n        \n\n            \n                \n                    \n                \n            \n\n            \n                \n                    \n                \n            \n\n            \n                Image                1                parmi                2            \n\n            \n                Paysage de neige\nHuile sur toile\, signée en bas\, à droite\n51 x 61 cm
URL:https://www.cabinetmarechaux.com/index.php/event/pau-carrere-et-laborie-5/
LOCATION:Hôtel des Ventes de Pau\, 3 allée Catherine de Bourbon\, PAU\, France
CATEGORIES:Ventes à venir
ATTACH;FMTTYPE=image/jpeg:https://www.cabinetmarechaux.com/wp-content/uploads/2023/07/IMG_5053-scaled.jpeg
END:VEVENT
END:VCALENDAR