BEGIN:VCALENDAR
VERSION:2.0
PRODID:-//Cabinet Maréchaux - ECPv6.15.20//NONSGML v1.0//EN
CALSCALE:GREGORIAN
METHOD:PUBLISH
X-WR-CALNAME:Cabinet Maréchaux
X-ORIGINAL-URL:https://www.cabinetmarechaux.com
X-WR-CALDESC:Évènements pour Cabinet Maréchaux
REFRESH-INTERVAL;VALUE=DURATION:PT1H
X-Robots-Tag:noindex
X-PUBLISHED-TTL:PT1H
BEGIN:VTIMEZONE
TZID:Europe/Paris
BEGIN:DAYLIGHT
TZOFFSETFROM:+0100
TZOFFSETTO:+0200
TZNAME:CEST
DTSTART:20230326T010000
END:DAYLIGHT
BEGIN:STANDARD
TZOFFSETFROM:+0200
TZOFFSETTO:+0100
TZNAME:CET
DTSTART:20231029T010000
END:STANDARD
BEGIN:DAYLIGHT
TZOFFSETFROM:+0100
TZOFFSETTO:+0200
TZNAME:CEST
DTSTART:20240331T010000
END:DAYLIGHT
BEGIN:STANDARD
TZOFFSETFROM:+0200
TZOFFSETTO:+0100
TZNAME:CET
DTSTART:20241027T010000
END:STANDARD
BEGIN:DAYLIGHT
TZOFFSETFROM:+0100
TZOFFSETTO:+0200
TZNAME:CEST
DTSTART:20250330T010000
END:DAYLIGHT
BEGIN:STANDARD
TZOFFSETFROM:+0200
TZOFFSETTO:+0100
TZNAME:CET
DTSTART:20251026T010000
END:STANDARD
END:VTIMEZONE
BEGIN:VEVENT
DTSTART;VALUE=DATE:20240119
DTEND;VALUE=DATE:20240121
DTSTAMP:20260425T132952
CREATED:20231110T093533Z
LAST-MODIFIED:20231110T093533Z
UID:3476-1705622400-1705795199@www.cabinetmarechaux.com
SUMMARY:Clermont-Ferrand - Vassy - Jalenques - Courtadon - Journées d'expertise
DESCRIPTION:Les 19 et 20 janvier prochain\, la maison de ventes du groupe Ivoire organise des journées d’expertise gratuites \nLien vers l’étude
URL:https://www.cabinetmarechaux.com/index.php/event/clermont-ferrand-vassy-jalenques-courtadon-journees-dexpertise/
END:VEVENT
BEGIN:VEVENT
DTSTART;VALUE=DATE:20240120
DTEND;VALUE=DATE:20240121
DTSTAMP:20260425T132952
CREATED:20240109T091241Z
LAST-MODIFIED:20240109T091241Z
UID:3553-1705708800-1705795199@www.cabinetmarechaux.com
SUMMARY:BORDEAUX - Briscadieu
DESCRIPTION:PEINTURES BORDELAISES ET DU SUD OUEST #8\nSamedi 20 Janvier 2024 14:00\nBordeaux \, 12-14\, rue Peyronnet 33800 Bordeaux \nVoir le catalogue de la vente \nRamiro ARRUE (1892-1971) Place du village ou la sortie du dimanche Gouache\, signée en bas\, à droite. 49 x 64\,5 cm. Maquette de décor pour le Ballet basque « Shorlekua » de Pierre d’Arcangues sur une musique d’Ermend Bonnal.  Provenance : Collection Marquis Pierre d’Arcangues.  Expositions :  – Ramiro Arrue terre d’avant-garde\, terre ancestrale\, Musée National du Château de Pau\, 26 octobre 1996 -15 février 1997. Décrit et reproduit sous le n°108\, p.125 du catalogue. – Ramiro Arrue (1892-1971) Entre avant-garde et tradition\, Biarritz\, Le Bellevue\, 8 juillet – 17 septembre 2017. Décrit et reproduit p. 242-243 du catalogue.
URL:https://www.cabinetmarechaux.com/index.php/event/bordeaux-briscadieu-8/
LOCATION:BRISCADIEU BORDEAUX\, 12-14 rue Peyronnet\, Bordeaux\, 33800\, France
CATEGORIES:Ventes à venir
ATTACH;FMTTYPE=image/png:https://www.cabinetmarechaux.com/wp-content/uploads/2024/01/Capture-decran-2024-01-09-a-10.10.42.png
END:VEVENT
BEGIN:VEVENT
DTSTART;VALUE=DATE:20240125
DTEND;VALUE=DATE:20240126
DTSTAMP:20260425T132952
CREATED:20240109T090602Z
LAST-MODIFIED:20240202T105655Z
UID:3550-1706140800-1706227199@www.cabinetmarechaux.com
SUMMARY:Niort - Maître Gaël Biart
DESCRIPTION:Jeudi 25 janvier 2024 à 14h à Niort \nBernard BUFFET (1928-1999)\nLa marée basse\, 1992\nTechnique mixte sur papier\, signée en haut à gauche et datée en haut à droite.\n50 x 65 cm \nGino SEVERINI (1883-1966)\nLes pierres\, Paris\, 1908\nPastel sur papier\, signé\, situé et daté « Paris MCMVIII » en bas à droite.\n25\,5 x 32\,5 cm\nProvenance : Collection particulière\, Genouillé\nExposition : Civray\, 1983\, n°2\nBibliographie :\n– Piero Pacini\, Percorso prefuturista di Gino Severini. IV\,  in « Critica d’Arte »\, XIL\, mars-avril 1975\, p.58\, pl.31\n– Gérard Dauxerre\, Severini\, Les Amis du Pays Civraisien\, Civray\, 1986\, p.47\n– Daniela Fonti\, Gino Severini Catalogo ragionato\, Arnoldo Mondadori Editore\, Milan\, 1988. Décrit et reproduit sous le n°51\, p.88
URL:https://www.cabinetmarechaux.com/index.php/event/niort-maitre-gael-biart/
LOCATION:HOTEL DES VENTES DE NIORT\, 52 rue de la gare\, NIORT\, 79000
CATEGORIES:Ventes à venir
ATTACH;FMTTYPE=image/jpeg:https://www.cabinetmarechaux.com/wp-content/uploads/2024/01/fullsizeoutput_5d2b.jpeg
END:VEVENT
END:VCALENDAR