BEGIN:VCALENDAR
VERSION:2.0
PRODID:-//Cabinet Maréchaux - ECPv6.15.20//NONSGML v1.0//EN
CALSCALE:GREGORIAN
METHOD:PUBLISH
X-WR-CALNAME:Cabinet Maréchaux
X-ORIGINAL-URL:https://www.cabinetmarechaux.com
X-WR-CALDESC:Évènements pour Cabinet Maréchaux
REFRESH-INTERVAL;VALUE=DURATION:PT1H
X-Robots-Tag:noindex
X-PUBLISHED-TTL:PT1H
BEGIN:VTIMEZONE
TZID:Europe/Paris
BEGIN:DAYLIGHT
TZOFFSETFROM:+0100
TZOFFSETTO:+0200
TZNAME:CEST
DTSTART:20230326T010000
END:DAYLIGHT
BEGIN:STANDARD
TZOFFSETFROM:+0200
TZOFFSETTO:+0100
TZNAME:CET
DTSTART:20231029T010000
END:STANDARD
BEGIN:DAYLIGHT
TZOFFSETFROM:+0100
TZOFFSETTO:+0200
TZNAME:CEST
DTSTART:20240331T010000
END:DAYLIGHT
BEGIN:STANDARD
TZOFFSETFROM:+0200
TZOFFSETTO:+0100
TZNAME:CET
DTSTART:20241027T010000
END:STANDARD
BEGIN:DAYLIGHT
TZOFFSETFROM:+0100
TZOFFSETTO:+0200
TZNAME:CEST
DTSTART:20250330T010000
END:DAYLIGHT
BEGIN:STANDARD
TZOFFSETFROM:+0200
TZOFFSETTO:+0100
TZNAME:CET
DTSTART:20251026T010000
END:STANDARD
END:VTIMEZONE
BEGIN:VEVENT
DTSTART;VALUE=DATE:20240302
DTEND;VALUE=DATE:20240303
DTSTAMP:20260422T135030
CREATED:20240202T105420Z
LAST-MODIFIED:20240202T105818Z
UID:3582-1709337600-1709423999@www.cabinetmarechaux.com
SUMMARY:TOURS - Hôtel des Ventes Giraudeau
DESCRIPTION:Alexandre CALDER 1898-1976\nSans titre\nGouache\, signée des initiales en bas à droite et datée 75\n100\,5 x 37 cm \nRépertorié dans les archives de la Fondation Calder sous le n°A 29863. \nSaché\nGouache\, signée des initiales en bas à droite\, et datée 73 et située Saché\n77\,5 x 28 cm \nRépertorié dans les archives de la Fondation Calder sous le n°A 15415. \n \nLe dentiste 1975\nGouache\, signée et datée 75 en bas à droite\n75 x 110 cm \nExposition : Alexandre Calder en Touraine\, 17 juin-19 octobre 2008\, Silvana editoriale S.P.A\,  2008\, décrit et reproduit p.197 du catalogue
URL:https://www.cabinetmarechaux.com/index.php/event/tours-hotel-des-ventes-giraudeau-4/
LOCATION:Hôtel des Ventes Giraudeau – Tours\, 246 rue Giraudeau\, Tours\, 37000
CATEGORIES:Ventes à venir
ATTACH;FMTTYPE=image/jpeg:https://www.cabinetmarechaux.com/wp-content/uploads/2024/02/IMG_1618-scaled.jpg
END:VEVENT
BEGIN:VEVENT
DTSTART;TZID=Europe/Paris:20240307T140000
DTEND;TZID=Europe/Paris:20240307T170000
DTSTAMP:20260422T135030
CREATED:20240304T105645Z
LAST-MODIFIED:20240304T105645Z
UID:3597-1709820000-1709830800@www.cabinetmarechaux.com
SUMMARY:DELON HOEBANX 7 mars 2024
DESCRIPTION:
URL:https://www.cabinetmarechaux.com/index.php/event/delon-hoebanx-7-mars-2024/
LOCATION:Hotel DROUOT\,  PARIS\, salle 14
CATEGORIES:Ventes à venir
ATTACH;FMTTYPE=image/tiff:https://www.cabinetmarechaux.com/wp-content/uploads/2024/03/Cauvy.tiff
ORGANIZER;CN="DELON HOEBANX":MAILTO:info@delon-hoebanx.com
END:VEVENT
BEGIN:VEVENT
DTSTART;VALUE=DATE:20240308
DTEND;VALUE=DATE:20240311
DTSTAMP:20260422T135030
CREATED:20240305T112856Z
LAST-MODIFIED:20240321T105500Z
UID:3603-1709856000-1710115199@www.cabinetmarechaux.com
SUMMARY:JORON-DEREM - Hôtel Drouot Salle 6
DESCRIPTION:Léon TUTUNDJIAN 1905-1968\nSans Titre\nGouache et encre de Chine\, signée en bas à droite\, porte au verso un numéro 171\n38\,5 x 30 cm \nCette gouache correspond aux oeuvres réalisées entre 1926 et 1929. \nCette gouache (LTG 072) sera incluse dans le catalogue raisonné de l’oeuvre de Tutundjian en préparation par le comité Tutundjian et une attestation d’inclusion au catalogue raisonné en date du 20 février 2024 sera remise à l’acquéreur \n \nLéon TUTUNDJIAN 1905-1968\nSans Titre\nGouache et encre de Chine\, signée en bas à droite\, porte un numéro 173 au verso\n54 x 46\,5 cm\n(Petits éclats visibles\, déchirures restaurées à droite vers le bas\, en haut à gauche et sur le côté à gauche. Mouillure) \nCette gouache correspond aux oeuvres réalisées entre 1926 et 1929. \nCette gouache (LTG 073) sera incluse dans le catalogue raisonné de l’oeuvre de Tutundjian en préparation par le comité Tutundjian et une attestation d’inclusion au catalogue raisonné en date du 20 février 2024 sera remise à l’acquéreur avec référence LTG 072.
URL:https://www.cabinetmarechaux.com/index.php/event/joron-derem-hotel-drouot-salle-6/
CATEGORIES:Ventes à venir
ATTACH;FMTTYPE=image/jpeg:https://www.cabinetmarechaux.com/wp-content/uploads/2024/03/image003.jpg
END:VEVENT
BEGIN:VEVENT
DTSTART;VALUE=DATE:20240309
DTEND;VALUE=DATE:20240310
DTSTAMP:20260422T135030
CREATED:20240226T102624Z
LAST-MODIFIED:20240226T104441Z
UID:3589-1709942400-1710028799@www.cabinetmarechaux.com
SUMMARY:BRISCADIEU BORDEAUX
DESCRIPTION:UNE COLLECTION BORDELAISE – TABLEAUX\, MOBILIER ET OBJETS D’ART DU XVIIIÈME AU XXÈME SIÈCLE\nSamedi 09 Mars 2024 14:00\nBordeaux \, 12-14\, rue Peyronnet 33800 Bordeaux \nhttps://www.briscadieu-bordeaux.com/catalogue/148613-une-collection-bordelaise-tableaux-mobilier-et-objets-dart-du-xviiieme-au-xxeme-siecle \nRaymond MIRANDE (1932-1997) Prairie aux papillons\, 1991 Papillon rose et bleu\, Le Bouton noir\, La Libellule\, Les Fleurs\, Fleur-corolle bleue; Coffret composé de cinq émaux sur cuivre\, technique du champlevé\, signature et date « 91 » gravées sur le couvercle\, celui-ci est ajouré. Couvercle : 19\,5 x 19\,5\, quatre plaques : 9 x 19\,5 cm. Coffret : 20\,5 x 20\,5 x 13 cm.   Bibliographie : Véronique Menault-Mirande\, « Raymond Mirande\, les émaux Catalogue raisonné »\, Paris Somogy éditions d’art\, 2006. Décrit et reproduit sous le n°754.
URL:https://www.cabinetmarechaux.com/index.php/event/briscadieu-bordeaux-9/
CATEGORIES:Ventes à venir
ATTACH;FMTTYPE=image/jpeg:https://www.cabinetmarechaux.com/wp-content/uploads/2024/02/9.jpeg
END:VEVENT
BEGIN:VEVENT
DTSTART;VALUE=DATE:20240309
DTEND;VALUE=DATE:20240310
DTSTAMP:20260422T135030
CREATED:20240226T104401Z
LAST-MODIFIED:20240226T104401Z
UID:3592-1709942400-1710028799@www.cabinetmarechaux.com
SUMMARY:POITIERS - Boissinot et Taillez
DESCRIPTION:ARTS du XXème : MOBILIERS\, TABLEAUX & OBJETS D’ART \nLien vers le catalogue \nNature morte aux journaux\, 1921\nGouache et crayon noir sur papier contrecollé sur carton\, signé et daté « 21 » en bas à droite\n45 x 35 cm (35 x 27 cm)\nCette oeuvre figurera au supplément du catalogue raisonné de l’artiste. Nous remercions Monsieur Gérard Denizeau de nous avoir aimablement confirmé son authenticité.
URL:https://www.cabinetmarechaux.com/index.php/event/poitiers-boissinot-et-taillez/
ATTACH;FMTTYPE=image/jpeg:https://www.cabinetmarechaux.com/wp-content/uploads/2024/02/fullsizeoutput_5f1c.jpeg
END:VEVENT
BEGIN:VEVENT
DTSTART;TZID=Europe/Paris:20240312T080000
DTEND;TZID=Europe/Paris:20240312T170000
DTSTAMP:20260422T135030
CREATED:20240312T163953Z
LAST-MODIFIED:20240312T164330Z
UID:3614-1710230400-1710262800@www.cabinetmarechaux.com
SUMMARY:Giquello - Paris
DESCRIPTION:DESIGN – ART CONTEMPORAIN\nMardi 26 Mars 2024 13:30\nSalle 1-7 – Hôtel Drouot \, 9\, rue Drouot 75009 ParisVoir le catalogue de la vente \nOlivier DEBRÉ (1920-1999)\nSans titre\, 1990\nHuile sur toile marouflée sur panneau\, signée des initiales et datée 90 au dos\n16 × 10 cm \nJacques VILLON (1875-1963)\nPortrait de Mlle Claude-Lise Goerg\, 1947 Huile sur toile\, signée en bas à gauche 81 × 60 cm Le modèle\, Claude-Lise\, fille unique du peintre Edouard Goerg\, est âgée de 22 ans lorsqu’elle pose pour Jacques Villon. Goerg et Villon sont tous deux membres de la Société des Peintres- Graveurs Français. \n \nGeneviève ASSE (1923-2021)\nSans titre\, circa 1985 Huile sur toile\, signée au verso 199 × 89\,5 cm  Provenance: Collection particulière Bruxelles. Sera reproduit dans le catalogue r aisonné de l’oeuvre de Geneviève Asse en préparation par Monsieur Antoine Laurentin
URL:https://www.cabinetmarechaux.com/index.php/event/giquello-paris-6/
CATEGORIES:Ventes à venir
ATTACH;FMTTYPE=image/png:https://www.cabinetmarechaux.com/wp-content/uploads/2024/03/Capture-decran-2024-03-12-a-17.38.58.png
END:VEVENT
BEGIN:VEVENT
DTSTART;VALUE=DATE:20240314
DTEND;VALUE=DATE:20240315
DTSTAMP:20260422T135030
CREATED:20240126T101534Z
LAST-MODIFIED:20240129T112102Z
UID:3568-1710374400-1710460799@www.cabinetmarechaux.com
SUMMARY:TOULOUSE -  FOURNIE et CORTES
DESCRIPTION:VENTE DE PRESTIGE\nJeudi 14 Mars 2024 14:00\nHôtel des Ventes Vitry \, 4\, rue Urbain-Vitry 31000 Toulouse \nFrancis PICABIA 1879-1953\nHarmas\, circa 1928\nTechnique mixte\, aquarelle\, gouache\, crayon noir et lavis sur carton\, signé en bas vers la droite\n106 x 75\,5 cm \nUn certificat de Pierre Calté\, pour le comité Picabia\n en date du 18 mars 2015\, sera remis à l’acquéreur. \nProvenance :\n– acquis auprès de la galerie Théophile Briant au début des années 1930\, puis par descendance. \nExpositions :\n–  Francis Picabia\, Galerie Th. BRIANT\, Paris\,  26 octobre au 15 novembre 1928\, n° 37\n– exposition Francis PICABIA trente ans de peinture\, chez Léonce Rosenberg\, Paris\, 9 – 31 décembre 1930\, n° 28. \nBibliographie :\n– G.  de P(awlowski)\, Une exposition Francis Picabia ( 32 rue de Berri)\, Le Journal 27 octobre 1928\, p. 5\n– W. A. Camfield\, B. Calté\, C. Clements\, A. Pierre\, Francis Picabia\, Catalogue Raisonné\, volume III\, 1927-1939\, Fonds Mercator\, 2019\, n° 1052\, p. 188
URL:https://www.cabinetmarechaux.com/index.php/event/toulouse-fournie-et-cortes/
ATTACH;FMTTYPE=image/jpeg:https://www.cabinetmarechaux.com/wp-content/uploads/2024/01/IMG_0625-scaled.jpeg
END:VEVENT
BEGIN:VEVENT
DTSTART;VALUE=DATE:20240318
DTEND;VALUE=DATE:20240319
DTSTAMP:20260422T135030
CREATED:20240312T163422Z
LAST-MODIFIED:20240312T163518Z
UID:3609-1710720000-1710806399@www.cabinetmarechaux.com
SUMMARY:Aponem - Génicourt
DESCRIPTION:UN REGARD SUR LE PASSE\nLundi 18 Mars 2024 14:00\nHôtel des ventes de Cergy-Pontoise \, 41\, rue des Fossettes 95650 Génicourt \nVoir le catalogue de la vente \nJosef Carl Berthold PÜTTNER (1821-1881)\nBarques au soleil couchant\, 1879\nHuile sur toile\nSignée et datée « 1879 » en bas à droite\n79 x 118 cm\nÉclats et manques en bas à droite
URL:https://www.cabinetmarechaux.com/index.php/event/aponem-genicourt/
CATEGORIES:Ventes à venir
ATTACH;FMTTYPE=image/png:https://www.cabinetmarechaux.com/wp-content/uploads/2024/03/Capture-decran-2024-03-12-a-17.31.57.png
END:VEVENT
BEGIN:VEVENT
DTSTART;TZID=Europe/Paris:20240321T080000
DTEND;TZID=Europe/Paris:20240321T170000
DTSTAMP:20260422T135030
CREATED:20240321T105412Z
LAST-MODIFIED:20240321T111757Z
UID:3623-1711008000-1711040400@www.cabinetmarechaux.com
SUMMARY:Audap et Associés - Paris
DESCRIPTION:TABLEAUX ANCIENS\, MOBILIER ET OBJETS D’ART\njeudi 28 mars 2024 13:30\nSalle 14 – Hôtel Drouot \, 9\, rue Drouot 75009 Paris \nVoir le catalogue \nHenri FANTIN- LATOUR\n1836-1904\nFemme de dos\nTechnique mixte sur toile\, signée en haut à droite\n27 x 22 cm\n(rentoilé) \nProvenance : Ancienne collection J. Tempelaere \nBibliographie : Madame Fantin-Latour\, Catalogue de l’oeuvre complet de Fantin-Latour\,  Henry Floury Editeur\, Paris\, 1911\, n° 2253 ( décrit   : presque un dessin) \nExposition : Exposition de l’oeuvre de Fantin-Latour au palais de l’Ecole nationale des Beaux-Arts\, Paris\, Mai Juin 1906\, n° 227
URL:https://www.cabinetmarechaux.com/index.php/event/audap-et-associes-paris-5/
CATEGORIES:Ventes à venir
ATTACH;FMTTYPE=image/jpeg:https://www.cabinetmarechaux.com/wp-content/uploads/2024/03/IMG_5280-2.jpeg
END:VEVENT
END:VCALENDAR