BEGIN:VCALENDAR
VERSION:2.0
PRODID:-//Cabinet Maréchaux - ECPv6.15.20//NONSGML v1.0//EN
CALSCALE:GREGORIAN
METHOD:PUBLISH
X-WR-CALNAME:Cabinet Maréchaux
X-ORIGINAL-URL:https://www.cabinetmarechaux.com
X-WR-CALDESC:Évènements pour Cabinet Maréchaux
REFRESH-INTERVAL;VALUE=DURATION:PT1H
X-Robots-Tag:noindex
X-PUBLISHED-TTL:PT1H
BEGIN:VTIMEZONE
TZID:Europe/Paris
BEGIN:DAYLIGHT
TZOFFSETFROM:+0100
TZOFFSETTO:+0200
TZNAME:CEST
DTSTART:20230326T010000
END:DAYLIGHT
BEGIN:STANDARD
TZOFFSETFROM:+0200
TZOFFSETTO:+0100
TZNAME:CET
DTSTART:20231029T010000
END:STANDARD
BEGIN:DAYLIGHT
TZOFFSETFROM:+0100
TZOFFSETTO:+0200
TZNAME:CEST
DTSTART:20240331T010000
END:DAYLIGHT
BEGIN:STANDARD
TZOFFSETFROM:+0200
TZOFFSETTO:+0100
TZNAME:CET
DTSTART:20241027T010000
END:STANDARD
BEGIN:DAYLIGHT
TZOFFSETFROM:+0100
TZOFFSETTO:+0200
TZNAME:CEST
DTSTART:20250330T010000
END:DAYLIGHT
BEGIN:STANDARD
TZOFFSETFROM:+0200
TZOFFSETTO:+0100
TZNAME:CET
DTSTART:20251026T010000
END:STANDARD
END:VTIMEZONE
BEGIN:VEVENT
DTSTART;VALUE=DATE:20240407
DTEND;VALUE=DATE:20240408
DTSTAMP:20260422T122420
CREATED:20240326T110247Z
LAST-MODIFIED:20240326T110247Z
UID:3631-1712448000-1712534399@www.cabinetmarechaux.com
SUMMARY:Osenat - Fontainebleau
DESCRIPTION:L’Esprit du XIXème siècle\nLive\, commence le 7 avril 2024 à 14h00\n 77300 Fontainebleau – France \nVoir le catalogue de la vente\nPaul HUET (1803-1869)\n Vache près d’un étang\n Aquarelle sur papier\n Cachet d’atelier en bas à gauche\n 9 x 13 cm\n Avec cadre : 17 x 21 cm  \n Répertorié dans les archives d’Elisabeth Marechaux Laurentin en vue de la publication du catalogue raisonné de l’oeuvre de Paul Huet \n Watercolor\, stamp of the artist studio lower left\, 3.5 x 5.1 in\, with frame : 6.6 x 8.2 in
URL:https://www.cabinetmarechaux.com/index.php/event/osenat-fontainebleau-7/
ATTACH;FMTTYPE=image/png:https://www.cabinetmarechaux.com/wp-content/uploads/2024/03/Capture-decran-2024-03-26-a-11.59.05.png
END:VEVENT
BEGIN:VEVENT
DTSTART;VALUE=DATE:20240407
DTEND;VALUE=DATE:20240408
DTSTAMP:20260422T122420
CREATED:20240402T100322Z
LAST-MODIFIED:20240402T100322Z
UID:3634-1712448000-1712534399@www.cabinetmarechaux.com
SUMMARY:Versailles - Martin-Banel
DESCRIPTION:BIJOUX\, ARGENTERIE\, TABLEAUX\, MOBILIER ET OBJETS D ART\nDimanche 07 Avril 2024 14:00\nMartin-Banel \, 3\, impasse des Chevau-Légers 78000 Versailles \nEdouard GOERG (1893-1969)\n« Une idylle s’ébauche sous un regard irrité »\, 1965\nHuile sur toile\, signée en bas à droite. Titrée\, datée et contresignée au verso.\n55 x 46 cm\nSera inclus dans le catalogue raisonné de l’oeuvre peint d’Edouard Goerg en préparation par Philippine Maréchaux et Francine Germak.
URL:https://www.cabinetmarechaux.com/index.php/event/versailles-martin-banel-3/
ATTACH;FMTTYPE=image/png:https://www.cabinetmarechaux.com/wp-content/uploads/2024/04/Capture-decran-2024-04-02-a-12.02.25.png
END:VEVENT
BEGIN:VEVENT
DTSTART;VALUE=DATE:20240413
DTEND;VALUE=DATE:20240414
DTSTAMP:20260422T122420
CREATED:20240321T111715Z
LAST-MODIFIED:20240321T112338Z
UID:3625-1712966400-1713052799@www.cabinetmarechaux.com
SUMMARY:Briscadieu - Bordeaux
DESCRIPTION:TABLEAUX\, MOBILIER & OBJETS D’ART DU XVIIÈME AU XIXÈME SIÈCLE\nSamedi 13 Avril 2024 14:00\nBordeaux \, 12-14\, rue Peyronnet 33800 Bordeaux \nVoir le catalogue \nGeorges MATHIEU 1921-2012\nBlanc sur noir\nTechnique mixte : gouache et collage\, signée et datée 62 vers le bas au milieu\n64\,5 x 49\,5 cm \nProvenance :\nDominion Gallery Montreal\nCollection particulière San Diego \nCette oeuvre est référencée dans le Supplément  aux “Archives par Jean-Marie Cuisinberche sur Georges Mathieu“\nUne attestation en date du 9 février 2024 de Marc Ottavi sera remise à l’acquéreur
URL:https://www.cabinetmarechaux.com/index.php/event/briscadieu-bordeaux-10/
ATTACH;FMTTYPE=image/jpeg:https://www.cabinetmarechaux.com/wp-content/uploads/2024/03/IMG_0567-scaled.jpeg
END:VEVENT
BEGIN:VEVENT
DTSTART;TZID=Europe/Paris:20240417T080000
DTEND;TZID=Europe/Paris:20240417T170000
DTSTAMP:20260422T122420
CREATED:20240417T100357Z
LAST-MODIFIED:20240417T100357Z
UID:3642-1713340800-1713373200@www.cabinetmarechaux.com
SUMMARY:Mirabaud-Mercier
DESCRIPTION:VENTE COLLECTION SPITZER ET A DIVERS – HAUTE EPOQUE – MOBILIER OBJETS D’ART \nSalle 15 – Hôtel Drouot – 9\, rue Drouot 75009 Paris\, France \nVoir le catalogue \nHARPIGNIES Henri-Joseph (1819-1916)\nLe Chemin à Saint Privé\nHuile sur panneau\, signée et datée 85 en bas à gauche et située en bas à droite\n24 x 34 cm
URL:https://www.cabinetmarechaux.com/index.php/event/mirabaud-mercier-7/
CATEGORIES:Ventes à venir
ATTACH;FMTTYPE=image/png:https://www.cabinetmarechaux.com/wp-content/uploads/2024/04/Capture-decran-2024-04-17-a-12.02.01.png
END:VEVENT
BEGIN:VEVENT
DTSTART;VALUE=DATE:20240427
DTEND;VALUE=DATE:20240428
DTSTAMP:20260422T122420
CREATED:20240405T095644Z
LAST-MODIFIED:20240405T101032Z
UID:3637-1714176000-1714262399@www.cabinetmarechaux.com
SUMMARY:Auch - Gers Gascogne Enchères
DESCRIPTION:Belle vente mobilière\n27 avril 2024 à 14h \nLéon SPILLAERT 1881-1946\nLa crypte de la chapelle du Saint-Sang à Bruges\,1927\nAquarelle\, signée en bas\, à droite et datée 1927 en bas\, à gauche\n28\,4 x 39\,9 cm\nCette oeuvre sera reprise dans le catalogue raisonné de l’oeuvre de Léon Spillaert en préparation par le Docteur Anne Adriaens-Panier. (Un document du 26 octobre 2021 sera remis à l’acquéreur) \nCatalogue de la vente
URL:https://www.cabinetmarechaux.com/index.php/event/auch-gers-gascogne-encheres-3/
LOCATION:Auch\, 129\, rue Victor Hugo\, Auch\, France
CATEGORIES:Ventes à venir
ATTACH;FMTTYPE=image/jpeg:https://www.cabinetmarechaux.com/wp-content/uploads/2024/04/IMG_2311-scaled.jpg
END:VEVENT
END:VCALENDAR