BEGIN:VCALENDAR
VERSION:2.0
PRODID:-//Cabinet Maréchaux - ECPv6.15.20//NONSGML v1.0//EN
CALSCALE:GREGORIAN
METHOD:PUBLISH
X-ORIGINAL-URL:https://www.cabinetmarechaux.com
X-WR-CALDESC:Évènements pour Cabinet Maréchaux
REFRESH-INTERVAL;VALUE=DURATION:PT1H
X-Robots-Tag:noindex
X-PUBLISHED-TTL:PT1H
BEGIN:VTIMEZONE
TZID:Europe/Paris
BEGIN:DAYLIGHT
TZOFFSETFROM:+0100
TZOFFSETTO:+0200
TZNAME:CEST
DTSTART:20230326T010000
END:DAYLIGHT
BEGIN:STANDARD
TZOFFSETFROM:+0200
TZOFFSETTO:+0100
TZNAME:CET
DTSTART:20231029T010000
END:STANDARD
BEGIN:DAYLIGHT
TZOFFSETFROM:+0100
TZOFFSETTO:+0200
TZNAME:CEST
DTSTART:20240331T010000
END:DAYLIGHT
BEGIN:STANDARD
TZOFFSETFROM:+0200
TZOFFSETTO:+0100
TZNAME:CET
DTSTART:20241027T010000
END:STANDARD
BEGIN:DAYLIGHT
TZOFFSETFROM:+0100
TZOFFSETTO:+0200
TZNAME:CEST
DTSTART:20250330T010000
END:DAYLIGHT
BEGIN:STANDARD
TZOFFSETFROM:+0200
TZOFFSETTO:+0100
TZNAME:CET
DTSTART:20251026T010000
END:STANDARD
END:VTIMEZONE
BEGIN:VEVENT
DTSTART;VALUE=DATE:20240605
DTEND;VALUE=DATE:20240606
DTSTAMP:20260422T090244
CREATED:20240522T155335Z
LAST-MODIFIED:20240611T075935Z
UID:3659-1717545600-1717631999@www.cabinetmarechaux.com
SUMMARY:L'Huillier
DESCRIPTION:MOBILIER ET OBJETS D’ART\nmercredi 05 juin 2024 14:00\nSalle 1 – Hôtel Drouot \, 9\, rue Drouot 75009 Paris \nLien vers le catalogue \nEmile BERNARD (1868-1941)  \nBois A ton Soûlt\, Mange à ton Veuil Estomac voult\, Qu’il n’en soit Deuil\nHuile sur toile\, datée 91 en bas à droite (doublée) 66 x 46 cm  Provenance : Ancienne Collection Eugène Boch\nUn certificat du 2 mai 2024 de Madame Béatrice Recchi Altariba (petite fille de l’artiste)\, pour les archives Emile Bernard\, sera remis à l’acquéreur.\nA rapprocher du paravent exécuté par Emile Bernard pour Anna Boch la même année.\nEugène Boch né dans une famille d’entrepreneurs en Belgique\, fondateurs de Villeroy & Boch\, il séjourne dans l’atelier du peintre français Léon Bonnat à Paris\, en 1879. Boch travaille ensuite dans l’atelier de Fernand Cormon. Il est présenté par Dodge MacKnight à Van Gogh qui réalisera son portrait\, conservé aujourd’hui au Musée d’Orsay. Il est le jeune frère d’Anna Boch\, peintre qui participa au salon des beaux-arts d’Ostende de 1907 avec Anna De Weert\, Louise Danse et Marie Antoinette Marcotte. Anna Boch avait une des plus importantes collections de peintures impressionnistes de son temps. Elle promut de jeunes artistes\, dont Vincent van Gogh\, qu’elle admirait pour son talent et qui était un ami de son frère Eugène Boch. Elle lui acheta pour 400 francs\, La Vigne rouge\, la seule oeuvre que Van Gogh arriva à vendre durant sa vie. Anna Boch meurt à Bruxelles en 1936 et est enterrée au cimetière d’Ixelles. La collection d’Anna Boch fut vendue aux enchères après sa mort\, où le collectionneur russe Sergueï Chtchoukine a notamment acquis La Vigne rouge\, peinte par Vincent van Gogh. Les oeuvres inédites à ce jour\, que nous présentons dans cette vente proviennent des descendants de la famille française qui hérita de sa collection. Pour une provenance identique voir : Maître BONDU\, Drouot-Richelieu\, 18 mars 1996 salle 2\, Succession de Mme X. Ancienne Collection d’Eugène BOCH.
URL:https://www.cabinetmarechaux.com/index.php/event/lhuillier-2/
LOCATION:DROUOT RICHELIEU\, 9 rue Drouot\, PARIS\, 75009
CATEGORIES:Ventes à venir
ATTACH;FMTTYPE=image/jpeg:https://www.cabinetmarechaux.com/wp-content/uploads/2024/05/IMG_1633-scaled.jpeg
END:VEVENT
BEGIN:VEVENT
DTSTART;VALUE=DATE:20240605
DTEND;VALUE=DATE:20240606
DTSTAMP:20260422T090244
CREATED:20240522T160348Z
LAST-MODIFIED:20240528T151851Z
UID:3661-1717545600-1717631999@www.cabinetmarechaux.com
SUMMARY:Audap et Associés - Paris
DESCRIPTION:TABLEAUX MODERNES & ARTS DU XXE SIECLE\nDrouot Richelieu\, salle 16 \nVoir le catalogue \nAlbert LEBOURG (1849-1928) Péniches à quai et pêcheur en barque\, circa 1879-1880  Huile sur toile\, signée en bas à gauche (Rentoilée\, nombreux repeints.) Haut. : 46 cm ; Larg. : 75\,5 cm   Nous remercions Monsieur François Lespinasse de nous avoir aimablement confirmé l’authenticité de cette toile et de nous avoir indiqué une datation vers 1879-1880 \nFrancis JOURDAIN (1876-1958)\n\nNature morte bleue et jaune\nHuile sur toile (Accidents et restaurations.) Haut. : 75 cm ; Larg. : 70 cm\nProvenance :  – Galerie Druet\, Paris\nExposition :  – Francis Jourdain\, Galerie Eugène Druet\, Paris\, 6 au 17 juin 1911\, n° 32
URL:https://www.cabinetmarechaux.com/index.php/event/audap-et-associes-7/
LOCATION:DROUOT RICHELIEU salle 16\, 9 rue Drouot\, PARIS
CATEGORIES:Ventes à venir
ATTACH;FMTTYPE=image/png:https://www.cabinetmarechaux.com/wp-content/uploads/2024/05/Capture-decran-2024-05-22-a-18.02.06.png
END:VEVENT
BEGIN:VEVENT
DTSTART;VALUE=DATE:20240607
DTEND;VALUE=DATE:20240608
DTSTAMP:20260422T090244
CREATED:20240606T080453Z
LAST-MODIFIED:20240606T080453Z
UID:3678-1717718400-1717804799@www.cabinetmarechaux.com
SUMMARY:Giquello - Paris
DESCRIPTION:VENTE CLASSIQUE\nVendredi 07 Juin 2024 11:15\nSalle 5 – Hôtel Drouot\, 9\, rue Drouot\, 75009\, Paris \nVoir le catalogue de la vente \nAuguste RODIN (1840–1917)\nMétamorphoses d’Ovide\nEpreuve en plâtre patiné\, signée et dédicacée « à mon ami Rollinat so(n) admirateur Rodin » H. 32\,8 cm – L. 40 cm – P. 25\,8 cm \nProvenance :\n– Maurice Rollinat (1846-1903)\, Fresselines\n– Georges Haviland (1870-1947)\, probablement acquis avant 1903\n– Don de Georges Haviland à Monsieur H. D vers 1947\, puis par descendance \nBibliographie :\n– Antoinette Le Normand-Romain\, Rodin et le bronze\, Catalogue des œuvres conservées au Musée Rodin\, Musée Rodin\, RMN\, 2007\, Tome 2\, p. 516-517 pour le bronze du Musée Rodin et d’autres exemplaires en plâtre.\nInclus dans les archives du comité Rodin en vue de la publication du Catalogue Critique de l’Œuvre Sculpté de Auguste Rodin en préparation à la galerie Brame & Lorenceau sous la direction de de Jérôme Le Blay\, sous le numéro 2024-7160B.\nUn courrier de François Lorenceau et Jérôme Le Blay pour le comité Rodin\, en date du 15 mars 2024 sera remis à l’acquéreur.\nGroupe conçu avant 1889\, cette épreuve en plâtre\, obtenue par estampage a été exécutée entre 1892 et 1899.\nCe plâtre a servi à la réalisation du bronze\, fonte au sable\, vendu lors de la dispersion de la collection Georges Haviland les 2 et 3 juin 1932 et aujourd’hui conservé dans une collection particulière.\nUn autre exemplaire en bronze (S. 1145)\, fondu pour les collections du Musée par Alexis Rudier en 1927 est conservé dans les collections du Musée Rodin à Paris.
URL:https://www.cabinetmarechaux.com/index.php/event/giquello-paris-7/
CATEGORIES:Ventes à venir
ATTACH;FMTTYPE=image/png:https://www.cabinetmarechaux.com/wp-content/uploads/2024/06/Capture-decran-2024-06-06-a-10.00.59.png
END:VEVENT
BEGIN:VEVENT
DTSTART;VALUE=DATE:20240608
DTEND;VALUE=DATE:20240609
DTSTAMP:20260422T090244
CREATED:20240606T091125Z
LAST-MODIFIED:20240606T091125Z
UID:3707-1717804800-1717891199@www.cabinetmarechaux.com
SUMMARY:Maîtres Camper & Dabernat - CORBEIL-ESSONNES
DESCRIPTION:Vente 8 juin 14 h\n1 Rue Feray\, 91100 Corbeil-Essonnes \nVoir le catalogue \nEmile Othon FRIESZ\nEnsemble de 10 dessins pour la série du Cirque Medrano\, provenant de la famille de l’artiste
URL:https://www.cabinetmarechaux.com/index.php/event/maitres-camper-dabernat-corbeil-essonnes/
CATEGORIES:Ventes à venir
END:VEVENT
BEGIN:VEVENT
DTSTART;VALUE=DATE:20240613
DTEND;VALUE=DATE:20240614
DTSTAMP:20260422T090244
CREATED:20240606T092711Z
LAST-MODIFIED:20240606T092853Z
UID:3709-1718236800-1718323199@www.cabinetmarechaux.com
SUMMARY:Maître Gael BIARD - NIORT
DESCRIPTION:Vente 13/06/2024 à 14h\, 112 rue de Souché\nGuy BARDONE\, Pierre CALES\,  Jules FLANDRIN\, Lucien  MAINSSIEUX\, François Auguste RAVIER … \nhttps://www.interencheres.com/meubles-objets-art/tableaux-orfevrerie-objets-dart-mobilier-630891″>Voir le catalogue \n \nLouis VALTAT (1869-1952)\nFemme et barque\, Arcachon\, cira 1896\nAquarelle\, porte le cachet des initiales en bas à droite.\n23\,5 x 31 cm (à vue)\nProvenance :  Galerie Baugin\, Paris\nUn avis d’inclusion aux Archives de l’Association Les Amis de Louis Valtat sera remise à l’acquéreur. \n \nJohan-Barthold JONGKIND (1819-1891)\nFerme dauphinoise\, 1881 – Carriole sur un chemin des coteaux de la Côte-Saint-André\nAquarelle gouachée sur traits de fusain\, double face\,\nsignée du cachet de la signature en bas vers le milieu et datée « 5 Nov 1881 » au recto.\n14 x 23 cm (à vue)\nCe dessin est référencé sous le n° G02252 dans la documentation de Monsieur François Auffret du Comité Jongkind\, Paris-La Haye.
URL:https://www.cabinetmarechaux.com/index.php/event/maitre-gael-biard-niort/
CATEGORIES:Ventes à venir
ATTACH;FMTTYPE=image/jpeg:https://www.cabinetmarechaux.com/wp-content/uploads/2024/06/fullsizeoutput_68ac-3.jpeg
END:VEVENT
BEGIN:VEVENT
DTSTART;VALUE=DATE:20240614
DTEND;VALUE=DATE:20240615
DTSTAMP:20260422T090244
CREATED:20240606T082512Z
LAST-MODIFIED:20240611T082326Z
UID:3684-1718323200-1718409599@www.cabinetmarechaux.com
SUMMARY:GIQUELLO - PARIS
DESCRIPTION:ARTS DU XXE SIÈCLE\nVendredi 14 Juin 2024 14:30\nSalle 10 – Hôtel Drouot \, 9\, rue Drouot 75009 Paris \nVoir le catalogue de la vente \nLot 3\nFrancis PICABIA (1879-1953)\nSans titre\, 1947\nDessin au crayon noir\, signé en bas à gauche 23 x 15 cm\nUn certificat d’authenticité de M. Pierre Calté en date du 9 mars 2015\, sera remis à l’acquéreur.\nProvenance :\n– Galerie Françoise Tournier\, Paris – Galerie Antoine Laurentin\, Paris
URL:https://www.cabinetmarechaux.com/index.php/event/giquello-paris-8/
CATEGORIES:Ventes à venir
ATTACH;FMTTYPE=image/png:https://www.cabinetmarechaux.com/wp-content/uploads/2024/06/Capture-decran-2024-06-06-a-10.22.09.png
END:VEVENT
BEGIN:VEVENT
DTSTART;VALUE=DATE:20240617
DTEND;VALUE=DATE:20240618
DTSTAMP:20260422T090244
CREATED:20240606T084019Z
LAST-MODIFIED:20240611T082858Z
UID:3688-1718582400-1718668799@www.cabinetmarechaux.com
SUMMARY:APONEM - PARIS - DROUOT
DESCRIPTION:MODERNITÉ\nLundi 17 Juin 2024 14:00\nSalle 16 – Hôtel Drouot\, 9\, rue Drouot\, 75009 Paris \nVoir le catalogue de la vente \nNicolas de STAËL (1913-1955)\nComposition à la nacre\, 1950\nHuile sur toile\nSignée en bas à gauche\n54 x 73 cm   \nProvenance :\n– Collection M. et Mme Louis Frank\, Paris\n– Vente Maître Desamais\, Avignon\, 20 juin 2004\n– Collection particulière\, Paris   \nExpositions :\n– Nicolas de Staël\, Kunsthalle\, Berne\, 13 septembre – 20 octobre 1957\, n° 31\n– de Staël\, Kunsthaus Zurich\, 28 juillet – 5 septembre1965\, suppl.\, n°154\n– Nicolas de Staël\, Musée Unterlinden\, Colmar\, 18 juin – 3 octobre 1977\, n°15 (visible sur la vidéo de présentation Alsace soir 02.09.1977\, Archives INA)   \nBibliographie :\n– Jacques Dubourg et Françoise de Stael\, Catalogue raisonné des peintures\, 1968\, n° 236\, p. 137\n– Pierre Granville\, Nicolas de Staël\, peintures\, l’Autre Musée\, Paris\, 1984\, p. 43\n– Daniel Dobbels\, Staël\, Hazan\, Paris\, 1994\, pl. 24\n– Françoise de Staël\, Catalogue Raisonné de l’oeuvre peint\, Ides et Calendes\, Neuchâtel\, 1997\, n° 260 p. 291\n– Françoise de Stael\, Catalogue raisonné des peintures\, Ides et Calendes\, Lausanne\, 2021\, n°260\, p. 243
URL:https://www.cabinetmarechaux.com/index.php/event/3688/
CATEGORIES:Ventes à venir
ATTACH;FMTTYPE=image/png:https://www.cabinetmarechaux.com/wp-content/uploads/2024/06/Capture-decran-2024-06-06-a-10.33.56.png
END:VEVENT
BEGIN:VEVENT
DTSTART;VALUE=DATE:20240620
DTEND;VALUE=DATE:20240621
DTSTAMP:20260422T090244
CREATED:20240606T084718Z
LAST-MODIFIED:20240606T085346Z
UID:3692-1718841600-1718927999@www.cabinetmarechaux.com
SUMMARY:BORDEAUX -BRISCADIEU
DESCRIPTION:jeudi 20 juin à 14h \nVoir le catalogue \n \nMaurice DENIS (1870-1943)\nAu jardin\, mère et ses trois fils : Jacques\, Jean et Pierre\, 1892\nHuile\, aquarelle et encre sur carton\, signé et daté 92 en bas à droite. 13 x 9\,5 cm.\n(Fente dans la feuille dans l’angle inférieur gauche).\nSera inclus dans le Catalogue raisonné des peintures de Maurice Denis. \n \nGeorges MATHIEU (1921-2012) Blanc sur noir\, 62 Technique mixte : gouache et collage\, signée et datée 62 vers le bas au milieu 64\,5 x 49\,5 cm Provenance : Dominion Gallery Montreal Collection particulière San Diego  Cette oeuvre est référencée dans le Supplément aux « Archives par Jean-Marie Cuisinberche sur Georges Mathieu » Une attestation en date du 9 février 2024 de Marc Ottavi sera remise à l’acquéreur
URL:https://www.cabinetmarechaux.com/index.php/event/bordeaux-briscadieu-9/
LOCATION:BRISCADIEU BORDEAUX\, 12-14 rue Peyronnet\, Bordeaux\, 33800\, France
ATTACH;FMTTYPE=image/jpeg:https://www.cabinetmarechaux.com/wp-content/uploads/2024/06/DSC9285-1.jpeg
END:VEVENT
BEGIN:VEVENT
DTSTART;VALUE=DATE:20240620
DTEND;VALUE=DATE:20240621
DTSTAMP:20260422T090244
CREATED:20240606T090520Z
LAST-MODIFIED:20240610T085209Z
UID:3702-1718841600-1718927999@www.cabinetmarechaux.com
SUMMARY:AUDAP et ASSOCIES
DESCRIPTION:Jeudi 20 juin 2024 – 13h30.\nSalle 14 – Hôtel Drouot \, 9\, rue Drouot 75009 Paris \nVoir le catalogue \n \n \nEloi-Noël BOUVARD dit Marc ALDINE (1875-1957)\nVues de Venise\nPaire d’huiles sur toile\,\nsignées en bas à droite (Restaurations.)\nHaut. : 22\,5 cm ; Larg. : 31\,5 cm \nNous remercions Monsieur Ludovic Saulnier de nous avoir confirmé que ces deux œuvres sont référencées dans le catalogue raisonné d’Eloi-Noël Bouvard dit Marc Aldine (1875-1957)
URL:https://www.cabinetmarechaux.com/index.php/event/audap-et-associes-8/
CATEGORIES:Ventes à venir
ATTACH;FMTTYPE=image/jpeg:https://www.cabinetmarechaux.com/wp-content/uploads/2024/06/IMG_3135.jpg
END:VEVENT
BEGIN:VEVENT
DTSTART;TZID=Europe/Paris:20240620T080000
DTEND;TZID=Europe/Paris:20240620T170000
DTSTAMP:20260422T090244
CREATED:20240620T075539Z
LAST-MODIFIED:20240620T081534Z
UID:3767-1718870400-1718902800@www.cabinetmarechaux.com
SUMMARY:Hôtel des ventes de Clermont-Ferrand
DESCRIPTION:MEUBLES ET OBJETS D ART – COLLECTION D ART ASIATIQUE\n20 juin 2024 à 14h30 LIVE \nVoir le catalogue de la vente \nLot 157\nROLL Marcel (1881 – 1927)\n« Dans l’herbe »\,\nHuile sur toile\, signée en bas à gauche\n130 x 90 cm\nAu dos\, une étiquette d’exposition à Bruxelles\,\nCadre en bois doré de style rocaille
URL:https://www.cabinetmarechaux.com/index.php/event/hotel-des-ventes-de-clermont-ferrand-2/
CATEGORIES:Ventes à venir
ATTACH;FMTTYPE=image/png:https://www.cabinetmarechaux.com/wp-content/uploads/2024/06/Capture-decran-2024-06-20-a-09.51.15.png
END:VEVENT
BEGIN:VEVENT
DTSTART;VALUE=DATE:20240623
DTEND;VALUE=DATE:20240624
DTSTAMP:20260422T090244
CREATED:20240611T153156Z
LAST-MODIFIED:20240611T153501Z
UID:3761-1719100800-1719187199@www.cabinetmarechaux.com
SUMMARY:BORDEAUX - LAYAN et Associés
DESCRIPTION:Dimanche 23 juin à : 14:30\nTRÉSORS 2024 \nHôtel des Ventes Tourny – 38 rue Lafaurie de Monbadon 33000 BORDEAUX\, France\nExposition des lots\nvendredi 21 juin – 10:00/12:30\nvendredi 21 juin – 14:00/18:00\nsamedi 22 juin – 10:00/12:30\nsamedi 22 juin – 14:00/18:30 \nVoir le catalogue de la vente \nAquarelles réalisées par Jean-Paul ALAUX lors de son périple de huit mois en Polynésie en 1936-1937.   \n \nJean Paul ALAUX 1875-1955\nLe phare à la pointe de Venus\, Tahiti\nCrayon\, gouache et aquarelle\, signé et situé “TAHITI“ en bas à droite\, titré en bas au milieu.\n20\,4 x 29\,1 cm \nBibliographie : Christel Haffner Lance\, Visions japonaises de Jean-Paul Alaux. Du Bassin d’Arcachon au Pacifique\, Arcachon\, La Librairie Générale\, 2018  Nous remercions Madame Christel Haffner Lance pour les informations qu’elle nous aimablement communiquées sur ces dessins.    \n \nJean Paul ALAUX 1875-1955\nFélicie Tetuanu\, petite fille de Tarahu et petite nièce de Pierre Loti\nAquarelle\, signée et datée “3 aout 1937“ en bas à droite\, annotée en haut et sur le côté droit.\n26\,5 x 19 cm\nPorte au revers une mention manuscrite du peintre :  « Tarahu – Petite nièce de Loti JP Alaux\, 12 rue Albert de Mun\, Bordeaux.  Départ de Papeete\, 17 Juillet 1937  Ce portrait a été fait par moi\, pendant une traversée de Tahiti à Marseille.  \nIl représente Félicie Tétuanui\, petite fille de Tarahu\, qui fut l’amie du frère de Pierre Loti\, médecin de marine. Le frère de Pierre Loti eut d’elle deux garçons\, et Félicie est la fille de l’aîné de ces deux garçons. Cette amie du frère de Loti s’appelait Tarahu. Loti a pris à son compte l’aventure de son frère qui venait de mourir\, et c’est de cette Tarahu qu’il a fait la Rarahu de son roman.  JP Alaux (à l’ordre du commissaire Ramel)  Félicie allait à Lesparre rejoindre un nommé Bariac\, médecin vétérinaire à Tahiti.  Félicie m’a montré des photos de son père (neveu de Loti). L’air de famille était frappant. C’était le même port de tête relevé à regard fixe\, austère et dur\, et maxillaire volontaire. Félicie se rappelait le regret de l’évincement raconté par Loti\, dans lequel il recherche vainement\, avec beaucoup d’anxiété\, les enfants de son frère. »   \nNous remercions M.Sébastien LEBOUCHER\, du service « documentation / inventaire des collections » des musées de Rochefort\, de nous avoir fait part des commentaires de M.Alain Quella-Villéger\, biographe de Pierre Loti\, lequel précise:  « Loti avait conclu qu’aucun des deux fils de Tarahu n’était de Gustave ! L’intéressant est d’apprendre que ladite Tarahu dont on aurait ainsi une identité prouvée racontait encore sa version des faits. Loti étant célèbre\, c’était sans doute rentable ! Il est vrai qu’on montra à Raymond Roussel la tombe de Rarahu qui n’a jamais existé\, alors les légendes allaient bon train… » \nBibliographie :\nChristel Haffner Lance\, Visions japonaises de Jean-Paul Alaux.\nDu Bassin d’Arcachon au Pacifique\, Arcachon\, La Librairie Générale\, 2018   \nNous remercions Madame Christel Haffner Lance pour les informations qu’elle nous aimablement communiquées sur ces dessins.
URL:https://www.cabinetmarechaux.com/index.php/event/bordeaux-layan-et-associes/
CATEGORIES:Ventes à venir
ATTACH;FMTTYPE=image/png:https://www.cabinetmarechaux.com/wp-content/uploads/2024/06/Capture-decran-2024-06-11-a-17.23.50.png
END:VEVENT
BEGIN:VEVENT
DTSTART;VALUE=DATE:20240624
DTEND;VALUE=DATE:20240625
DTSTAMP:20260422T090244
CREATED:20240606T081646Z
LAST-MODIFIED:20240611T143910Z
UID:3681-1719187200-1719273599@www.cabinetmarechaux.com
SUMMARY:MIRABAUD - MERCIER   -  PARIS
DESCRIPTION:VENTE DESSINS ET TABLEAUX DU XIXE ET XXE SIECLES – COLLECTION BARRIE-CHEVALIER –\nLUNDI 24 JUIN\nvoir le catalogue de la vente  \n \nHenri MARTIN 1860 – 1943\nPromeneurs sur les quais\, Toulouse\nHuile sur panneau\, signée en bas à droite\n46 x 32 cm
URL:https://www.cabinetmarechaux.com/index.php/event/mirabaud-mercier-paris-2/
CATEGORIES:Ventes à venir
ATTACH;FMTTYPE=image/jpeg:https://www.cabinetmarechaux.com/wp-content/uploads/2024/06/5451-634-scaled.jpg
ORGANIZER;CN="MIRABAUD MERCIER":MAILTO:contact@mirabaud-mercier.com
END:VEVENT
BEGIN:VEVENT
DTSTART;VALUE=DATE:20240626
DTEND;VALUE=DATE:20240627
DTSTAMP:20260422T090244
CREATED:20240620T082845Z
LAST-MODIFIED:20240620T082845Z
UID:3772-1719360000-1719446399@www.cabinetmarechaux.com
SUMMARY:Briscadieu Bordeaux
DESCRIPTION:MERCREDI 26 JUIN 2024 à 14H \nPEINTURES BORDELAISES & RÉGIONALES #8.1  \nProvenance :\nSuccessions et collections particulières de Bordeaux et du Sud-Ouest  \nEXPOSITIONS\nLundi 24 juin de 14h à 18h30\nMardi 25 juin de 10h à 12h et de 14h à 18h30\nMercredi 26 juin de 10h à 12h \nJean-Roger SOURGEN (1883-1978)\nDune\nHuile sur panneau d’isorel\, signée en bas à droite\n19 x 24 cm
URL:https://www.cabinetmarechaux.com/index.php/event/briscadieu-bordeaux-11/
LOCATION:BRISCADIEU BORDEAUX\, 12-14 rue Peyronnet\, Bordeaux\, 33800\, France
ATTACH;FMTTYPE=image/png:https://www.cabinetmarechaux.com/wp-content/uploads/2024/06/Capture-decran-2024-06-20-a-10.23.51.png
END:VEVENT
BEGIN:VEVENT
DTSTART;VALUE=DATE:20240627
DTEND;VALUE=DATE:20240628
DTSTAMP:20260422T090244
CREATED:20240611T102805Z
LAST-MODIFIED:20240611T103659Z
UID:3731-1719446400-1719532799@www.cabinetmarechaux.com
SUMMARY:BIARRITZ ENCHÈRES ARTS BASQUE & LANDAIS
DESCRIPTION:BIARRITZ ENCHÈRES ARTS BASQUE & LANDAIS JEUDI 27 JUIN 2024\nMAÎTRE MF CARAYOL – COMMISSAIRE-PRISEUR\nEXPOSITIONS PUBLIQUES\nMardi 25 juin\n10h00 – 12h00 | 14h00 – 18h00\nMercredi 26 juin\n10h00 – 12h00 | 14h00 – 18h00\nJeudi 27 juin 10h00 | 12h00\nVENTE AUX ENCHÈRES\nJeudi 27 juin 2024 à 14h30 \nVoir le catalogue de la vente \n \n124\nJEAN ROGER SOURGEN\n(1883-1978)\n«Etang landais»\nHuile sur toile\, signée et datée 1954 en bas à gauche 65 x 92\,5 cm (petits éclats visibles)\nProvenance:\n– Mairie d’Ondres \n48\nRAMIRO ARRUE (1892-1971)\n«Dans les vignes»\nHuile sur toile marouflée sur panneau\, signée en bas à gauche\n63 x 145 cm\n(petits points de repeints visibles et la bordure supérieure repeinte)
URL:https://www.cabinetmarechaux.com/index.php/event/biarritz-encheres-arts-basque-landais-jeudi-27-juin-2024/
CATEGORIES:Ventes à venir
ATTACH;FMTTYPE=image/png:https://www.cabinetmarechaux.com/wp-content/uploads/2024/06/Capture-decran-2024-06-11-a-12.26.32.png
END:VEVENT
END:VCALENDAR