BEGIN:VCALENDAR
VERSION:2.0
PRODID:-//Cabinet Maréchaux - ECPv6.15.20//NONSGML v1.0//EN
CALSCALE:GREGORIAN
METHOD:PUBLISH
X-ORIGINAL-URL:https://www.cabinetmarechaux.com
X-WR-CALDESC:Évènements pour Cabinet Maréchaux
REFRESH-INTERVAL;VALUE=DURATION:PT1H
X-Robots-Tag:noindex
X-PUBLISHED-TTL:PT1H
BEGIN:VTIMEZONE
TZID:Europe/Paris
BEGIN:DAYLIGHT
TZOFFSETFROM:+0100
TZOFFSETTO:+0200
TZNAME:CEST
DTSTART:20230326T010000
END:DAYLIGHT
BEGIN:STANDARD
TZOFFSETFROM:+0200
TZOFFSETTO:+0100
TZNAME:CET
DTSTART:20231029T010000
END:STANDARD
BEGIN:DAYLIGHT
TZOFFSETFROM:+0100
TZOFFSETTO:+0200
TZNAME:CEST
DTSTART:20240331T010000
END:DAYLIGHT
BEGIN:STANDARD
TZOFFSETFROM:+0200
TZOFFSETTO:+0100
TZNAME:CET
DTSTART:20241027T010000
END:STANDARD
BEGIN:DAYLIGHT
TZOFFSETFROM:+0100
TZOFFSETTO:+0200
TZNAME:CEST
DTSTART:20250330T010000
END:DAYLIGHT
BEGIN:STANDARD
TZOFFSETFROM:+0200
TZOFFSETTO:+0100
TZNAME:CET
DTSTART:20251026T010000
END:STANDARD
END:VTIMEZONE
BEGIN:VEVENT
DTSTART;TZID=Europe/Paris:20240921T140000
DTEND;TZID=Europe/Paris:20240921T170000
DTSTAMP:20260422T040523
CREATED:20240817T195739Z
LAST-MODIFIED:20240913T093909Z
UID:3804-1726927200-1726938000@www.cabinetmarechaux.com
SUMMARY:GIQUELLO   - Une Collection Française - Partie I
DESCRIPTION:UNE COLLECTION FRANÇAISE – PARTIE I\nSamedi 21 Septembre 2024 14:00\nSalle 10-16 – Hôtel Drouot \, 9\, rue Drouot 75009 Paris \nvoir le catalogue
URL:https://www.cabinetmarechaux.com/index.php/event/voir-le-catalogue/
LOCATION:Drouot Richelieu Salles 10 et 16\, 9 rue Drouot\, Paris\, 75009\, France
CATEGORIES:Ventes à venir
ATTACH;FMTTYPE=image/jpeg:https://www.cabinetmarechaux.com/wp-content/uploads/2024/08/image.jpeg
END:VEVENT
BEGIN:VEVENT
DTSTART;VALUE=DATE:20240922
DTEND;VALUE=DATE:20240923
DTSTAMP:20260422T040523
CREATED:20240917T101618Z
LAST-MODIFIED:20240917T101722Z
UID:3849-1726963200-1727049599@www.cabinetmarechaux.com
SUMMARY:MJV SOUDANT\, GERPINNES\, BELGIQUE
DESCRIPTION:ANTIQUITÉS\, TABLEAUX\, MOBILIER ET OBJETS D’ART\, ART NOUVEAU\, ART DÉCO\ndimanche 22 septembre 2024 13:00\nMJV Soudant \, 52\, rue de Bertransart 6280 Gerpinnes \nVoir le catalogue \nAlfred BOUCHER (1850-1934) \n \nTête de sculpteur florentin\nBas-relief en marbre\, signé.\nHaut.: 29 cm\, Larg. : 27 cm\, Prof. : 16 cm\nEn 1883\, lors de son séjour à Florence (1882 à 1884)\,  Alfred Boucher réalise un Sculpteur Florentin\, répertorié sous le n° A 20 dans le catalogue raisonné de l’oeuvre d’Alfred Boucher publié par Jacques Piette en 2014. Cette sculpture rappelle le Chanteur Florentin de 1865 de son maître et ami Paul Dubois.  \nLa version en marbre\, de la tête seule en bas-relief\, que nous présentons ici n’est pas répertoriée  dans le catalogue raisonné et est à rapprocher des nombreuses variations\, bas-reliefs en marbre\, qu’Alfred Boucher exécutera ou fera réaliser par ses praticiens plus tard\, notamment à partir des modèles de Diane\, Volubilis ou le Baiser. \nAlfred BOUCHER (1850-1934) \n \nTête de Volubilis.\nBas-relief en marbre\, signé.\nHaut.: 34 cm;  Larg.: 28\,5 cm; Prof.: 17\,5 cm\n (Quelques points de repère de “mise au point “ visibles) \nVolubilis\, est certainement l’une des sculptures les plus connues d’Alfred Boucher. Datée de 1896-97\, la figure de Volubilis en ronde-bosse se trouve dès 1894 sur le tombeau de Ferdinand Barbedienne au Père-Lachaise.  \nCe modèle est répertorié dans le catalogue raisonné de l’oeuvre d’Alfred Boucher publié par Jacques Piette en 2014 sous le n° A 38.\nCe dernier mentionne quatre versions de Volubilis : en pied\,  à mi-corps\, en buste et seulement la tête comme ici  sous le  numéro A 38e.\nIl existe aussi  une cinquième version datée de 1912 avec une chevelure légèrement différente\, Le rêve. \nDe chacune de ces différentes versions de Volubilis Alfred Boucher a réalisé ou fait réaliser par ses praticiens des exemplaires en marbre. Tous ne sont pas répertoriés dans le catalogue raisonné\, comme c’est le cas pour l’exemplaire présenté ici.
URL:https://www.cabinetmarechaux.com/index.php/event/3849/
CATEGORIES:Ventes à venir
ATTACH;FMTTYPE=image/png:https://www.cabinetmarechaux.com/wp-content/uploads/2024/09/Capture-decran-2024-09-17-a-12.12.49.png
END:VEVENT
BEGIN:VEVENT
DTSTART;TZID=Europe/Paris:20240923T133000
DTEND;TZID=Europe/Paris:20240923T170000
DTSTAMP:20260422T040523
CREATED:20240817T201540Z
LAST-MODIFIED:20240913T093730Z
UID:3813-1727098200-1727110800@www.cabinetmarechaux.com
SUMMARY:GIQUELLO - Une Collection Française - Partie II
DESCRIPTION:UNE COLLECTION FRANÇAISE – PARTIE II\nLundi 23 Septembre 2024 13:30\nSalle 10-16 – Hôtel Drouot \, 9\, rue Drouot 75009 Paris \nvoir le catalogue
URL:https://www.cabinetmarechaux.com/index.php/event/giquello-une-collection-francaise-partie-ii/
LOCATION:Drouot Richelieu Salles 10 et 16\, 9 rue Drouot\, Paris\, 75009\, France
CATEGORIES:Ventes à venir
ATTACH;FMTTYPE=image/jpeg:https://www.cabinetmarechaux.com/wp-content/uploads/2024/08/image.jpeg
END:VEVENT
BEGIN:VEVENT
DTSTART;VALUE=DATE:20240926
DTEND;VALUE=DATE:20240928
DTSTAMP:20260422T040523
CREATED:20240817T203209Z
LAST-MODIFIED:20240913T093529Z
UID:3828-1727308800-1727481599@www.cabinetmarechaux.com
SUMMARY:GIQUELLO : Collection Paul et Jacqueline Duchein\, arts décoratifs
DESCRIPTION:COLLECTION PAUL ET JACQUELINE DUCHEIN : ARTS DÉCORATIFS\nJeudi 26 Septembre 2024 18:00\nSalle 10-16 – Hôtel Drouot \, 9\, rue Drouot 75009 Paris \nCOLLECTION PAUL ET JACQUELINE DUCHEIN\, PARTIE 2 : TABLEAUX MODERNES\, OBJETS DE CURIOSITÉ\nVendredi 27 Septembre 2024 11:00\nSalle 10-16 – Hôtel Drouot \, 9\, rue Drouot 75009 Paris
URL:https://www.cabinetmarechaux.com/index.php/event/giquello-surrealisme-curiosites/
LOCATION:Drouot Richelieu Salles 10 et 16\, 9 rue Drouot\, Paris\, 75009\, France
CATEGORIES:Ventes à venir
ATTACH;FMTTYPE=image/jpeg:https://www.cabinetmarechaux.com/wp-content/uploads/2024/08/vente-1.jpeg
END:VEVENT
END:VCALENDAR