BEGIN:VCALENDAR
VERSION:2.0
PRODID:-//Cabinet Maréchaux - ECPv6.15.20//NONSGML v1.0//EN
CALSCALE:GREGORIAN
METHOD:PUBLISH
X-ORIGINAL-URL:https://www.cabinetmarechaux.com
X-WR-CALDESC:Évènements pour Cabinet Maréchaux
REFRESH-INTERVAL;VALUE=DURATION:PT1H
X-Robots-Tag:noindex
X-PUBLISHED-TTL:PT1H
BEGIN:VTIMEZONE
TZID:Europe/Paris
BEGIN:DAYLIGHT
TZOFFSETFROM:+0100
TZOFFSETTO:+0200
TZNAME:CEST
DTSTART:20240331T010000
END:DAYLIGHT
BEGIN:STANDARD
TZOFFSETFROM:+0200
TZOFFSETTO:+0100
TZNAME:CET
DTSTART:20241027T010000
END:STANDARD
BEGIN:DAYLIGHT
TZOFFSETFROM:+0100
TZOFFSETTO:+0200
TZNAME:CEST
DTSTART:20250330T010000
END:DAYLIGHT
BEGIN:STANDARD
TZOFFSETFROM:+0200
TZOFFSETTO:+0100
TZNAME:CET
DTSTART:20251026T010000
END:STANDARD
BEGIN:DAYLIGHT
TZOFFSETFROM:+0100
TZOFFSETTO:+0200
TZNAME:CEST
DTSTART:20260329T010000
END:DAYLIGHT
BEGIN:STANDARD
TZOFFSETFROM:+0200
TZOFFSETTO:+0100
TZNAME:CET
DTSTART:20261025T010000
END:STANDARD
END:VTIMEZONE
BEGIN:VEVENT
DTSTART;VALUE=DATE:20250201
DTEND;VALUE=DATE:20250202
DTSTAMP:20260421T195124
CREATED:20250120T112711Z
LAST-MODIFIED:20250120T112711Z
UID:3994-1738368000-1738454399@www.cabinetmarechaux.com
SUMMARY:CORBEIL-ESSONNES
DESCRIPTION:Voir le catalogue \nAndré HAMBOURG (1909-1999)\n« Eté 1965\, les petits chevaux sur la plage »\nHuile sur toile\, signée en bas à gauche. Titrée\, datée et contresignée des initiales au verso.\n54 x 65 cm \nNous remercions le Comité André Hambourg de nous avoir confirmé l’authenticité de cette œuvre\, qui figurera dans l’additif au Catalogue Raisonné. \n \nCharles II ROBERTSON (1844-1891)\n« The shoes of the faithful » (Les chaussures des fidèles)\nHuile sur toile\, signée du monogramme et datée « 1879 ».\n66\,5 x 151 cm (pièce au dos)
URL:https://www.cabinetmarechaux.com/index.php/event/corbeil-essonnes-11/
LOCATION:CORBEIL-ESSONNES\, 10 quai de l'Essonne\, CORBEIL-ESSONNES\, 91104\, France
CATEGORIES:Ventes à venir
ATTACH;FMTTYPE=image/jpeg:https://www.cabinetmarechaux.com/wp-content/uploads/2025/01/1224-125.jpeg
END:VEVENT
BEGIN:VEVENT
DTSTART;VALUE=DATE:20250212
DTEND;VALUE=DATE:20250213
DTSTAMP:20260421T195124
CREATED:20250129T101944Z
LAST-MODIFIED:20250129T102138Z
UID:3999-1739318400-1739404799@www.cabinetmarechaux.com
SUMMARY:Niort - Deux-Sèvres Enchères & Expertises
DESCRIPTION:Voir le catalogue \n \nEthel CARRICK FOX (1872-1952)\nFleurs dans un vase\nHuile sur toile\, signée en bas à gauche\n65 x 50 cm\n(Toile agrandie de 2 cm en haut et en bas) \nEthel CARRICK FOX (1872-1952) \nMarché aux fleurs\, Nice\nHuile sur toile\, signée en bas à gauche.\n50\,5 x 61 cm\n(toile raccourcie de 2 ou 3 cm sur la bordure gauche)
URL:https://www.cabinetmarechaux.com/index.php/event/ethel-carrick-fox-1872-1952-australian-painter/
LOCATION:HOTEL DES VENTES DE NIORT\, 52 rue de la gare\, NIORT\, 79000
CATEGORIES:Ventes à venir
ATTACH;FMTTYPE=image/jpeg:https://www.cabinetmarechaux.com/wp-content/uploads/2025/01/1737391143702.jpeg
END:VEVENT
BEGIN:VEVENT
DTSTART;VALUE=DATE:20250227
DTEND;VALUE=DATE:20250228
DTSTAMP:20260421T195124
CREATED:20250220T092710Z
LAST-MODIFIED:20250220T092825Z
UID:4006-1740614400-1740700799@www.cabinetmarechaux.com
SUMMARY:Biarritz Art déco & design
DESCRIPTION:Jeudi 27 février 2025 à 14h30\n6 allée de l’aéroposotale 64200 Biarritz \nVoir le catalogue de la vente \nLot 134\nCamille HILAIRE (1916 – 2004)\n« Au pesage »\nHuile sur toile\,\nSignée en bas à droite\nTitrée au verso\n46 x 55 cm \nLot 204\nGiancarlo CAPORICCI (né en 1946)\n« Système pictural »\nPanneau\nSitué Paris\, daté 2001\, titré et signé au verso\n81 x 58 cm
URL:https://www.cabinetmarechaux.com/index.php/event/biarritz-art-deco-design/
CATEGORIES:Ventes à venir
ATTACH;FMTTYPE=image/png:https://www.cabinetmarechaux.com/wp-content/uploads/2025/02/Capture-decran-2025-02-20-a-10.20.46.png
END:VEVENT
END:VCALENDAR